BEGIN:VCALENDAR
VERSION:2.0
PRODID:-//Livable Raleigh - ECPv6.15.20//NONSGML v1.0//EN
CALSCALE:GREGORIAN
METHOD:PUBLISH
X-WR-CALNAME:Livable Raleigh
X-ORIGINAL-URL:https://livableraleigh.com
X-WR-CALDESC:Events for Livable Raleigh
REFRESH-INTERVAL;VALUE=DURATION:PT1H
X-Robots-Tag:noindex
X-PUBLISHED-TTL:PT1H
BEGIN:VTIMEZONE
TZID:America/New_York
BEGIN:DAYLIGHT
TZOFFSETFROM:-0500
TZOFFSETTO:-0400
TZNAME:EDT
DTSTART:20240310T070000
END:DAYLIGHT
BEGIN:STANDARD
TZOFFSETFROM:-0400
TZOFFSETTO:-0500
TZNAME:EST
DTSTART:20241103T060000
END:STANDARD
BEGIN:DAYLIGHT
TZOFFSETFROM:-0500
TZOFFSETTO:-0400
TZNAME:EDT
DTSTART:20250309T070000
END:DAYLIGHT
BEGIN:STANDARD
TZOFFSETFROM:-0400
TZOFFSETTO:-0500
TZNAME:EST
DTSTART:20251102T060000
END:STANDARD
BEGIN:DAYLIGHT
TZOFFSETFROM:-0500
TZOFFSETTO:-0400
TZNAME:EDT
DTSTART:20260308T070000
END:DAYLIGHT
BEGIN:STANDARD
TZOFFSETFROM:-0400
TZOFFSETTO:-0500
TZNAME:EST
DTSTART:20261101T060000
END:STANDARD
END:VTIMEZONE
BEGIN:VEVENT
DTSTART;TZID=America/New_York:20251018T093000
DTEND;TZID=America/New_York:20251018T110000
DTSTAMP:20260422T180625
CREATED:20251003T000232Z
LAST-MODIFIED:20251003T000232Z
UID:48778-1760779800-1760785200@livableraleigh.com
SUMMARY:DDNA (District D Neighborhood Alliance) Meeting
DESCRIPTION:This is a chance to meet your neighbors and discuss what’s on your mind. There is no agenda.
URL:https://livableraleigh.com/event/ddna-district-d-neighborhood-alliance-meeting-2/
LOCATION:Thomas G. Crowder Woodland Center\, 5611 Jaguar Park Drive\, Raleigh\, NC\, 27606\, United States
CATEGORIES:Council District Meeting,Engagement Filter
END:VEVENT
BEGIN:VEVENT
DTSTART;TZID=America/New_York:20251020T173000
DTEND;TZID=America/New_York:20251020T183000
DTSTAMP:20260422T180625
CREATED:20250930T181526Z
LAST-MODIFIED:20250930T181526Z
UID:48750-1760981400-1760985000@livableraleigh.com
SUMMARY:Neighborhood Rezoning Meeting: 2806 Gresham Lake Road
DESCRIPTION:October 20\n5:30 p.m.\n2806 Gresham Lake Rd\, Raleigh\, NC 27615\n2806 Gresham Lake Rd\, Raleigh\, NC 27615\nPost-Submittal \nIH w/SHOD-2 TO IX-3-CU w/SHOD-2 \n(Additional Information)\nA\nIsabel Mattox\nHunt \n 
URL:https://livableraleigh.com/event/neighborhood-rezoning-meeting-2806-gresham-lake-road-2/
LOCATION:2806 Gresham Lake Road\, 2806 Gresham Lake Road
CATEGORIES:Engagement Filter,Neighborhood Meeting (Zoning)
END:VEVENT
BEGIN:VEVENT
DTSTART;TZID=America/New_York:20251020T183000
DTEND;TZID=America/New_York:20251020T193000
DTSTAMP:20260422T180625
CREATED:20251009T163648Z
LAST-MODIFIED:20251009T163648Z
UID:48892-1760985000-1760988600@livableraleigh.com
SUMMARY:Neighborhood Rezoning Meeting: 523 S. West St.
DESCRIPTION:October 20\n6:30 p.m.\nCarolina Pines Community Center\, 2305 Lake Wheeler Road\, Raleigh\, NC 27603\n523 S West St\nPre-Submittal \nDX-5 TO DX-6 \n(Additional Information)\nD\nSuzanne Prince\nBurns
URL:https://livableraleigh.com/event/neighborhood-rezoning-meeting-523-s-west-st/
LOCATION:Carolina Pines Community Center\, 2305 Lake Wheeler Road\, Raleigh\, NC\, 27603\, United States
CATEGORIES:Engagement Filter,Neighborhood Meeting (Zoning)
END:VEVENT
BEGIN:VEVENT
DTSTART;TZID=America/New_York:20251022T173000
DTEND;TZID=America/New_York:20251022T183000
DTSTAMP:20260422T180625
CREATED:20251009T163858Z
LAST-MODIFIED:20251009T163858Z
UID:48894-1761154200-1761157800@livableraleigh.com
SUMMARY:Neighborhood Rezoning Meeting: Lassiter Mill Road Assemblage (North Hills) (Z-34-25)
DESCRIPTION:October 22\n5:30 p.m. \nZ-34-25 \nOne North Hills Tower\, 4000 Center at North Hills St\, Raleigh\, NC 27609\nLassiter Mill Rd Assemblage (North Hills)\nPost-Submittal \nCX-12-UL w/SHOD-2 & CX-5-PL TO CX-40-CU w/SHOD-2\, CX-20-CU w/SHOD-2\, & CX-12-CU \n(Additional Information) \nA\nJamie Schwedler\nBurns
URL:https://livableraleigh.com/event/neighborhood-rezoning-meeting-lassiter-mill-road-assemblage-north-hills-z-34-25/
LOCATION:One North Hills Tower\, 4000 Center at North Hills Street\, Raleigh\, 27609
CATEGORIES:Engagement Filter,Neighborhood Meeting (Zoning)
END:VEVENT
BEGIN:VEVENT
DTSTART;TZID=America/New_York:20251022T190000
DTEND;TZID=America/New_York:20251022T203000
DTSTAMP:20260422T180625
CREATED:20251018T171907Z
LAST-MODIFIED:20251018T171907Z
UID:49047-1761159600-1761165000@livableraleigh.com
SUMMARY:West Raleigh CAC Virtual Meeting
DESCRIPTION:Meeting Wednesday October 22nd at 7pm\n\nIt’s time to meet and talk about what’s going on in West Raleigh!\nThe change in the air doesn’t just mean the annual State Fair is in full swing\, it also means that treasured places in West Raleigh will see an abundance of fall color.\nOur area continues to attract interest for infill developments and we are going to hear from two applicants for projects along Trailwood Drive.\n\nWe will discuss these and several other items of interest to our members and hope you can join us via zoom on Wednesday evening at 7pm. Zoom Link follows the agenda\n\n\n*Agenda*\nHillsborough Street Improvements\nTrailwood Rezoning Z-38-25 – Floresta\nTrailwood Rezoning (unfiled) – LDG Development\nCommunity Updates\n\n\nJoin Zoom Meeting\nhttps://us02web.zoom.us/j/83981292620\nMeeting ID: 839 8129 2620\nOne tap mobile\n+16469313860\,\,83981292620# US\n+19292056099\,\,83981292620# US (New York)\n\n—
URL:https://livableraleigh.com/event/west-raleigh-cac-virtual-meeting-5/
CATEGORIES:CAC,Engagement Filter
END:VEVENT
BEGIN:VEVENT
DTSTART;TZID=America/New_York:20251023T150000
DTEND;TZID=America/New_York:20251023T163000
DTSTAMP:20260422T180625
CREATED:20251015T153954Z
LAST-MODIFIED:20251015T153954Z
UID:48994-1761231600-1761237000@livableraleigh.com
SUMMARY:Transportation and Transit Committee Meeting
DESCRIPTION:
URL:https://livableraleigh.com/event/transportation-and-transit-committee-meeting-12/
LOCATION:Raleigh Municipal Building\, 222 W. Hargett St.\, Raleigh\, NC\, 27601\, United States
CATEGORIES:Council Committee,Engagement Filter
END:VEVENT
BEGIN:VEVENT
DTSTART;TZID=America/New_York:20251027T183000
DTEND;TZID=America/New_York:20251027T203000
DTSTAMP:20260422T180625
CREATED:20251020T195912Z
LAST-MODIFIED:20251020T195912Z
UID:49067-1761589800-1761597000@livableraleigh.com
SUMMARY:District C Conversation with Councilor Corey Branch
DESCRIPTION:District C Conversation\n\n\nOct 27\, 2025\, 6:30 PM – 8:30 PM\nRaleigh\, 1023 Halifax St\, Raleigh\, NC 27604\, USA
URL:https://livableraleigh.com/event/district-c-conversation-with-councilor-corey-branch/
LOCATION:Halifax Community Center\, 1023 Halifax Street\, Raleigh\, NC\, United States
CATEGORIES:Council District Meeting,Engagement Filter
END:VEVENT
BEGIN:VEVENT
DTSTART;TZID=America/New_York:20251028T190000
DTEND;TZID=America/New_York:20251028T210000
DTSTAMP:20260422T180625
CREATED:20251014T181818Z
LAST-MODIFIED:20251014T181818Z
UID:48951-1761678000-1761685200@livableraleigh.com
SUMMARY:Hillsborough-Wade CAC meeting (virtual)
DESCRIPTION:Hi CAC neighbors\, \nOur next Hillsborough-Wade CAC meeting is two weeks from today on Tuesday\, October 28 at 7:00 PM. The meeting will be on Zoom and the link is at the bottom of this email. Please put the meeting on your calendars. \nAGENDA\n• Phase III of Hillsborough Street improvements\, presentation by Jeff Murison of the Hillsborough Street Community Service Corporation.• Libby Stephens will talk with us about the HOST program (Housing Options for Students Today). HOST matches college students who need short-term housing with hosts who provide a safe\, private\, affirming space in their home.\n• YMCA program for Community Service for Teens\, Mikayla Escamilla will explain how this program works.\n• Report on the new developing relationship between CACs and the City of Raleigh. \nAll agenda items will have Q&A time following each presentation. \nSee you on Zoom in two weeks\, \nMike \n\nMichael Lindsay\nChair of the Hillsborough-Wade CAC\nMobile: 919-429-0177\ninform@nc.rr.com \n\nHillsborough-Wade CAC meeting on October 28 \nJoin Zoom Meeting \nhttps://us02web.zoom.us/j/86726765930?pwd=ySeXsLmgwxUNOjYRoIAMzqFZ9itczF.1 \n\nMeeting ID: 867 2676 5930 \nPasscode: 978612 \n— \nOne tap mobile \n+16465588656\,\,86726765930#\,\,\,\,*978612# US (New York) \n+16469313860\,\,86726765930#\,\,\,\,*978612# US \nJoin instructions \nhttps://us02web.zoom.us/meetings/86726765930/invitations?signature=38_id9zaKBUm7SgFmR4Ty3nDKrnaaZ6h_OuF6UYATwA \n\n\n\n\n 
URL:https://livableraleigh.com/event/hillsborough-wade-cac-meeting-virtual/
CATEGORIES:CAC,Engagement Filter
END:VEVENT
BEGIN:VEVENT
DTSTART;TZID=America/New_York:20251029T180000
DTEND;TZID=America/New_York:20251029T190000
DTSTAMP:20260422T180625
CREATED:20251021T200509Z
LAST-MODIFIED:20251022T102342Z
UID:49081-1761760800-1761764400@livableraleigh.com
SUMMARY:District A Meeting with Councilor Silver
DESCRIPTION:
URL:https://livableraleigh.com/event/district-a-meeting-with-councilor-silver-2/
LOCATION:Anne Gordon Center for Active Adults\, 1901 Spring Forest Road\, Raleigh\, North Carolina\, 27615
CATEGORIES:Council District Meeting,Engagement Filter
END:VEVENT
BEGIN:VEVENT
DTSTART;TZID=America/New_York:20251030T180000
DTEND;TZID=America/New_York:20251030T190000
DTSTAMP:20260422T180625
CREATED:20251022T134714Z
LAST-MODIFIED:20251022T134714Z
UID:49090-1761847200-1761850800@livableraleigh.com
SUMMARY:Neighborhood Rezoning Meeting: 1523 Crest road
DESCRIPTION:October 30\n6 p.m.\nMethod Community Center\, 514 Method Road\, Raleigh\, NC 27607\n1523 Crest Rd\nPre-Submittal \nRX-3-SRPOD TO RX-7-UL-CU \n(Additional Information)\nD\nTimberly Southerland\nBurns
URL:https://livableraleigh.com/event/neighborhood-rezoning-meeting-1523-crest-road-2/
LOCATION:Method Road Community Center\, 514 Method Road\, Raleigh\, NC\, United States
CATEGORIES:Engagement Filter,Neighborhood Meeting (Zoning)
END:VEVENT
BEGIN:VEVENT
DTSTART;TZID=America/New_York:20251106T183000
DTEND;TZID=America/New_York:20251106T193000
DTSTAMP:20260422T180625
CREATED:20251022T134816Z
LAST-MODIFIED:20251022T134816Z
UID:49092-1762453800-1762457400@livableraleigh.com
SUMMARY:Neighborhood Rezoning Meeting: New Bern Ave. Assemblage
DESCRIPTION:November 6\n6:30 p.m.\nTarboro Park Community Center\, 121 N Tarboro St\, Raleigh\, NC 27601\nNew Bern Ave Assemblage\nPre-Submittal \nVarious to Various \n(Additional Information)\nC\nCity of Raleigh\nKlem
URL:https://livableraleigh.com/event/neighborhood-rezoning-meeting-new-bern-ave-assemblage/
LOCATION:Tarboro Road Community Center
CATEGORIES:Engagement Filter,Neighborhood Meeting (Zoning)
END:VEVENT
BEGIN:VEVENT
DTSTART;TZID=America/New_York:20251106T190000
DTEND;TZID=America/New_York:20251106T210000
DTSTAMP:20260422T180625
CREATED:20251104T194449Z
LAST-MODIFIED:20251104T194449Z
UID:49247-1762455600-1762462800@livableraleigh.com
SUMMARY:Community Conversation on Zoning with Mayor Pro Tim Forte
DESCRIPTION:
URL:https://livableraleigh.com/event/community-conversation-on-zoning-with-mayor-pro-tim-forte/
CATEGORIES:Council District Meeting,Engagement Filter
END:VEVENT
BEGIN:VEVENT
DTSTART;TZID=America/New_York:20251110T173000
DTEND;TZID=America/New_York:20251110T183000
DTSTAMP:20260422T180625
CREATED:20251028T144605Z
LAST-MODIFIED:20251028T144605Z
UID:49117-1762795800-1762799400@livableraleigh.com
SUMMARY:Neighborhood Rezoning: 1901 Old Milburnie Road
DESCRIPTION:November 10\n5:30 p.m.\nGarden Room at Hampton Inn Raleigh-Capital Blvd North\, 3621 Spring Forest Rd\, Raleigh\, NC 27616\n1901 Old Milburnie Rd\nPre-Submittal \nAP TO R-6 \n(Additional Information)\nB\nDaniel C. Gunter\nHunt
URL:https://livableraleigh.com/event/neighborhood-rezoning-1901-old-milburnie-road/
LOCATION:Hampton Inn Raleigh\, 3621 Spring Forest Road
CATEGORIES:Engagement Filter,Neighborhood Meeting (Zoning)
END:VEVENT
BEGIN:VEVENT
DTSTART;TZID=America/New_York:20251110T190000
DTEND;TZID=America/New_York:20251110T200000
DTSTAMP:20260422T180625
CREATED:20251102T171422Z
LAST-MODIFIED:20251102T171422Z
UID:49240-1762801200-1762804800@livableraleigh.com
SUMMARY:Five Points CAC Hybrid Meeting
DESCRIPTION:Please join us for the November Five Points CAC Zoom meeting on Monday evening\, November 10th\, 7-8pm. \n \nIt will be a hybrid meeting at the Kiwanis Park Neighborhood Center and on Zoom (virtual).\n \nZoom link:\n \nhttps://us06web.zoom.us/j/84111555416 \n \nKiwanis Park Neighborhood Center:\n \nhttps://raleighnc.gov/parks-and-recreation/places/kiwanis-park \n\n \nWe will have some very interesting presentations!\n \nCaptain J.R. Manson will give us a police report for the Five Points area.\n \nThen Representatives from CS Hollis & Associates will talk with us about the possibility of digital signage in Raleigh.\n \nPatrick Young\, the Director of Planning and Development for the City of Raleigh\, will have a conversation with us about managing the costs of growth in Raleigh. \n \nAnd Council Member Jones will wrap up the meeting with updates from the City Council and Q&A.\n \nHope you will be able to attend either at the Kiwanis Park Center or on Zoom!\n \nEdie
URL:https://livableraleigh.com/event/five-points-cac-hybrid-meeting/
LOCATION:Kiwanis Park\, 2525 Noble Road\, 27608
CATEGORIES:CAC,Engagement Filter
END:VEVENT
BEGIN:VEVENT
DTSTART;TZID=America/New_York:20251113T180000
DTEND;TZID=America/New_York:20251113T190000
DTSTAMP:20260422T180625
CREATED:20251030T165336Z
LAST-MODIFIED:20251030T165336Z
UID:49131-1763056800-1763060400@livableraleigh.com
SUMMARY:Neighborhood Rezoning Meeting: 2321 & 2233 Capital Blvd
DESCRIPTION:November 13\n6 p.m.\nKiwanis Neighborhood Center\, XL Room\, 2525 Noble Road\, Raleigh\, NC 27608\n2321 & 2233 Capital Blvd\nPre-Submittal \nIX-3-PL TO CX-20 \n(Additional Information)\nC\nJason Barron\nMarziano II
URL:https://livableraleigh.com/event/neighborhood-rezoning-meeting-2321-2233-capital-blvd/
LOCATION:Kiwanis Park\, 2525 Noble Road\, 27608
CATEGORIES:Engagement Filter,Neighborhood Meeting (Zoning)
END:VEVENT
BEGIN:VEVENT
DTSTART;TZID=America/New_York:20251113T180000
DTEND;TZID=America/New_York:20251113T200000
DTSTAMP:20260422T180625
CREATED:20251021T200610Z
LAST-MODIFIED:20251104T194211Z
UID:49083-1763056800-1763064000@livableraleigh.com
SUMMARY:District E meeting with Councilor Jones
DESCRIPTION:
URL:https://livableraleigh.com/event/district-e-meeting-with-councilor-jones-3/
LOCATION:La Cucina Italiana\, 6552 Glenwood Avenue
CATEGORIES:Council District Meeting,Engagement Filter
END:VEVENT
BEGIN:VEVENT
DTSTART;TZID=America/New_York:20251113T190000
DTEND;TZID=America/New_York:20251113T200000
DTSTAMP:20260422T180625
CREATED:20251014T105900Z
LAST-MODIFIED:20251014T105900Z
UID:48948-1763060400-1763064000@livableraleigh.com
SUMMARY:SECAC (Southeast CAC) Community Meeting
DESCRIPTION:SECAC Community Meeting\n\nWhen: November 13\,2025\nWhere\, Barwell Community Center\nTime; 7:00 pm- 8:30 pm
URL:https://livableraleigh.com/event/secac-southeast-cac-community-meeting-3/
LOCATION:Barwell Road Community Center\, 5857 Barwell Park Dr\, Raleigh\, NC\, 27610\, United States
CATEGORIES:CAC,Engagement Filter
END:VEVENT
BEGIN:VEVENT
DTSTART;TZID=America/New_York:20251113T190000
DTEND;TZID=America/New_York:20251113T200000
DTSTAMP:20260422T180625
CREATED:20251030T165441Z
LAST-MODIFIED:20251030T165441Z
UID:49133-1763060400-1763064000@livableraleigh.com
SUMMARY:Neighborhood Rezoning Meting: A portion of 5750 Louisburg Rd.
DESCRIPTION:November 13\n7 p.m.\nMillbrook Exchange Community Center\, 1905 Spring Forest Rd\, Raleigh\, NC 27615\nA Portion of 5750 Louisburg Rd\nPre-Submittal \nNX-3-PK\, RX-3-CU\, RX-3-CU w/SHOD-1 TO CX-3-CU-PK \n(Additional Information)\nETJ\nAshley Terrazas\nHunt
URL:https://livableraleigh.com/event/neighborhood-rezoning-meting-a-portion-of-5750-louisburg-rd/
LOCATION:Millbrook Exchange Park\, 1905 Spring Forest Rd\, Raleigh\, NC\, 27615
CATEGORIES:Engagement Filter,Neighborhood Meeting (Zoning)
END:VEVENT
BEGIN:VEVENT
DTSTART;TZID=America/New_York:20251115T093000
DTEND;TZID=America/New_York:20251115T113000
DTSTAMP:20260422T180625
CREATED:20251021T200710Z
LAST-MODIFIED:20251021T200710Z
UID:49085-1763199000-1763206200@livableraleigh.com
SUMMARY:District E Book Club Meeting with Councilor Jones
DESCRIPTION:
URL:https://livableraleigh.com/event/district-e-book-club-meeting-with-councilor-jones/
LOCATION:Oberlin Regional Library\, 1930 Clark Avenue
CATEGORIES:Council District Meeting,Engagement Filter
END:VEVENT
BEGIN:VEVENT
DTSTART;TZID=America/New_York:20251115T103000
DTEND;TZID=America/New_York:20251115T120000
DTSTAMP:20260422T180625
CREATED:20250929T210845Z
LAST-MODIFIED:20250929T210845Z
UID:48702-1763202600-1763208000@livableraleigh.com
SUMMARY:Stream Cleanup at Southgate Park!
DESCRIPTION:Join Stormwater staff for a stream cleanup at Southgate Park! We’ll spend the morning removing trash from the stream and making the creek cleaner and litter-free. All the necessary supplies will be provided (work gloves\, trash grabbers\, safety vests\, and trash bags). Please dress for outdoor fun and plan on getting a little wet and muddy. \nWhat You Need To Know\n\nVolunteers must be at least 10 years old; all volunteers under the age of 18 must be accompanied by an adult.\nWe’ll provide all supplies! Please just come with closed-toed shoes/boots and clothes that can get a little wet and muddy.\nEach volunteer must individually register. Registration for the stream cleanup is required.
URL:https://livableraleigh.com/event/stream-cleanup-at-southgate-park/
LOCATION:Southgate Park\, 1801 Proctor Street\, Raleigh\, NC\, 27610
CATEGORIES:Engagement Filter,Environment & Sustainability
END:VEVENT
BEGIN:VEVENT
DTSTART;TZID=America/New_York:20251117T173000
DTEND;TZID=America/New_York:20251117T183000
DTSTAMP:20260422T180625
CREATED:20251028T144743Z
LAST-MODIFIED:20251028T144743Z
UID:49120-1763400600-1763404200@livableraleigh.com
SUMMARY:Neighborhood Rezoning: 319 S. King Charles Road
DESCRIPTION:November 17\n5:30 p.m.\nRoberts Park Community Center (1300 E Martin St\, Raleigh\, NC 27610)\n319 S King Charles Rd\nPre-Submittal \nR-4 w/NCOD to R-6 \n(Additional Information)\nC\nPatrick & Sarah Madigan\nMarziano II
URL:https://livableraleigh.com/event/neighborhood-rezoning-319-s-king-charles-road/
LOCATION:Roberts Park Community Center\, 1300 E. Martin St\, Raleigh\, NC\, 27610
CATEGORIES:Engagement Filter,Neighborhood Meeting (Zoning)
END:VEVENT
BEGIN:VEVENT
DTSTART;TZID=America/New_York:20251117T180000
DTEND;TZID=America/New_York:20251117T190000
DTSTAMP:20260422T180625
CREATED:20251105T175909Z
LAST-MODIFIED:20251105T175909Z
UID:49252-1763402400-1763406000@livableraleigh.com
SUMMARY:Neighborhood Rezoning Meeting: 3470 Blue Ridge Road
DESCRIPTION:November 17\n6:00 p.m.\nLaurel Hills Community Center (3808 Edwards Mill Road\, NC 27612)\n3470 Blue Ridge Rd\nPre-Submittal \nR-4 TO RX-3-CU \n(Additional Information)\nE\nIsabel Mattox
URL:https://livableraleigh.com/event/neighborhood-rezoning-meeting-3470-blue-ridge-road/
LOCATION:Laurel Hills Community Center\, 3808 Edwards Mill Road\, 27612
CATEGORIES:Engagement Filter,Neighborhood Meeting (Zoning)
END:VEVENT
BEGIN:VEVENT
DTSTART;TZID=America/New_York:20251117T183000
DTEND;TZID=America/New_York:20251117T203000
DTSTAMP:20260422T180625
CREATED:20251104T194328Z
LAST-MODIFIED:20251104T194328Z
UID:49245-1763404200-1763411400@livableraleigh.com
SUMMARY:District C meeting with Councilor Branch
DESCRIPTION:
URL:https://livableraleigh.com/event/district-c-meeting-with-councilor-branch/
LOCATION:Lions Park Community Center\, 516 Dennis Avenue\, Raleigh\, 27604
CATEGORIES:Council District Meeting,Engagement Filter
END:VEVENT
BEGIN:VEVENT
DTSTART;TZID=America/New_York:20251117T190000
DTEND;TZID=America/New_York:20251117T200000
DTSTAMP:20260422T180625
CREATED:20251017T223540Z
LAST-MODIFIED:20251108T144129Z
UID:49045-1763406000-1763409600@livableraleigh.com
SUMMARY:East CAC
DESCRIPTION:
URL:https://livableraleigh.com/event/east-cac-9/
CATEGORIES:CAC,Engagement Filter
END:VEVENT
BEGIN:VEVENT
DTSTART;TZID=America/New_York:20251117T190000
DTEND;TZID=America/New_York:20251117T203000
DTSTAMP:20260422T180625
CREATED:20251110T210046Z
LAST-MODIFIED:20251110T210046Z
UID:49301-1763406000-1763411400@livableraleigh.com
SUMMARY:Raleigh North CAC Meeting
DESCRIPTION:Call to Order – Whitney Hill \nMeeting Minutes – Barbara Harris (5 Minutes) \nRaleigh Prevention Report – Sergeant Garcia\, Raleigh Police Department (20 minutes) \nRaleigh Water Customer Care Portal – Shakera Vaughan\, Community Engagement Department (25 minutes) \nCity Council Report – Mitchell Silver\, Raleigh City Council District A (15 minutes) \nChair Message and Discussion – Whitney Hill (10 minutes) \nUpcoming Events – Barbara Harris (5 minutes) \nVenue = Abbotts Creek Community Center \nhttps://www.facebook.com/events/2248179379012843/
URL:https://livableraleigh.com/event/raleigh-north-cac-meeting/
LOCATION:Abbotts Creek Community Center\, 9950 Durant Rd\, Raleigh\, NC\, 27614
CATEGORIES:CAC,Engagement Filter
END:VEVENT
BEGIN:VEVENT
DTSTART;TZID=America/New_York:20251117T190000
DTEND;TZID=America/New_York:20251117T210000
DTSTAMP:20260422T180625
CREATED:20251016T105016Z
LAST-MODIFIED:20251111T113429Z
UID:49010-1763406000-1763413200@livableraleigh.com
SUMMARY:Midtown CAC Meeting
DESCRIPTION:Agenda \n\n\n\n\n\nHybrid Midtown Citizens Advisory Council Meeting \n\n\nMonday\, November 17\, 2025\, 7:00-9:00 pm \n\n\nEastgate Park Community Center \n\n\n4200 Quail Hollow Drive \n\n\n  \n\n\n\n\n\n1)   7:00     Call to Order and Welcome to Midtown CAC \n\n\n\n\n\n2)   7:05     Review and Approval of October 2025 Minutes\n \n\n\n3)   7:10     Sergeant Garcia\, Raleigh Police Department \n\n\n                  Activity and Crime Stats Report for Midtown \n\n\n                  Question and Answer \n\n\n\n\n\n4)   7:30     Northern Corridor BRT Updates \n\n\n                  Het Patel\, Assistant Transit Director \n\n\n                  City of Raleigh Transportation Department \n\n\n\n\n\n5)   8:00     New Raleigh Water billing portal Update \n\n\n                  Shakera Vaughan\, Community Engagement Strategist \n\n\n                  Ed Buchan\, City of Raleigh Water Department \n\n\n\n\n\n6)  8:30      City Council Updates \n\n\n                  Mitchell Silver\, District A \n\n\n                  Christina Jones\, District E \n\n\n\n\n\n7)   8:45     Old / New Business\, Announcements\, Remarks \n\n\n\n\n\n8)   9:00     Adjournment \n\n\n\n\n\nIn Person Location: \n\n\n                  Eastgate Park Community Center \n\n\n                  4200 Quail Hollow Drive\, Raleigh\, NC 27609 \n\n\n\n\n\nZoom Meeting Link: \n\n\nAvailable by Request \n\n\n\n\n\nVisit our Midtown CAC Facebook page: \n\n\n https://www.facebook.com/MidtownCAC
URL:https://livableraleigh.com/event/midtown-cac-meeting/
LOCATION:Eastgate Park\, 4200 Quail Hollow Dr\,\, Raleigh\, NC\, 27609
CATEGORIES:CAC,Engagement Filter
END:VEVENT
BEGIN:VEVENT
DTSTART;TZID=America/New_York:20251119T140000
DTEND;TZID=America/New_York:20251119T150000
DTSTAMP:20260422T180625
CREATED:20251114T205037Z
LAST-MODIFIED:20251114T205037Z
UID:49391-1763560800-1763564400@livableraleigh.com
SUMMARY:RHDC Research Committee
DESCRIPTION:Public Meeting – November 19\, 2025\n\nThe Research Committee of the Raleigh Historic Development Commission will conduct a public meeting on Wednesday\, November 19 at 2:00 p.m. at One Exchange Plaza\, 3rd floor in room 301 (Nash Conference Room). \nFor questions about the meeting\, please contact historicpreservation@raleighnc.gov \n\n\n\nA.\n\nCall to Order\n\n\n\n\n\n\n\n\n\n\n\n\n\n\n\n\n\n\n\nThis meeting will be held in One Exchange Plaza on the 3rd floor in room 301 (Nash Conference Room). \n\n\n\n\n\n\n\n\n\nB.\n\nPublic Comment\n\n\n\n\n\n\n\n\n\n\n\n\n\n\n\n\n\n\n\nC.\n\nOld Business\n\n\n\n\n\n\n\n\n\n\n\n\n\n\n\n\n\nC.1\n\nLigon Alumni Letter\n\n\n\n\n\n\n\n\n\n\n\n\n\n\n\n\nAt the September 10th RHDC meeting\, members of the Ligon High School alumni association spoke during public comment regarding the future of the school and requested information about landmarking possibilities. The RHDC referred the request to the Research Committee to gather additional information\, which occurred at the October 1st committee meeting. During the committee report out at the October 8th RHDC meeting\, it was requested that a letter to the alumni association be drafted to explain next steps and recommendations.\n\n.\n\nA draft letter will be attached by end of day Monday\, November 17th.\n\n\n\n\n\n\n\n\n\n\n\nD.\n\nAdjournment
URL:https://livableraleigh.com/event/rhdc-research-committee-44/
LOCATION:One Exchange Plaza\, 1 Exchange Plaza\, Raleigh\, NY\, 27601
CATEGORIES:Engagement Filter,Historic Development Commission
END:VEVENT
BEGIN:VEVENT
DTSTART;TZID=America/New_York:20251119T173000
DTEND;TZID=America/New_York:20251119T183000
DTSTAMP:20260422T180625
CREATED:20251108T144048Z
LAST-MODIFIED:20251108T144048Z
UID:49298-1763573400-1763577000@livableraleigh.com
SUMMARY:Neighborhood Rezoning Meeting: 2810 Blue Ridge Road\, 4220 & 4401 Lake Boone Trail
DESCRIPTION:November 19\n5:30 p.m.\nREX Hospital North Carolina Heart & Vascular Hospital Building\, 2800 Blue Ridge Rd\, Raleigh\, NC 27607\n2810 Blue Ridge Rd\, 4220 & 4401 Lake Boone Trl \nPre-Submittal \nOX-12-UL TO CMP \n(Additional Information)\nD\nAshley Terrazas
URL:https://livableraleigh.com/event/neighborhood-rezoning-meeting-2810-blue-ridge-road-4220-4401-lake-boone-trail/
LOCATION:Rex Hospital NC Heart & Vascular Hospital Building\, 2800 Blue Ridge Road\, Raleigh
CATEGORIES:Engagement Filter,Neighborhood Meeting (Zoning)
END:VEVENT
BEGIN:VEVENT
DTSTART;TZID=America/New_York:20251119T190000
DTEND;TZID=America/New_York:20251119T200000
DTSTAMP:20260422T180625
CREATED:20251105T180030Z
LAST-MODIFIED:20251105T180030Z
UID:49254-1763578800-1763582400@livableraleigh.com
SUMMARY:Neighborhood Rezoning Meeting: Avent Ferry Rd. Assemblage (Z-37-25)
DESCRIPTION:November 19\n7 p.m.\nNC State McKimmon Center\, 1101 Gorman St\, Raleigh\, NC 27607\nAvent Ferry Rd Assemblage \nZ-37-25\nPost-Submittal \nR-10 w/SRPOD\, RX-3 w/SRPOD\, & CM w/SRPOD TO RX-4-CU w/SRPOD \n(Additional Information)\nD\nAshley Terrazas
URL:https://livableraleigh.com/event/neighborhood-rezoning-meeting-avent-ferry-rd-assemblage-z-37-25/
LOCATION:McKimmon Center\, NCSU McKimmon Center 1101 Gorman Street\, Raleigh\, NC\, 27606\, United States
CATEGORIES:Engagement Filter,Neighborhood Meeting (Zoning)
END:VEVENT
BEGIN:VEVENT
DTSTART;TZID=America/New_York:20251119T190000
DTEND;TZID=America/New_York:20251119T203000
DTSTAMP:20260422T180625
CREATED:20251026T154556Z
LAST-MODIFIED:20251115T150105Z
UID:49114-1763578800-1763584200@livableraleigh.com
SUMMARY:West Raleigh CAC
DESCRIPTION:Meeting Wednesday November 19th at 7pm\nIt’s time to meet and talk about what’s going on in West Raleigh! \nWe will discuss several items of interest to our members and hope you can join us via zoom on Wednesday evening at 7pm. Zoom Link follows the agenda \n*Agenda* \nNot Just Tourists – Non Profit group \nZ-9-25 4500 Western Blvd (old K Mart site) \nHoliday Social date and time update \nJoin Zoom Meeting \nhttps://us02web.zoom.us/j/83981292620 \nMeeting ID: 839 8129 2620 \nOne tap mobile \n+16469313860\,\,83981292620# US \n+19292056099\,\,83981292620# US (New York) \n*Next Meeting is Wednesday November 19th* \nAt our October meeting we discussed and decided to move our next CAC meeting up a week to avoid any Thanksgiving holiday conflicts.We will still meet on Zoom for this meeting and are working on the agenda.
URL:https://livableraleigh.com/event/west-raleigh-cac-21/
CATEGORIES:CAC,Engagement Filter
END:VEVENT
END:VCALENDAR