BEGIN:VCALENDAR
VERSION:2.0
PRODID:-//Livable Raleigh - ECPv6.15.20//NONSGML v1.0//EN
CALSCALE:GREGORIAN
METHOD:PUBLISH
X-ORIGINAL-URL:https://livableraleigh.com
X-WR-CALDESC:Events for Livable Raleigh
REFRESH-INTERVAL;VALUE=DURATION:PT1H
X-Robots-Tag:noindex
X-PUBLISHED-TTL:PT1H
BEGIN:VTIMEZONE
TZID:America/New_York
BEGIN:DAYLIGHT
TZOFFSETFROM:-0500
TZOFFSETTO:-0400
TZNAME:EDT
DTSTART:20250309T070000
END:DAYLIGHT
BEGIN:STANDARD
TZOFFSETFROM:-0400
TZOFFSETTO:-0500
TZNAME:EST
DTSTART:20251102T060000
END:STANDARD
BEGIN:DAYLIGHT
TZOFFSETFROM:-0500
TZOFFSETTO:-0400
TZNAME:EDT
DTSTART:20260308T070000
END:DAYLIGHT
BEGIN:STANDARD
TZOFFSETFROM:-0400
TZOFFSETTO:-0500
TZNAME:EST
DTSTART:20261101T060000
END:STANDARD
BEGIN:DAYLIGHT
TZOFFSETFROM:-0500
TZOFFSETTO:-0400
TZNAME:EDT
DTSTART:20270314T070000
END:DAYLIGHT
BEGIN:STANDARD
TZOFFSETFROM:-0400
TZOFFSETTO:-0500
TZNAME:EST
DTSTART:20271107T060000
END:STANDARD
END:VTIMEZONE
BEGIN:VEVENT
DTSTART;TZID=America/New_York:20260325T190000
DTEND;TZID=America/New_York:20260325T203000
DTSTAMP:20260420T032730
CREATED:20260322T133352Z
LAST-MODIFIED:20260322T133352Z
UID:52930-1774465200-1774470600@livableraleigh.com
SUMMARY:West Raleigh CAC Meeting
DESCRIPTION:Meeting – \n\nWednesday March 25th at 7pm\nIt’s time to meet and talk about what’s going on in West Raleigh!\nWe don’t have any presentations on the agenda this month but will go through our community updates to discuss what’s going on in West Raleigh.\n It’s our time to stay connected and stay informed.\nWe hope you can join us on Wednesday evening via zoom.\n\n*Agenda*\nCommunity Updates\n\n\nJoin Zoom Meeting\nhttps://us02web.zoom.us/j/83981292620\nMeeting ID: 839 8129 2620\n\nOne tap mobile\n+16469313860\,\,83981292620# US\n+19292056099\,\,83981292620# US (New York)\n\n\n\n— \n \n\nWest Raleigh Community Advocacy Council (CAC) \nhttps://www.facebook.com/WestRalCAC\nChair Peyote Perryman
URL:https://livableraleigh.com/event/west-raleigh-cac-meeting-3/
LOCATION:NC
CATEGORIES:CAC,Engagement Filter,Virtual
END:VEVENT
BEGIN:VEVENT
DTSTART;TZID=America/New_York:20260326T120000
DTEND;TZID=America/New_York:20260326T133000
DTSTAMP:20260420T032730
CREATED:20260310T223924Z
LAST-MODIFIED:20260310T224115Z
UID:52598-1774526400-1774531800@livableraleigh.com
SUMMARY:League of Women Voters Timely Topics – Voter Suppression
DESCRIPTION:Register here: https://rebrand.ly/94qakwj
URL:https://livableraleigh.com/event/league-of-women-voters-timely-topics-voter-suppression/
LOCATION:Highland United Methodist Church\, 1901 Ridge Rd\, Raleigh\, NC\, 27607
CATEGORIES:Community and Workshops,Engagement Filter
END:VEVENT
BEGIN:VEVENT
DTSTART;TZID=America/New_York:20260326T190000
DTEND;TZID=America/New_York:20260326T203000
DTSTAMP:20260420T032730
CREATED:20260312T191236Z
LAST-MODIFIED:20260312T191236Z
UID:52649-1774551600-1774557000@livableraleigh.com
SUMMARY:Neighborhood Rezoning Meeting: 6904 & a portion of 0 Poole Road
DESCRIPTION:March 26\, 2026\n7:00 p.m.\nBarwell Road Community Center\, 5857 Barwell Park Drive\, Raleigh\, NC 27610\n6904 & a portion of 0 Poole Rd\nPre-Submittal \nWake County R-30 TO R-10 \n(Additional Information) \nC\nMolly Stuart\nMarziano II
URL:https://livableraleigh.com/event/neighborhood-rezoning-meeting-6904-a-portion-of-0-poole-road/
LOCATION:Barwell Road Community Center\, 5857 Barwell Park Dr\, Raleigh\, NC\, 27610\, United States
CATEGORIES:Engagement Filter,Neighborhood Meeting (Zoning)
END:VEVENT
BEGIN:VEVENT
DTSTART;TZID=America/New_York:20260330T160000
DTEND;TZID=America/New_York:20260330T180000
DTSTAMP:20260420T032730
CREATED:20260326T163041Z
LAST-MODIFIED:20260326T163041Z
UID:52972-1774886400-1774893600@livableraleigh.com
SUMMARY:Reflecting Raleigh Technical Team - Housing and Neighborhoods (Rescheduled from 3/23)
DESCRIPTION:
URL:https://livableraleigh.com/event/reflecting-raleigh-technical-team-housing-and-neighborhoods-rescheduled-from-3-23/
LOCATION:One Exchange Plaza\, 1 Exchange Plaza\, Raleigh\, NY\, 27601
CATEGORIES:Engagement Filter,Other
END:VEVENT
BEGIN:VEVENT
DTSTART;TZID=America/New_York:20260331T180000
DTEND;TZID=America/New_York:20260331T200000
DTSTAMP:20260420T032730
CREATED:20260312T014140Z
LAST-MODIFIED:20260312T014140Z
UID:52641-1774980000-1774987200@livableraleigh.com
SUMMARY:Community Conversation with Raleigh Police Department Advisory Board
DESCRIPTION:The Raleigh Police Advisory Board is hosting a community conversation event surrounding RPD and the usage of technology (drones\, GPS tags\, etc) within our community alongside a panel of defense attorney\, prosecutor\, and more to discuss how this technology impacts the City. \nFor additional information & to RSVP:\nhttps://bit.ly/RPAD2026Community \n  \n 
URL:https://livableraleigh.com/event/community-conversation-with-raleigh-police-department-advisory-board/
LOCATION:Chavis Community Center\, 505 Martin Luther King Jr. Blvd\, Raleigh\, NC\, United States
CATEGORIES:Community and Workshops,Engagement Filter
END:VEVENT
BEGIN:VEVENT
DTSTART;TZID=America/New_York:20260331T190000
DTEND;TZID=America/New_York:20260331T200000
DTSTAMP:20260420T032730
CREATED:20260322T144251Z
LAST-MODIFIED:20260328T125726Z
UID:52932-1774983600-1774987200@livableraleigh.com
SUMMARY:Neighborhood Rezoning Meeting: 523 S. West St. (Z-46-25)
DESCRIPTION:March 31\, 2026\n7:00 p.m.\nCarolina Pines Community Center\, 2305 Lake Wheeler Rd\, Raleigh\, NC 27603\n523 S West St \nZ-46-25\nPost-Submittal \nDX-5-UL TO DX-7-UL \n(Additional Information)\nD\nSuzanne Prince\nBurns
URL:https://livableraleigh.com/event/neighborhood-rezoning-meeting-523-s-west-sst-z-46-25/
LOCATION:Carolina Pines Community Center\, 2305 Lake Wheeler Road\, Raleigh\, NC\, 27603\, United States
CATEGORIES:Engagement Filter,Neighborhood Meeting (Zoning)
END:VEVENT
BEGIN:VEVENT
DTSTART;TZID=America/New_York:20260401T153000
DTEND;TZID=America/New_York:20260401T170000
DTSTAMP:20260420T032730
CREATED:20260326T162654Z
LAST-MODIFIED:20260326T162654Z
UID:52970-1775057400-1775062800@livableraleigh.com
SUMMARY:Raleigh Transit Authority Finance and Policy Committee Meeting
DESCRIPTION:
URL:https://livableraleigh.com/event/raleigh-transit-authority-finance-and-policy-committee-meeting-28/
LOCATION:Raleigh Union Station\, 510 West Martin Street\, Suite 200\, Raleigh\, NC\, 27601
CATEGORIES:Engagement Filter,Transit Authority
END:VEVENT
BEGIN:VEVENT
DTSTART;TZID=America/New_York:20260401T180000
DTEND;TZID=America/New_York:20260401T190000
DTSTAMP:20260420T032730
CREATED:20260322T144453Z
LAST-MODIFIED:20260322T144453Z
UID:52934-1775066400-1775070000@livableraleigh.com
SUMMARY:Neighborhood Rezoning Meeting: 617 W. Jones St. & 117 Glenwood Avenue (Z-03-26)
DESCRIPTION:April 1\, 2026\n6:00 p.m.\n107 Glenwood Ave\, Raleigh\, NC\n617 W Jones St & 117 Glenwood Ave \nZ-03-26\nPost-Submittal \nOX-3-DE w/NCOD & DX-20-SH-CU TO DX-20-SH \n(Additional Information)\nC\nMolly Stuart\nMarziano II
URL:https://livableraleigh.com/event/neighborhood-rezoning-meeting-617-w-jones-st-117-glenwood-avenue-z-03-26/
LOCATION:107 Glenwood Avenue\, 107 Glenwood Avenue\, 2nd floor\, Raleigh
CATEGORIES:Engagement Filter,Neighborhood Meeting (Zoning)
END:VEVENT
BEGIN:VEVENT
DTSTART;TZID=America/New_York:20260408T180000
DTEND;TZID=America/New_York:20260408T190000
DTSTAMP:20260420T032730
CREATED:20260329T173830Z
LAST-MODIFIED:20260329T173830Z
UID:53053-1775671200-1775674800@livableraleigh.com
SUMMARY:Neighborhood Rezoning Meeting: 2810 Blue Ridge road & 4220\, 4401 Lake Boone Trail (Z-48-25)
DESCRIPTION:April 8\, 2026\n6:00 p.m.\nNorth Carolina Heart and Vascular Hospital Building\, located at 2800 Blue Ridge Road\, Raleigh\, NC 27607\n2810 Blue Ridge Rd & 4220\, 4401 Lake Boone Trl \nZ-48-25\nPost Submittal \nOX-12-UL TO CMP \n(Additional Information)\nE\nJamie Schwedler\nHunt
URL:https://livableraleigh.com/event/neighborhood-rezoning-meeting-2810-blue-ridge-road-4220-4401-lake-boone-trail-z-48-25/
LOCATION:Rex Hospital NC Heart & Vascular Hospital Building\, 2800 Blue Ridge Road\, Raleigh
CATEGORIES:Engagement Filter,Neighborhood Meeting (Zoning)
END:VEVENT
BEGIN:VEVENT
DTSTART;TZID=America/New_York:20260408T180000
DTEND;TZID=America/New_York:20260408T200000
DTSTAMP:20260420T032730
CREATED:20260318T193657Z
LAST-MODIFIED:20260318T193657Z
UID:52776-1775671200-1775678400@livableraleigh.com
SUMMARY:Councilor Jones District E Monthly Community Meeting
DESCRIPTION:
URL:https://livableraleigh.com/event/councilor-jones-district-e-monthly-community-meeting/
LOCATION:La Cucina Italiana\, 6552 Glenwood Avenue
CATEGORIES:Council District Meeting,Engagement Filter
END:VEVENT
BEGIN:VEVENT
DTSTART;TZID=America/New_York:20260409T183000
DTEND;TZID=America/New_York:20260409T193000
DTSTAMP:20260420T032730
CREATED:20260329T173946Z
LAST-MODIFIED:20260329T173946Z
UID:53055-1775759400-1775763000@livableraleigh.com
SUMMARY:Neighborhood Rezoning Meeting: 2245 Garner Road (Z-50-24)
DESCRIPTION:April 9\, 2026\n6:30 p.m.\nBiltmore Hills Community Center\, 2615 Fitzgerald Drive\, Raleigh\, NC 27610\n2245 Garner Rd \nZ-50-24\nPost-Submittal \nR-10 TO CX-5-CU \n(Additional Information)\nC\nJenn Truman\nFalkenstein
URL:https://livableraleigh.com/event/neighborhood-rezoning-meeting-2245-garner-road-z-50-24/
LOCATION:Biltmore Hills Park\, 2615 Fitzgerald Drive\, Raleigh\, NC\, 27610
CATEGORIES:Engagement Filter,Neighborhood Meeting (Zoning)
END:VEVENT
BEGIN:VEVENT
DTSTART;TZID=America/New_York:20260411T093000
DTEND;TZID=America/New_York:20260411T113000
DTSTAMP:20260420T032730
CREATED:20260318T194051Z
LAST-MODIFIED:20260318T194051Z
UID:52778-1775899800-1775907000@livableraleigh.com
SUMMARY:Councilor Jones Monthly Book Club Meeting
DESCRIPTION:
URL:https://livableraleigh.com/event/councilor-jones-monthly-book-club-meeting/
LOCATION:New World Cafe\, 5900 Duraleigh Rd\, Raleigh\, NC\, 27612
CATEGORIES:Council District Meeting,Engagement Filter
END:VEVENT
BEGIN:VEVENT
DTSTART;TZID=America/New_York:20260413T183000
DTEND;TZID=America/New_York:20260413T193000
DTSTAMP:20260420T032730
CREATED:20260322T144623Z
LAST-MODIFIED:20260329T173654Z
UID:52936-1776105000-1776108600@livableraleigh.com
SUMMARY:Neighborhood Rezoning Meeting: 7008 Perry Creek Rd.
DESCRIPTION:April 13\, 2026\n6:30 p.m.\nAbbotts Creek Community Center\, Raleigh\, NC 27614\n7008 Perry Creek Rd\nPre-Submittal \nR-4 TO NX-3 \n(Additional Information)\nB\nJollof & Company LLC\nHunt
URL:https://livableraleigh.com/event/neighborhood-rezoning-meeting-7008-perry-creek-rd-2/
LOCATION:Abbotts Creek Community Center\, 9950 Durant Rd\, Raleigh\, NC\, 27614
CATEGORIES:Engagement Filter,Neighborhood Meeting (Zoning)
END:VEVENT
BEGIN:VEVENT
DTSTART;TZID=America/New_York:20260414T160000
DTEND;TZID=America/New_York:20260414T180000
DTSTAMP:20260420T032730
CREATED:20260402T085959Z
LAST-MODIFIED:20260402T085959Z
UID:53108-1776182400-1776189600@livableraleigh.com
SUMMARY:Share Your Voice in the Biltmore Hills Master Plan Update
DESCRIPTION:Raleigh Parks invites the community to upcoming engagement opportunities for the Biltmore Hills Park Master Plan Update\, a planning effort to guide future improvements to the park and ensure it reflects community priorities. \nLearn more about the Master Plan Update Meeting \n\n\n\n\nAssociated News & Alerts\n\n\n\n\n\nShare Your Voice in the Biltmore Hills Master Plan Update
URL:https://livableraleigh.com/event/share-your-voice-in-the-biltmore-hills-master-plan-update/
LOCATION:NC
CATEGORIES:Engagement Filter,Parks
END:VEVENT
BEGIN:VEVENT
DTSTART;TZID=America/New_York:20260415T180000
DTEND;TZID=America/New_York:20260415T190000
DTSTAMP:20260420T032730
CREATED:20260401T201251Z
LAST-MODIFIED:20260401T201251Z
UID:53096-1776276000-1776279600@livableraleigh.com
SUMMARY:Neighborhood Rezoning Meeting: 5507 & 5511 Hillsborough Street and 0 and 5508 Western Boulevard
DESCRIPTION:April 15\, 2026\n6:00 p.m.\nMethod Community Center- Pioneer Building Large Room\, 514 Method Rd\, Raleigh\, NC 27607\n5507 & 5511 Hillsborough Street and 0 and 5508 Western Boulevard\nPre-Submittal \n(IX-3-PL w/TOD & SRPOD) & (R-10 w/TOD & SRPOD) TO RX-3 \n(Additional Information)\nD\nCity of Raleigh Initiated\nNorth
URL:https://livableraleigh.com/event/neighborhood-rezoning-meeting-5507-5511-hillsborough-street-and-0-and-5508-western-boulevard/
LOCATION:Method Road Community Center\, 514 Method Road\, Raleigh\, NC\, United States
CATEGORIES:Engagement Filter,Neighborhood Meeting (Zoning)
END:VEVENT
BEGIN:VEVENT
DTSTART;TZID=America/New_York:20260415T180000
DTEND;TZID=America/New_York:20260415T190000
DTSTAMP:20260420T032730
CREATED:20260401T201356Z
LAST-MODIFIED:20260401T201356Z
UID:53098-1776276000-1776279600@livableraleigh.com
SUMMARY:Neighborhood Rezoning Meeting: 2905 Hodge Road
DESCRIPTION:April 15\, 2026\n6:00 p.m.\nBarwell Road Community Center\, Small Classroom 1\, 5857 Barwell Park Drive\, Raleigh\, NC 27610\n2905 Hodge Road\nPre-Submittal \nR-30 TO R-10 \n(Additional Information)\nC\nMolly Stuart\nMarziano II
URL:https://livableraleigh.com/event/neighborhood-rezoning-meeting-2905-hodge-road/
LOCATION:Barwell Road Community Center\, 5857 Barwell Park Dr\, Raleigh\, NC\, 27610\, United States
CATEGORIES:Engagement Filter,Neighborhood Meeting (Zoning)
END:VEVENT
BEGIN:VEVENT
DTSTART;TZID=America/New_York:20260418T093000
DTEND;TZID=America/New_York:20260418T113000
DTSTAMP:20260420T032730
CREATED:20260331T180816Z
LAST-MODIFIED:20260331T180816Z
UID:53091-1776504600-1776511800@livableraleigh.com
SUMMARY:District D Neighborhood Alliance (DDNA) meeting
DESCRIPTION:Our next District D Neighborhood Alliance meeting will be on Saturday\, April 18 at 9:30 am at the Crowder Center (5611 Jaguar Park Dr). Share what’s on your mind and get to know your neighbors.
URL:https://livableraleigh.com/event/district-d-neighborhood-alliance-ddna-meeting-6/
LOCATION:Thomas G. Crowder Woodland Center\, 5611 Jaguar Park Drive\, Raleigh\, NC\, 27606\, United States
CATEGORIES:Council District Meeting,Engagement Filter
END:VEVENT
BEGIN:VEVENT
DTSTART;TZID=America/New_York:20260420T180000
DTEND;TZID=America/New_York:20260420T190000
DTSTAMP:20260420T032730
CREATED:20260329T174056Z
LAST-MODIFIED:20260329T174056Z
UID:53057-1776708000-1776711600@livableraleigh.com
SUMMARY:Neighborhood Rezoning Meeting: 4804 & 4808 Spring Forest Road (Z-51-25)
DESCRIPTION:April 20\, 2026\n6:00 p.m.\nMillbrook Exchange Community Center\, CC Room 1\, 1905 Spring Forest Road\, Raleigh\, NC 27615\n4804 & 4808 Spring Forest Rd \nZ-51-25\nPost-Submittal \nR-1 TO CX-3-CU \n(Additional Information)\nB\nHunter Winstead\nBurns
URL:https://livableraleigh.com/event/neighborhood-rezoning-meeting-4804-4808-spring-forest-road-z-51-25/
LOCATION:Millbrook Exchange Park\, 1905 Spring Forest Rd\, Raleigh\, NC\, 27615
CATEGORIES:Engagement Filter,Neighborhood Meeting (Zoning)
END:VEVENT
BEGIN:VEVENT
DTSTART;TZID=America/New_York:20260420T180000
DTEND;TZID=America/New_York:20260420T190000
DTSTAMP:20260420T032730
CREATED:20260329T174208Z
LAST-MODIFIED:20260329T174208Z
UID:53059-1776708000-1776711600@livableraleigh.com
SUMMARY:Neighborhood Rezoning Meeting: 2901 Forestville Road
DESCRIPTION:April 20\, 2026\n6:00 p.m.\nRolesville Community Center\, 502 Southtown Cir\, Rolesville\, NC 27571\n2901 Forestville Rd\nPre-Submittal \nPD TO CX-3-CU \n(Additional Information)\nB\nBeth Trahos\nHunt
URL:https://livableraleigh.com/event/neighborhood-rezoning-meeting-2901-forestville-road-2/
LOCATION:Rolesville Community Center\, 514 Southtown Circle\, Rolesville\, NC\, 27571
CATEGORIES:Engagement Filter,Neighborhood Meeting (Zoning)
END:VEVENT
BEGIN:VEVENT
DTSTART;TZID=America/New_York:20260420T180000
DTEND;TZID=America/New_York:20260420T190000
DTSTAMP:20260420T032730
CREATED:20260416T192057Z
LAST-MODIFIED:20260416T192057Z
UID:53443-1776708000-1776711600@livableraleigh.com
SUMMARY:Neighborhood Rezoning Meeting: 5525 & 5605 Rock Quarry Road (Z-08-26)
DESCRIPTION:April 20\, 2026\n6:00 p.m.\nBarwell Road Community Center\, Small Classroom 1\, 5857 Barwell Park Drive\, Raleigh\, NC 27610\n5525 & 5605 Rock Quarry Rd \nZ-08-26\nPost-Submittal \nR-4 to NX-3-PL \n(Additional Information)\nC\nMolly Stuart\nMcGregor
URL:https://livableraleigh.com/event/neighborhood-rezoning-meeting-5525-5605-rock-quarry-road-z-08-26/
LOCATION:Barwell Road Community Center\, 5857 Barwell Park Dr\, Raleigh\, NC\, 27610\, United States
CATEGORIES:Engagement Filter,Neighborhood Meeting (Zoning)
END:VEVENT
BEGIN:VEVENT
DTSTART;TZID=America/New_York:20260420T190000
DTEND;TZID=America/New_York:20260420T200000
DTSTAMP:20260420T032730
CREATED:20260316T210122Z
LAST-MODIFIED:20260316T210122Z
UID:52722-1776711600-1776715200@livableraleigh.com
SUMMARY:East CAC
DESCRIPTION:
URL:https://livableraleigh.com/event/east-cac-10/
LOCATION:Lions Park Community Center\, 516 Dennis Avenue\, Raleigh\, 27604
CATEGORIES:CAC,Engagement Filter
END:VEVENT
BEGIN:VEVENT
DTSTART;TZID=America/New_York:20260421T190000
DTEND;TZID=America/New_York:20260421T200000
DTSTAMP:20260420T032730
CREATED:20260416T192245Z
LAST-MODIFIED:20260416T192245Z
UID:53445-1776798000-1776801600@livableraleigh.com
SUMMARY:Neighborhood Rezoning Meeting: 3725 Harden Road
DESCRIPTION:April 21\, 2026\n7:00 p.m.\nFollow the Child Montessori School\, 3601 Harden Rd\, Raleigh\, NC 27607\n3725 Harden Rd\nPre-Submittal \nR-4 TO OX-7-CU \n(Additional Information)\nE\nJamie Schwedler\nMarziano II
URL:https://livableraleigh.com/event/neighborhood-rezoning-meeting-3725-harden-road-2/
LOCATION:Follow the Child Montessori School\, 3601 Harden Road\, Raleigh\, 27607
CATEGORIES:Engagement Filter,Neighborhood Meeting (Zoning)
END:VEVENT
BEGIN:VEVENT
DTSTART;TZID=America/New_York:20260424T170000
DTEND;TZID=America/New_York:20260424T220000
DTSTAMP:20260420T032730
CREATED:20260331T181156Z
LAST-MODIFIED:20260331T181156Z
UID:53093-1777050000-1777068000@livableraleigh.com
SUMMARY:Raleigh’s Earth Day celebration
DESCRIPTION:Raleigh’s Earth Day celebration is Friday\, April 24 from 5-10 pm at Dix Park. Explore earth-conscious vendors\, hear live performances\, meet local environmental leaders\, and enjoy a family-friendly outdoor movie. Learn new low-waste practices and practical ways to care for our planet.
URL:https://livableraleigh.com/event/raleighs-earth-day-celebration/
LOCATION:DIX Park\, 1030 Richardson Dr\, Raleigh\, NC\, 27603
CATEGORIES:Engagement Filter,Festivals & Special Events
END:VEVENT
BEGIN:VEVENT
DTSTART;TZID=America/New_York:20260427T190000
DTEND;TZID=America/New_York:20260427T210000
DTSTAMP:20260420T032730
CREATED:20260416T120836Z
LAST-MODIFIED:20260416T134042Z
UID:53438-1777316400-1777323600@livableraleigh.com
SUMMARY:Midtown CAC Hybrid Meeting
DESCRIPTION:Agenda \n\nHybrid Midtown Citizens Advisory Council Meeting \nMonday\, April 27\, 2026\, 7:00-9:00 p.m. \nEastgate Park Community Center \n4200 Quail Hollow Drive \n  \n\n1)      7:00   Call to Order and Welcome to Midtown CAC \n\n2)      7:05   Review and Approval of February 2026 Minutes\n \n3)      7:10   Sergeant Garcia\, Raleigh Police Department \n                  Activity and Crime Stats Report for Midtown \n                  Question and Answer \n\n4)      7:20  The Mills of Millbrook\, a Special Presentation of Raleigh History \n                  Kevin Gard\, Midtown Resident \n\n5)      8:00  City Council Updates \n                  Mitchell Silver\, District A \n                  Christina Jones\, District E \n\n6)      8:15  The Quail Hollow Green Street Project Discussion \n                  Chuck Newcomer\, Raleigh Resident and Guests \n\n7)      8:50  Old/ New Business\, Announcements\, Remarks \n\n8)      9:00  Adjournment \n            In Person Location: \n                  Eastgate Park Community Center \n                  4200 Quail Hollow Drive\, Raleigh\, NC 27609 \n\n                  Virtual: \n                  Zoom Meeting Link: \n                  Available by Request \n\nVisit our Midtown CAC Facebook page: \n https://www.facebook.com/MidtownCAC
URL:https://livableraleigh.com/event/midtown-cac-hybrid-meeting-8/
LOCATION:Eastgate Park\, 4200 Quail Hollow Dr\,\, Raleigh\, NC\, 27609
CATEGORIES:CAC,Engagement Filter,Virtual
END:VEVENT
BEGIN:VEVENT
DTSTART;TZID=America/New_York:20260428T173000
DTEND;TZID=America/New_York:20260428T183000
DTSTAMP:20260420T032730
CREATED:20260416T192403Z
LAST-MODIFIED:20260416T192403Z
UID:53448-1777397400-1777401000@livableraleigh.com
SUMMARY:Neighborhood Rezoning Meeting" 5925 Glenwood Avenue (Z-9-26)
DESCRIPTION:April 28\, 2026\n5:30 p.m.\nLaurel Hills Community Center\, CC Meeting Room\, 3808 Edwards Mill Rd\, Raleigh\, NC 27612\n5925 Glenwood Ave \nZ-9-26\nPost-Submittal \nCX-3-PL & R-4 TO CX-3-PL \n(Additional Information)\nE\nWill Quick\nMarziano II
URL:https://livableraleigh.com/event/neighborhood-rezoning-meeting-5925-glenwood-avenue-z-9-26/
LOCATION:Laurel Hills Community Center\, 3808 Edwards Mill Road\, 27612
CATEGORIES:Engagement Filter,Neighborhood Meeting (Zoning)
END:VEVENT
BEGIN:VEVENT
DTSTART;TZID=America/New_York:20260429T180000
DTEND;TZID=America/New_York:20260429T190000
DTSTAMP:20260420T032730
CREATED:20260416T192528Z
LAST-MODIFIED:20260416T192528Z
UID:53451-1777485600-1777489200@livableraleigh.com
SUMMARY:Neighborhood Rezoning Meeting: 12301 Leesville Road\, 7652 Leesville Road\, and 3321 Shady Grove Road (Z-54-25)
DESCRIPTION:April 29\, 2026\n6:00 p.m.\nLaurel Hills Community Center\, CC Meeting Room\, 3808 Edwards Mill Rd\, Raleigh\, NC 27612\n12301 Leesville Road\, 7652 Leesville Road\, and3321 Shady Grove Road \nZ-54-25\nPost-Submittal \nIX-3-PK-AOD-SHOD-2\, RR-A65-A60\, & RR-A65 TO OX-4-CU \n(Additional Information)\nE\nMolly Stuart\nBurns
URL:https://livableraleigh.com/event/neighborhood-rezoning-meeting-12301-leesville-road-7652-leesville-road-and-3321-shady-grove-road-z-54-25/
LOCATION:Laurel Hills Community Center\, 3808 Edwards Mill Road\, 27612
CATEGORIES:Engagement Filter,Neighborhood Meeting (Zoning)
END:VEVENT
BEGIN:VEVENT
DTSTART;TZID=America/New_York:20260429T190000
DTEND;TZID=America/New_York:20260429T200000
DTSTAMP:20260420T032730
CREATED:20260419T170244Z
LAST-MODIFIED:20260419T170244Z
UID:53584-1777489200-1777492800@livableraleigh.com
SUMMARY:Neighborhood Rezoning Meeting: 4017 Watkins Road
DESCRIPTION:April 29\, 2026\n7:00 p.m.\nGreen Road Community Center\, Room 2\, 4201 Green Rd\, Raleigh NC\, 27604\n4017 Watkins Rd\nPre-Submittal \nR-4 TO R-10-CU \n(Additional Information)\nB\nGeorge McIntyre\nHunt
URL:https://livableraleigh.com/event/neighborhood-rezoning-meeting-4017-watkins-road/
LOCATION:Green Road Community Center
CATEGORIES:Engagement Filter,Neighborhood Meeting (Zoning)
END:VEVENT
BEGIN:VEVENT
DTSTART;TZID=America/New_York:20260504T180000
DTEND;TZID=America/New_York:20260504T190000
DTSTAMP:20260420T032730
CREATED:20260419T170348Z
LAST-MODIFIED:20260419T170348Z
UID:53586-1777917600-1777921200@livableraleigh.com
SUMMARY:Neighborhood Rezoning Meeting: 6702\, 6710\, & 6518 Rock Quarry Road (Z-12-26)
DESCRIPTION:May 4\, 2026\n6:00 p.m.\nBarwell Road Community Center\, 5857 Barwell Park Drive\, Raleigh\, NC 27610\n6702\, 6710\, and 6518 Rock Quarry Road \nZ-12-26\nPost-Submittal \nCX-3-CU TO CX-4-CU \n(Additional Information)\nC\nWorth Mills\nMarziano II
URL:https://livableraleigh.com/event/neighborhood-rezoning-meeting-6702-6710-6518-rock-quarry-road-z-12-26/
LOCATION:Barwell Road Community Center\, 5857 Barwell Park Dr\, Raleigh\, NC\, 27610\, United States
CATEGORIES:Engagement Filter,Neighborhood Meeting (Zoning)
END:VEVENT
BEGIN:VEVENT
DTSTART;TZID=America/New_York:20260518T140000
DTEND;TZID=America/New_York:20260518T163000
DTSTAMP:20260420T032730
CREATED:20260418T183631Z
LAST-MODIFIED:20260418T183631Z
UID:53475-1779112800-1779121800@livableraleigh.com
SUMMARY:Employment Access for All: An Interactive Dialogue on Disability and Employment
DESCRIPTION:Come take an afternoon break and enjoy some refreshments while talking about disability and employment. \nDate: Monday\, May 18\nTime: 2-4:30 p.m.\nLocation: The McKimmon Center\, 1101 Gorman St \nThe event will feature keynote speaker Blaire Johnston\, ADA Business Partner in the City of Charlotte Human Resources Department; a panel of individuals with disabilities who are successfully employed; and an interactive activity. \nSpace is limited and registration is required. If you will require an accommodation\, please register with request by May 8\, 2026.
URL:https://livableraleigh.com/event/employment-access-for-all-an-interactive-dialogue-on-disability-and-employment/
LOCATION:McKimmon Center\, NCSU McKimmon Center 1101 Gorman Street\, Raleigh\, NC\, 27606\, United States
CATEGORIES:Engagement Filter,Other
END:VEVENT
END:VCALENDAR