BEGIN:VCALENDAR
VERSION:2.0
PRODID:-//Livable Raleigh - ECPv6.15.20//NONSGML v1.0//EN
CALSCALE:GREGORIAN
METHOD:PUBLISH
X-WR-CALNAME:Livable Raleigh
X-ORIGINAL-URL:https://livableraleigh.com
X-WR-CALDESC:Events for Livable Raleigh
REFRESH-INTERVAL;VALUE=DURATION:PT1H
X-Robots-Tag:noindex
X-PUBLISHED-TTL:PT1H
BEGIN:VTIMEZONE
TZID:America/New_York
BEGIN:DAYLIGHT
TZOFFSETFROM:-0500
TZOFFSETTO:-0400
TZNAME:EDT
DTSTART:20250309T070000
END:DAYLIGHT
BEGIN:STANDARD
TZOFFSETFROM:-0400
TZOFFSETTO:-0500
TZNAME:EST
DTSTART:20251102T060000
END:STANDARD
BEGIN:DAYLIGHT
TZOFFSETFROM:-0500
TZOFFSETTO:-0400
TZNAME:EDT
DTSTART:20260308T070000
END:DAYLIGHT
BEGIN:STANDARD
TZOFFSETFROM:-0400
TZOFFSETTO:-0500
TZNAME:EST
DTSTART:20261101T060000
END:STANDARD
BEGIN:DAYLIGHT
TZOFFSETFROM:-0500
TZOFFSETTO:-0400
TZNAME:EDT
DTSTART:20270314T070000
END:DAYLIGHT
BEGIN:STANDARD
TZOFFSETFROM:-0400
TZOFFSETTO:-0500
TZNAME:EST
DTSTART:20271107T060000
END:STANDARD
END:VTIMEZONE
BEGIN:VEVENT
DTSTART;TZID=America/New_York:20260319T163000
DTEND;TZID=America/New_York:20260319T183000
DTSTAMP:20260420T002957
CREATED:20260130T015525Z
LAST-MODIFIED:20260319T185648Z
UID:51092-1773937800-1773945000@livableraleigh.com
SUMMARY:Design Review Commission Annual Retreat
DESCRIPTION:Annual Retreat – March 19\, 2026\nThe Design Review Commission will conduct its Annual Retreat that is open to the public and will be held on Thursday\, March 19\, 2026\, starting at 4:30 p.m. at the Thomas G. Crowder Woodland Center\, 5611 Jaguar Park Dr.\, Raleigh\, NC 27606. \nFor more information about the meeting\, please contact Kasey Evans or visit the Design Review Commission webpage. \n\n\n\n\n\nA.\n\nCall to Order\n\n\n\n\n\n\n\n\n\n\n\n\n\n\n\n\n\n\n\n\n\n\nDesign Review Commission Annual Retreat \nThomas G Crowder Woodland Center – 5611 Jaguar Park Dr\, Raleigh NC 27606 \n\n\n\n\n\n\n\n\n\nB.\n\nAnnual Retreat\n\n\n\n\n\n\n\n\n\n\n\n\n\n\n\n\n\n\n\n\n\n\n\nB.1\n\nApproval of Minutes\n\n\n\n\n\n\n\n\n\n\n\n\n\n\n\n\n\n\n\n\n\n\nReview and approval of the February 19\, 2026 Design Review Commission meeting minutes. \n\n\n\n\n\n\n\n\n\nB.2\n\nAnnual Report\n\n\n\n\n\n\n\n\n\n\n\n\n\n\n\n\n\n\n\n\n\n\nReview and approve the 2025 annual report and FY27 work plan \n\n\n\n\n\n\n\n\n\nB.3\n\nPresentation of the Commission’s Attorney\n\n\n\n\n\n\n\n\n\n\n\n\n\n\n\n\n\n\n\n\n\n\n\nB.4\n\nDesign Impact Grant\n\n\n\n\n\n\n\n\n\n\n\n\n\n\n\n\n\n\n\n\n\n\nReview Design Impact Grant applications \n\n\n\n\n\n\n\n\n\n\n\nC.\n\nAdjournment
URL:https://livableraleigh.com/event/design-review-commission-43/
LOCATION:Thomas G. Crowder Woodland Center\, 5611 Jaguar Park Drive\, Raleigh\, NC\, 27606\, United States
CATEGORIES:Design Review Commission,Engagement Filter,Virtual
END:VEVENT
BEGIN:VEVENT
DTSTART;TZID=America/New_York:20260319T173000
DTEND;TZID=America/New_York:20260319T183000
DTSTAMP:20260420T002957
CREATED:20260310T143611Z
LAST-MODIFIED:20260310T143611Z
UID:52583-1773941400-1773945000@livableraleigh.com
SUMMARY:Neighborhood Rezoning Meeting: 709 Sardis Drive
DESCRIPTION:March 19\, 2026\n5:30 p.m.\nCarolina Pines Community Center\, 2305 Lake Wheeler Road\, Raleigh\, NC 27603\n709 Sardis Dr\nPre-Submittal \nR-6-SRPOD & R-10-SRPOD TO R-10-SRPOD \n(Additional Information)\nD\nDavis Ray\nBurns
URL:https://livableraleigh.com/event/neighborhood-rezoning-meeting-709-sardis-drive/
LOCATION:Carolina Pines Community Center\, 2305 Lake Wheeler Road\, Raleigh\, NC\, 27603\, United States
CATEGORIES:Engagement Filter,Neighborhood Meeting (Zoning)
END:VEVENT
BEGIN:VEVENT
DTSTART;TZID=America/New_York:20260319T180000
DTEND;TZID=America/New_York:20260319T190000
DTSTAMP:20260420T002957
CREATED:20260312T203912Z
LAST-MODIFIED:20260312T203912Z
UID:52655-1773943200-1773946800@livableraleigh.com
SUMMARY:Provide Your Input on the City's Affordable Housing and Community Development Needs for 2026-2027
DESCRIPTION:Provide Your Input on the City’s Affordable Housing and Community Development Needs for 2026-2027 \nEach year\, the City of Raleigh receives funds from the U.S. Department of Housing and Urban Development (HUD). These funds are used for affordable housing initiatives. Initiatives include creating affordable rental and homeownership housing\, helping those experiencing or at-risk of homelessness\, providing public services to persons with low- and moderate-incomes\, and supporting community development needs. \nThe City of Raleigh is projected to get $4.5 million in federal funding next year. We need your input on how to use it! \nThe FY2026-2027 Action Plan Draft is ready to review and available for public comment through April 15. \nWays to provide comments: \n\nEmail written comments to housing@raleighnc.gov\nMail written comments to “Housing and Community Development Department\, P.O. Box 590\, Raleigh\, NC 27602”\nCall 919-996-4330\n\n\n\n\n\n\n\n\nAttend a Public Meeting to Learn More and Make Your Voice Heard \nThe City of Raleigh Housing and Community Development Department will host two public meetings and a Public Hearing to receive input from the community on the draft 2026-2027 Annual Action Plan. Join us in person or virtually at one of the dates below: \n\nIn Person – Tuesday\, March 17\n6:00 – 7:00 p.m.\nChavis Community Center\, Reception Hall\n505 Martin Luther King Jr. Blvd\, Raleigh\, NC 27601\nVirtual – Thursday\, March 19\n6:00 – 7:00 p.m.\nJoin Meeting\nPublic Hearing (pending City Council authorization) – Tuesday\, April 7\n7:00 p.m.\nCity of Raleigh Council Chambers\, Raleigh Municipal Building\n222 W. Hargett St\, Raleigh\, NC 27601\n\nTo speak at the public hearing\, please sign up by 5:00 PM on the Friday before the hearing. Visit the City of Raleigh Public Hearings web page for more information. You may also call the Clerk’s office at 919-996-3040 to sign up. \nAccessibility and Language Services \nInterpreter services (including American Sign Language) and accommodations for persons with disabilities or limited English proficiency are available at no cost with advance notice. Please allow at least five (5) business days for arrangements. Requests may be submitted via the City’s Public Hearings web page or by contacting the City Clerk’s Office.\n\n\n\n\n\n\n\n\nQuestions? Contact housing@raleighnc.gov or 919-996-4330
URL:https://livableraleigh.com/event/provide-your-input-on-the-citys-affordable-housing-and-community-development-needs-for-2026-2027-2/
LOCATION:NC
CATEGORIES:Community and Workshops,Engagement Filter,Virtual
END:VEVENT
END:VCALENDAR