BEGIN:VCALENDAR
VERSION:2.0
PRODID:-//Livable Raleigh - ECPv6.15.20//NONSGML v1.0//EN
CALSCALE:GREGORIAN
METHOD:PUBLISH
X-WR-CALNAME:Livable Raleigh
X-ORIGINAL-URL:https://livableraleigh.com
X-WR-CALDESC:Events for Livable Raleigh
REFRESH-INTERVAL;VALUE=DURATION:PT1H
X-Robots-Tag:noindex
X-PUBLISHED-TTL:PT1H
BEGIN:VTIMEZONE
TZID:America/New_York
BEGIN:DAYLIGHT
TZOFFSETFROM:-0500
TZOFFSETTO:-0400
TZNAME:EDT
DTSTART:20250309T070000
END:DAYLIGHT
BEGIN:STANDARD
TZOFFSETFROM:-0400
TZOFFSETTO:-0500
TZNAME:EST
DTSTART:20251102T060000
END:STANDARD
BEGIN:DAYLIGHT
TZOFFSETFROM:-0500
TZOFFSETTO:-0400
TZNAME:EDT
DTSTART:20260308T070000
END:DAYLIGHT
BEGIN:STANDARD
TZOFFSETFROM:-0400
TZOFFSETTO:-0500
TZNAME:EST
DTSTART:20261101T060000
END:STANDARD
BEGIN:DAYLIGHT
TZOFFSETFROM:-0500
TZOFFSETTO:-0400
TZNAME:EDT
DTSTART:20270314T070000
END:DAYLIGHT
BEGIN:STANDARD
TZOFFSETFROM:-0400
TZOFFSETTO:-0500
TZNAME:EST
DTSTART:20271107T060000
END:STANDARD
END:VTIMEZONE
BEGIN:VEVENT
DTSTART;TZID=America/New_York:20260312T190000
DTEND;TZID=America/New_York:20260312T203000
DTSTAMP:20260420T002950
CREATED:20260305T140357Z
LAST-MODIFIED:20260305T140357Z
UID:52145-1773342000-1773347400@livableraleigh.com
SUMMARY:Southeast CAC Community meeting
DESCRIPTION:March 12\,2026\, 7:00 PM Barwell Road Community Center \n         Agenda:  \n\nWelcome/Introductions – Dr Ulysses J Lane\, SECAC Chair\n\n-CAC Overview Video \n\nParks and Recreation Cultural Resources \n\nBarwell Road Community Center\, Director Colleen Toomey\nBarwell Road Community Garden\n\n\nPublic Safety Community Reports\n\nWake County Sheriff Office\, Deputy Ryne Doxsie \nRaleigh Police Department | Officer Lee Rodrick\n\n\n\n        4.Southeast Raleigh Promise-A Model of Community      Development \n           5.Wake County Commissioner Update \n 6.South CAC Reactivation Update.  \n\n Community Announcements\n\n          – Southeast CAC Registered Neighborhoods \n         -Next SECAC Meeting-May 14\,2026 \n           Meeting Adjourned! \n Follow SECAC on Facebook:     https://www.facebook.com/SERALEIGHCAC11-7-2025111
URL:https://livableraleigh.com/event/southeast-cac-community-meeting/
LOCATION:Barwell Road Community Center\, 5857 Barwell Park Dr\, Raleigh\, NC\, 27610\, United States
CATEGORIES:CAC,Engagement Filter
END:VEVENT
END:VCALENDAR