BEGIN:VCALENDAR
VERSION:2.0
PRODID:-//Livable Raleigh - ECPv6.15.20//NONSGML v1.0//EN
CALSCALE:GREGORIAN
METHOD:PUBLISH
X-ORIGINAL-URL:https://livableraleigh.com
X-WR-CALDESC:Events for Livable Raleigh
REFRESH-INTERVAL;VALUE=DURATION:PT1H
X-Robots-Tag:noindex
X-PUBLISHED-TTL:PT1H
BEGIN:VTIMEZONE
TZID:America/New_York
BEGIN:DAYLIGHT
TZOFFSETFROM:-0500
TZOFFSETTO:-0400
TZNAME:EDT
DTSTART:20230312T070000
END:DAYLIGHT
BEGIN:STANDARD
TZOFFSETFROM:-0400
TZOFFSETTO:-0500
TZNAME:EST
DTSTART:20231105T060000
END:STANDARD
BEGIN:DAYLIGHT
TZOFFSETFROM:-0500
TZOFFSETTO:-0400
TZNAME:EDT
DTSTART:20240310T070000
END:DAYLIGHT
BEGIN:STANDARD
TZOFFSETFROM:-0400
TZOFFSETTO:-0500
TZNAME:EST
DTSTART:20241103T060000
END:STANDARD
BEGIN:DAYLIGHT
TZOFFSETFROM:-0500
TZOFFSETTO:-0400
TZNAME:EDT
DTSTART:20250309T070000
END:DAYLIGHT
BEGIN:STANDARD
TZOFFSETFROM:-0400
TZOFFSETTO:-0500
TZNAME:EST
DTSTART:20251102T060000
END:STANDARD
END:VTIMEZONE
BEGIN:VEVENT
DTSTART;TZID=America/New_York:20240626T190000
DTEND;TZID=America/New_York:20240626T203000
DTSTAMP:20260425T201953
CREATED:20240624T183924Z
LAST-MODIFIED:20240624T183924Z
UID:38932-1719428400-1719433800@livableraleigh.com
SUMMARY:West Raleigh CAC Meeting
DESCRIPTION:Meeting on Wednesday June 26th at 7pm\n\nIt’s time to meet and talk about what’s going in in West Raleigh! This month we are holding space to hear from you regarding concerns\, celebrations or helpful tips on navigating the city website. We hope you can join us via zoom on this Wednesday evening at 7pm.\n\n\nJoin Zoom Meeting\nhttps://us02web.zoom.us/j/83981292620\nMeeting ID: 839 8129 2620\nOne tap mobile\n+16469313860\,\,83981292620# US\n+19292056099\,\,83981292620# US (New York)
URL:https://livableraleigh.com/event/west-raleigh-cac-meeting-2/
CATEGORIES:CAC,Engagement Filter
END:VEVENT
END:VCALENDAR