BEGIN:VCALENDAR
VERSION:2.0
PRODID:-//Livable Raleigh - ECPv6.15.20//NONSGML v1.0//EN
CALSCALE:GREGORIAN
METHOD:PUBLISH
X-ORIGINAL-URL:https://livableraleigh.com
X-WR-CALDESC:Events for Livable Raleigh
REFRESH-INTERVAL;VALUE=DURATION:PT1H
X-Robots-Tag:noindex
X-PUBLISHED-TTL:PT1H
BEGIN:VTIMEZONE
TZID:America/New_York
BEGIN:DAYLIGHT
TZOFFSETFROM:-0500
TZOFFSETTO:-0400
TZNAME:EDT
DTSTART:20230312T070000
END:DAYLIGHT
BEGIN:STANDARD
TZOFFSETFROM:-0400
TZOFFSETTO:-0500
TZNAME:EST
DTSTART:20231105T060000
END:STANDARD
BEGIN:DAYLIGHT
TZOFFSETFROM:-0500
TZOFFSETTO:-0400
TZNAME:EDT
DTSTART:20240310T070000
END:DAYLIGHT
BEGIN:STANDARD
TZOFFSETFROM:-0400
TZOFFSETTO:-0500
TZNAME:EST
DTSTART:20241103T060000
END:STANDARD
BEGIN:DAYLIGHT
TZOFFSETFROM:-0500
TZOFFSETTO:-0400
TZNAME:EDT
DTSTART:20250309T070000
END:DAYLIGHT
BEGIN:STANDARD
TZOFFSETFROM:-0400
TZOFFSETTO:-0500
TZNAME:EST
DTSTART:20251102T060000
END:STANDARD
END:VTIMEZONE
BEGIN:VEVENT
DTSTART;TZID=America/New_York:20240608T130000
DTEND;TZID=America/New_York:20240608T160000
DTSTAMP:20260425T152355
CREATED:20240427T134356Z
LAST-MODIFIED:20240427T134356Z
UID:37797-1717851600-1717862400@livableraleigh.com
SUMMARY:Local Government Career Expo
DESCRIPTION:Date: Saturday\, June 8 \nTime: 1 p.m. until 4 p.m. \nLocation:NCSU McKimmon Center1101 Gorman St.Raleigh\, NC 27606 \nJoin the City of Raleigh\, Wake County\, and over 40 other employers at the first-ever Local Government Career Expo! Network\, connect\, and learn more about the immense benefits of working in local government. \nFor the most up-to-date information\, visit logocareerexpo.com
URL:https://livableraleigh.com/event/local-government-career-expo/
LOCATION:McKimmon Center\, NCSU McKimmon Center 1101 Gorman Street\, Raleigh\, NC\, 27606\, United States
CATEGORIES:Engagement Filter,Other
END:VEVENT
END:VCALENDAR