BEGIN:VCALENDAR
VERSION:2.0
PRODID:-//Livable Raleigh - ECPv6.15.20//NONSGML v1.0//EN
CALSCALE:GREGORIAN
METHOD:PUBLISH
X-ORIGINAL-URL:https://livableraleigh.com
X-WR-CALDESC:Events for Livable Raleigh
REFRESH-INTERVAL;VALUE=DURATION:PT1H
X-Robots-Tag:noindex
X-PUBLISHED-TTL:PT1H
BEGIN:VTIMEZONE
TZID:America/New_York
BEGIN:DAYLIGHT
TZOFFSETFROM:-0500
TZOFFSETTO:-0400
TZNAME:EDT
DTSTART:20230312T070000
END:DAYLIGHT
BEGIN:STANDARD
TZOFFSETFROM:-0400
TZOFFSETTO:-0500
TZNAME:EST
DTSTART:20231105T060000
END:STANDARD
BEGIN:DAYLIGHT
TZOFFSETFROM:-0500
TZOFFSETTO:-0400
TZNAME:EDT
DTSTART:20240310T070000
END:DAYLIGHT
BEGIN:STANDARD
TZOFFSETFROM:-0400
TZOFFSETTO:-0500
TZNAME:EST
DTSTART:20241103T060000
END:STANDARD
BEGIN:DAYLIGHT
TZOFFSETFROM:-0500
TZOFFSETTO:-0400
TZNAME:EDT
DTSTART:20250309T070000
END:DAYLIGHT
BEGIN:STANDARD
TZOFFSETFROM:-0400
TZOFFSETTO:-0500
TZNAME:EST
DTSTART:20251102T060000
END:STANDARD
END:VTIMEZONE
BEGIN:VEVENT
DTSTART;TZID=America/New_York:20240530T170000
DTEND;TZID=America/New_York:20240530T190000
DTSTAMP:20260425T174834
CREATED:20240509T014705Z
LAST-MODIFIED:20240522T163105Z
UID:38011-1717088400-1717095600@livableraleigh.com
SUMMARY:Councilor Patton District B Meeting
DESCRIPTION:Councilor Patton announced next meeting will be May 30 from 5-7pm at Little Blue Bakehouse on New Bern Avenue
URL:https://livableraleigh.com/event/councilor-patton-district-b-meeting-3/
LOCATION:Little Blue Bakehouse\, 2116-H New Bern Ave\, 27610
CATEGORIES:Council District Meeting,Engagement Filter
END:VEVENT
BEGIN:VEVENT
DTSTART;TZID=America/New_York:20240530T180000
DTEND;TZID=America/New_York:20240530T190000
DTSTAMP:20260425T174834
CREATED:20240520T134500Z
LAST-MODIFIED:20240520T134500Z
UID:38251-1717092000-1717095600@livableraleigh.com
SUMMARY:Neighborhood Rezoning Meeting -- 601\, 605 Carolina Avenue & 600 Grove Avenue
DESCRIPTION:May 30\, 2024 6:00 p.m.\n601B Carolina Avenue\, Raleigh\, NC 27606\n601\, 605 Carolina Ave & 600 Grove Ave\nPre-Submittal \nR-10-CU TO R-10 \n(Additional Information)\nD\nDuane Williams \n252-4433242\nBurns
URL:https://livableraleigh.com/event/neighborhood-rezoning-meeting-601-605-carolina-avenue-600-grove-avenue/
LOCATION:601B Carolina Avenue\, 601B Carolina Avenue\, Raleigh\, 27606
CATEGORIES:Engagement Filter,Neighborhood Meeting (Zoning)
END:VEVENT
END:VCALENDAR