BEGIN:VCALENDAR
VERSION:2.0
PRODID:-//Livable Raleigh - ECPv6.15.20//NONSGML v1.0//EN
CALSCALE:GREGORIAN
METHOD:PUBLISH
X-ORIGINAL-URL:https://livableraleigh.com
X-WR-CALDESC:Events for Livable Raleigh
REFRESH-INTERVAL;VALUE=DURATION:PT1H
X-Robots-Tag:noindex
X-PUBLISHED-TTL:PT1H
BEGIN:VTIMEZONE
TZID:America/New_York
BEGIN:DAYLIGHT
TZOFFSETFROM:-0500
TZOFFSETTO:-0400
TZNAME:EDT
DTSTART:20230312T070000
END:DAYLIGHT
BEGIN:STANDARD
TZOFFSETFROM:-0400
TZOFFSETTO:-0500
TZNAME:EST
DTSTART:20231105T060000
END:STANDARD
BEGIN:DAYLIGHT
TZOFFSETFROM:-0500
TZOFFSETTO:-0400
TZNAME:EDT
DTSTART:20240310T070000
END:DAYLIGHT
BEGIN:STANDARD
TZOFFSETFROM:-0400
TZOFFSETTO:-0500
TZNAME:EST
DTSTART:20241103T060000
END:STANDARD
BEGIN:DAYLIGHT
TZOFFSETFROM:-0500
TZOFFSETTO:-0400
TZNAME:EDT
DTSTART:20250309T070000
END:DAYLIGHT
BEGIN:STANDARD
TZOFFSETFROM:-0400
TZOFFSETTO:-0500
TZNAME:EST
DTSTART:20251102T060000
END:STANDARD
END:VTIMEZONE
BEGIN:VEVENT
DTSTART;TZID=America/New_York:20240529T173000
DTEND;TZID=America/New_York:20240529T193000
DTSTAMP:20260425T163654
CREATED:20240523T112100Z
LAST-MODIFIED:20240523T112100Z
UID:38291-1717003800-1717011000@livableraleigh.com
SUMMARY:Election Reform Petition Signing Event
DESCRIPTION:At the Home of Donna Bailey \n\nWed\, May 29th\, Home of Donna Bailey – University Park  – 5:30PM to 7:30PM\n710 Rosemont Ave/ Raleigh\, NC 27607
URL:https://livableraleigh.com/event/election-reform-petition-signing-event-3/
LOCATION:Donna Bailey\, 710 Rosemont Ave\, Raleigh\, NC\, 27607
CATEGORIES:Community Engagement,Engagement Filter
END:VEVENT
BEGIN:VEVENT
DTSTART;TZID=America/New_York:20240529T190000
DTEND;TZID=America/New_York:20240529T203000
DTSTAMP:20260425T163654
CREATED:20240524T150610Z
LAST-MODIFIED:20240524T150610Z
UID:38320-1717009200-1717014600@livableraleigh.com
SUMMARY:Virtual Budget Discussion with Councilor Jane Harrison
DESCRIPTION:Virtual Budget Discussion on Weds\, May 29 | 7-8:30 pm \nI will go over the budget and provide time for community discussion & input in a virtual meeting. You can also provide comment at City’s Council public hearing on June 4th at 7 pm. The May 29th virtual meeting link is HERE.
URL:https://livableraleigh.com/event/virtual-budget-discussion-with-councilor-jane-harrison/
CATEGORIES:Budget,Council District Meeting,Engagement Filter
END:VEVENT
END:VCALENDAR