BEGIN:VCALENDAR
VERSION:2.0
PRODID:-//Livable Raleigh - ECPv6.15.20//NONSGML v1.0//EN
CALSCALE:GREGORIAN
METHOD:PUBLISH
X-WR-CALNAME:Livable Raleigh
X-ORIGINAL-URL:https://livableraleigh.com
X-WR-CALDESC:Events for Livable Raleigh
REFRESH-INTERVAL;VALUE=DURATION:PT1H
X-Robots-Tag:noindex
X-PUBLISHED-TTL:PT1H
BEGIN:VTIMEZONE
TZID:America/New_York
BEGIN:DAYLIGHT
TZOFFSETFROM:-0500
TZOFFSETTO:-0400
TZNAME:EDT
DTSTART:20230312T070000
END:DAYLIGHT
BEGIN:STANDARD
TZOFFSETFROM:-0400
TZOFFSETTO:-0500
TZNAME:EST
DTSTART:20231105T060000
END:STANDARD
BEGIN:DAYLIGHT
TZOFFSETFROM:-0500
TZOFFSETTO:-0400
TZNAME:EDT
DTSTART:20240310T070000
END:DAYLIGHT
BEGIN:STANDARD
TZOFFSETFROM:-0400
TZOFFSETTO:-0500
TZNAME:EST
DTSTART:20241103T060000
END:STANDARD
BEGIN:DAYLIGHT
TZOFFSETFROM:-0500
TZOFFSETTO:-0400
TZNAME:EDT
DTSTART:20250309T070000
END:DAYLIGHT
BEGIN:STANDARD
TZOFFSETFROM:-0400
TZOFFSETTO:-0500
TZNAME:EST
DTSTART:20251102T060000
END:STANDARD
END:VTIMEZONE
BEGIN:VEVENT
DTSTART;TZID=America/New_York:20240521T173000
DTEND;TZID=America/New_York:20240521T183000
DTSTAMP:20260425T213953
CREATED:20240520T134335Z
LAST-MODIFIED:20240520T134335Z
UID:38249-1716312600-1716316200@livableraleigh.com
SUMMARY:Neighborhood Meeting -- 721 Chappell Drive
DESCRIPTION:May 21\, 2024 5:30 p.m.\nPullen Community Center\, 408 Ashe Ave\, Raleigh\, NC 27606\n721 Chappell Dr\nPre-Submittal \nR-10 TO RX-3 \n(Additional Information)\nD\nIsabel Mattox\nBurns
URL:https://livableraleigh.com/event/neighborhood-meeting-721-chappell-drive/
LOCATION:Pullen Park Community Center\, 408 Ashe Ave\, Raleigh\, NC\, 27607
CATEGORIES:Engagement Filter,Neighborhood Meeting (Zoning)
END:VEVENT
END:VCALENDAR