BEGIN:VCALENDAR
VERSION:2.0
PRODID:-//Livable Raleigh - ECPv6.15.20//NONSGML v1.0//EN
CALSCALE:GREGORIAN
METHOD:PUBLISH
X-ORIGINAL-URL:https://livableraleigh.com
X-WR-CALDESC:Events for Livable Raleigh
REFRESH-INTERVAL;VALUE=DURATION:PT1H
X-Robots-Tag:noindex
X-PUBLISHED-TTL:PT1H
BEGIN:VTIMEZONE
TZID:America/New_York
BEGIN:DAYLIGHT
TZOFFSETFROM:-0500
TZOFFSETTO:-0400
TZNAME:EDT
DTSTART:20230312T070000
END:DAYLIGHT
BEGIN:STANDARD
TZOFFSETFROM:-0400
TZOFFSETTO:-0500
TZNAME:EST
DTSTART:20231105T060000
END:STANDARD
BEGIN:DAYLIGHT
TZOFFSETFROM:-0500
TZOFFSETTO:-0400
TZNAME:EDT
DTSTART:20240310T070000
END:DAYLIGHT
BEGIN:STANDARD
TZOFFSETFROM:-0400
TZOFFSETTO:-0500
TZNAME:EST
DTSTART:20241103T060000
END:STANDARD
BEGIN:DAYLIGHT
TZOFFSETFROM:-0500
TZOFFSETTO:-0400
TZNAME:EDT
DTSTART:20250309T070000
END:DAYLIGHT
BEGIN:STANDARD
TZOFFSETFROM:-0400
TZOFFSETTO:-0500
TZNAME:EST
DTSTART:20251102T060000
END:STANDARD
END:VTIMEZONE
BEGIN:VEVENT
DTSTART;TZID=America/New_York:20240520T180000
DTEND;TZID=America/New_York:20240520T190000
DTSTAMP:20260425T174832
CREATED:20240501T222605Z
LAST-MODIFIED:20240501T222605Z
UID:37855-1716228000-1716231600@livableraleigh.com
SUMMARY:Downtown South Quarterly Public Meeting
DESCRIPTION:Notice of Public Meeting \n\n\n\n\n\n\n\n\n\n\n\n\n\n\n\n\n\n\n\n\n\n\n\n\n\n\n\n\n\n\n\n\n\n\n\n\n\n\n\n\n\n\n\n\n\n\n\n\n\n\n\n\n\n\n\n\n\n\n\n\n\n\n\n\n\n\n\n\n\n\n\nThe Downtown South project will be hosting its quarterly public meeting on May 20th\, 2024\, from 6:00 – 7:00pm. This meeting will be held via Zoom. The Zoom link for the meeting can be found below: \n\nThis meeting is open to the public. Please share the below Zoom link with anyone who may be interested in learning more about the Downtown South project. \n\nZOOM INFORMATION: \nLink: https://morningstarlaw.group/5202024.mtg
URL:https://livableraleigh.com/event/downtown-south-quarterly-public-meeting-5/
CATEGORIES:Community and Workshops,Engagement Filter
END:VEVENT
BEGIN:VEVENT
DTSTART;TZID=America/New_York:20240520T190000
DTEND;TZID=America/New_York:20240520T210000
DTSTAMP:20260425T174832
CREATED:20240512T114039Z
LAST-MODIFIED:20240512T114039Z
UID:38128-1716231600-1716238800@livableraleigh.com
SUMMARY:Hybrid Midtown CAC Meeting
DESCRIPTION:Agenda \n\n\nHybrid Midtown Citizens Advisory Council Meeting \n\n\nMonday\, May 20\, 2024\, 7:00-9:00 pm \n\n\n1)   7:00           Call to Order and Welcome to Midtown CAC \n\n\n2)   7:05           Review of Minutes of Prior MCAC meetings\nDiscussion of Minutes\, Followed by Amendment / Vote \n\n\n3)   7:10           RPD officers Winkle and Garcia \n\n\n                        Activity and Crime Stats Report for Midtown \n\n\n                        Question and Answer \n\n\n4)   7:30           Neuse River Park\, Kyle Drive Park and other City Park Updates \n\n\n                        Emma Liles \n\n\n                        Capital Project Manager \n\n\n                        Raleigh Parks\, Recreation and Cultural Resources Department \n\n\n5)   8:00           City Council Updates \n\n\n6)   8:30           Old / New Business\, Announcements\, Remarks \n\n\n7)   9:00           Adjournment \n\n\n\n\n\nIn Person Location: \n\n\n                        Eastgate Park Community Center \n\n\n                        4200 Quail Hollow Drive \n\n\n                        Raleigh\, NC 27609 \n\n\n\n\n\nZoom Meeting Link: \n\n\nAvailable by Request \n\n\n\n\n\nVisit our Midtown CAC Facebook page: \n\n\n https://www.facebook.com/MidtownCAC
URL:https://livableraleigh.com/event/hybrid-midtown-cac-meeting-2/
LOCATION:Eastgate Park\, 4200 Quail Hollow Dr\,\, Raleigh\, NC\, 27609
CATEGORIES:CAC,Engagement Filter
END:VEVENT
END:VCALENDAR