BEGIN:VCALENDAR
VERSION:2.0
PRODID:-//Livable Raleigh - ECPv6.15.20//NONSGML v1.0//EN
CALSCALE:GREGORIAN
METHOD:PUBLISH
X-ORIGINAL-URL:https://livableraleigh.com
X-WR-CALDESC:Events for Livable Raleigh
REFRESH-INTERVAL;VALUE=DURATION:PT1H
X-Robots-Tag:noindex
X-PUBLISHED-TTL:PT1H
BEGIN:VTIMEZONE
TZID:America/New_York
BEGIN:DAYLIGHT
TZOFFSETFROM:-0500
TZOFFSETTO:-0400
TZNAME:EDT
DTSTART:20230312T070000
END:DAYLIGHT
BEGIN:STANDARD
TZOFFSETFROM:-0400
TZOFFSETTO:-0500
TZNAME:EST
DTSTART:20231105T060000
END:STANDARD
BEGIN:DAYLIGHT
TZOFFSETFROM:-0500
TZOFFSETTO:-0400
TZNAME:EDT
DTSTART:20240310T070000
END:DAYLIGHT
BEGIN:STANDARD
TZOFFSETFROM:-0400
TZOFFSETTO:-0500
TZNAME:EST
DTSTART:20241103T060000
END:STANDARD
BEGIN:DAYLIGHT
TZOFFSETFROM:-0500
TZOFFSETTO:-0400
TZNAME:EDT
DTSTART:20250309T070000
END:DAYLIGHT
BEGIN:STANDARD
TZOFFSETFROM:-0400
TZOFFSETTO:-0500
TZNAME:EST
DTSTART:20251102T060000
END:STANDARD
END:VTIMEZONE
BEGIN:VEVENT
DTSTART;TZID=America/New_York:20240518T100000
DTEND;TZID=America/New_York:20240518T113000
DTSTAMP:20260425T174823
CREATED:20240509T015126Z
LAST-MODIFIED:20240509T015126Z
UID:38017-1716026400-1716031800@livableraleigh.com
SUMMARY:Councilor Branch District C Meeting
DESCRIPTION:
URL:https://livableraleigh.com/event/councilor-branch-district-c-meeting/
LOCATION:1214 E Lenoir Street\, 1214 E Lenoir St\, Raleigh\, NC\, 27610
CATEGORIES:Council District Meeting,Engagement Filter
END:VEVENT
BEGIN:VEVENT
DTSTART;TZID=America/New_York:20240518T110000
DTEND;TZID=America/New_York:20240518T160000
DTSTAMP:20260425T174823
CREATED:20240518T024829Z
LAST-MODIFIED:20240518T024829Z
UID:38189-1716030000-1716048000@livableraleigh.com
SUMMARY:Election Reform Petition Signing Event
DESCRIPTION:Come Sing the petition or Turn in your completed forms \nMillbrook Exchange Park Community Center
URL:https://livableraleigh.com/event/election-reform-petition-signing-event/
LOCATION:Millbrook Exchange Park\, 1905 Spring Forest Rd\, Raleigh\, NC\, 27615
CATEGORIES:Engagement Filter
END:VEVENT
BEGIN:VEVENT
DTSTART;TZID=America/New_York:20240518T123000
DTEND;TZID=America/New_York:20240518T140000
DTSTAMP:20260425T174823
CREATED:20240509T015043Z
LAST-MODIFIED:20240509T180350Z
UID:38015-1716035400-1716040800@livableraleigh.com
SUMMARY:Councilor Black's District A Meeting
DESCRIPTION:
URL:https://livableraleigh.com/event/councilor-blacks-district-a-meeting/
LOCATION:Millbrook Exchange Park\, 1905 Spring Forest Rd\, Raleigh\, NC\, 27615
CATEGORIES:Council District Meeting,Engagement Filter
END:VEVENT
END:VCALENDAR