BEGIN:VCALENDAR
VERSION:2.0
PRODID:-//Livable Raleigh - ECPv6.15.20//NONSGML v1.0//EN
CALSCALE:GREGORIAN
METHOD:PUBLISH
X-WR-CALNAME:Livable Raleigh
X-ORIGINAL-URL:https://livableraleigh.com
X-WR-CALDESC:Events for Livable Raleigh
REFRESH-INTERVAL;VALUE=DURATION:PT1H
X-Robots-Tag:noindex
X-PUBLISHED-TTL:PT1H
BEGIN:VTIMEZONE
TZID:America/New_York
BEGIN:DAYLIGHT
TZOFFSETFROM:-0500
TZOFFSETTO:-0400
TZNAME:EDT
DTSTART:20230312T070000
END:DAYLIGHT
BEGIN:STANDARD
TZOFFSETFROM:-0400
TZOFFSETTO:-0500
TZNAME:EST
DTSTART:20231105T060000
END:STANDARD
BEGIN:DAYLIGHT
TZOFFSETFROM:-0500
TZOFFSETTO:-0400
TZNAME:EDT
DTSTART:20240310T070000
END:DAYLIGHT
BEGIN:STANDARD
TZOFFSETFROM:-0400
TZOFFSETTO:-0500
TZNAME:EST
DTSTART:20241103T060000
END:STANDARD
BEGIN:DAYLIGHT
TZOFFSETFROM:-0500
TZOFFSETTO:-0400
TZNAME:EDT
DTSTART:20250309T070000
END:DAYLIGHT
BEGIN:STANDARD
TZOFFSETFROM:-0400
TZOFFSETTO:-0500
TZNAME:EST
DTSTART:20251102T060000
END:STANDARD
END:VTIMEZONE
BEGIN:VEVENT
DTSTART;TZID=America/New_York:20240514T173000
DTEND;TZID=America/New_York:20240514T190000
DTSTAMP:20260425T201702
CREATED:20240509T231008Z
LAST-MODIFIED:20240509T231008Z
UID:38038-1715707800-1715713200@livableraleigh.com
SUMMARY:Mordecai CAC
DESCRIPTION:Join us on May 14 at the Person Street Bar\nPlease join the Person Street Partnership (PSP) and the Mordecai CAC on Tuesday May 14\, 2024 at the Person Street Bar 5:30 to 7pm for a joint celebration of the success of the PSP which started with its first meeting at the Urban Design Center in March of 2011. \nThe partnership was founded by Philip Bernard\, former Mordecai CAC co-chair and current Mordecai Traffic chair as a way to revitalize the North Person Street business district by making changes to Blount and Person Streets in order to calm traffic in the district. The PSP advocated for the funding of the Blount/Person Street and Wake Forest corridor study which subsequently resulted in funding for Phase One of the corridor project\, the “road diet” which was completed in 2021. \nSince its inception\, the PSP has organized quarterly meetings and “visioning presentations” with NC State’s graduate school of Architecture and Design\, business and property owners\, the surrounding neighborhoods including Mordecai and Oakwood\, William Peace University\, Raleigh City Council and Staff\, and anyone who wished to see North Person Street flourish as a neighborhood business district. \nIn 2014\, the PSP was awarded a Sir Walter Raleigh award for community appearance and was also named one of the ten most up and coming downtown neighborhood business districts in the country by USA Today. The PSP has partnered with the Village at Pilot Mill to create the Holiday Light-ball Project and the City of Raleigh and Downtown Raleigh Alliance to create the Person Street Bench project and the “Build a Better Person” mural. So please plan to join us on May 14 to celebrate our many successes. This will be Philip Bernard’s last official gathering as leader of the group as he plans to step down to pursue other interests. Join other PSP partners as we continue exploring new ways to “Build a Better Person” and new directions for the PSP.
URL:https://livableraleigh.com/event/mordecai-cac-6/
LOCATION:Person Street Bar\, 805 N. Person Street\, Raleigh
CATEGORIES:CAC,Engagement Filter
END:VEVENT
END:VCALENDAR