BEGIN:VCALENDAR
VERSION:2.0
PRODID:-//Livable Raleigh - ECPv6.15.20//NONSGML v1.0//EN
CALSCALE:GREGORIAN
METHOD:PUBLISH
X-WR-CALNAME:Livable Raleigh
X-ORIGINAL-URL:https://livableraleigh.com
X-WR-CALDESC:Events for Livable Raleigh
REFRESH-INTERVAL;VALUE=DURATION:PT1H
X-Robots-Tag:noindex
X-PUBLISHED-TTL:PT1H
BEGIN:VTIMEZONE
TZID:America/New_York
BEGIN:DAYLIGHT
TZOFFSETFROM:-0500
TZOFFSETTO:-0400
TZNAME:EDT
DTSTART:20230312T070000
END:DAYLIGHT
BEGIN:STANDARD
TZOFFSETFROM:-0400
TZOFFSETTO:-0500
TZNAME:EST
DTSTART:20231105T060000
END:STANDARD
BEGIN:DAYLIGHT
TZOFFSETFROM:-0500
TZOFFSETTO:-0400
TZNAME:EDT
DTSTART:20240310T070000
END:DAYLIGHT
BEGIN:STANDARD
TZOFFSETFROM:-0400
TZOFFSETTO:-0500
TZNAME:EST
DTSTART:20241103T060000
END:STANDARD
BEGIN:DAYLIGHT
TZOFFSETFROM:-0500
TZOFFSETTO:-0400
TZNAME:EDT
DTSTART:20250309T070000
END:DAYLIGHT
BEGIN:STANDARD
TZOFFSETFROM:-0400
TZOFFSETTO:-0500
TZNAME:EST
DTSTART:20251102T060000
END:STANDARD
END:VTIMEZONE
BEGIN:VEVENT
DTSTART;TZID=America/New_York:20240509T170000
DTEND;TZID=America/New_York:20240509T200000
DTSTAMP:20260425T201757
CREATED:20240427T131023Z
LAST-MODIFIED:20240427T131023Z
UID:37758-1715274000-1715284800@livableraleigh.com
SUMMARY:Pregunte Al Doc: Reunion Comunitaria Del Condado de Wake
DESCRIPTION:Participa con nuestro panel de expertos y adolescentes en esta edición especial para jóvenes de la serie Pregunte al Doc del ayuntamiento. En colaboración con el Consejo para la Salud Juvenil del Condado de Wake\, exploraremos las cuestiones urgentes de la salud mental\, el COVID-19 y el vapeo\, ofreciendo ideas y recursos esenciales. ¿Tienes preguntas candentes? Participa en una sesión interactiva de preguntas que nuestro panel de expertos responderá directamente. Además\, no te pierdas la oportunidad de conectar con organizaciones que ofrecen recursos invaluables en una sesión de presentaciones. \nMás información \nRSVP at wake.gov/PregunteAlDoc \nNote: This event is organized by Wake County. Raleigh’s Housing and Neighborhoods Department wants to make sure Raleigh residents who need this service are aware.
URL:https://livableraleigh.com/event/pregunte-al-doc-reunion-comunitaria-del-condado-de-wake/
LOCATION:Fiesta Cristiana\, 100 S. Hughes St.\, Apex\, NC\, 27502
CATEGORIES:Community and Workshops,Engagement Filter
END:VEVENT
BEGIN:VEVENT
DTSTART;TZID=America/New_York:20240509T180000
DTEND;TZID=America/New_York:20240509T193000
DTSTAMP:20260425T201757
CREATED:20240405T151632Z
LAST-MODIFIED:20240405T151632Z
UID:37385-1715277600-1715283000@livableraleigh.com
SUMMARY:Human Relations Commission Meeting
DESCRIPTION:The Human Relations Commission works to promote human dignity\, equal opportunity and harmony among Raleigh residents. \nMeeting AddressRaleigh Pathways Center900 S. Wilmington StreetRaleigh\, NC 27601 \nAgendas and Minutes View agenda for upcoming meetings \nLearn more about the Human Relations Commission
URL:https://livableraleigh.com/event/human-relations-commission-meeting-6/
LOCATION:Raleigh Pathways Center\, 900 S. Wilmington Street
CATEGORIES:Engagement Filter,Human Relations
END:VEVENT
BEGIN:VEVENT
DTSTART;TZID=America/New_York:20240509T190000
DTEND;TZID=America/New_York:20240509T210000
DTSTAMP:20260425T201757
CREATED:20240501T135431Z
LAST-MODIFIED:20240509T023624Z
UID:37850-1715281200-1715288400@livableraleigh.com
SUMMARY:SE CAC
DESCRIPTION:SECAC May 2024 Community meeting Hosted by. Tanglewood HOA \nWhen: Thursday\, May 9\, 2024. \nWhere: Barwell Road Community Center \n5857 Barwell Park Drive. Raleigh\, NC 27610 \nTime: 7:00 pm \nThis meeting may be recorded to allow sharing with Southeast Raleigh residents. \nA few items will be presented at this meeting of concern to the community: \n\nNorth Carolina Department of Transportation\n\n         Off and on ramps at Interstate 40 and Jones Sauage Road update.   status of the Bridge construction on Rock Quarry Road\, Determination when bridges will be widened\, \n        2.Pending Rezoning Cases in Barwell area \n 400  Barwell Road (Z-2-24)\,  6027 Rock Quarry Road (Z-9-24) \, 1811 S. New Hope Road (Z-13-24) . \n\n Call for nominations of Officers for SECAC\n\n            Positions -Cochair\, Vice Chair\, Recording Secretary\, Multimedia Coordinator \n         1-Outside the Beltway Area (Barwell) and 2- Inside the Beltway Area (Worthdale  \n1 \n“Informed + Engaged=Empowered \nIf you are one of the Southeast Raleigh community organizations leaders\, we are requesting to know your availability for this meeting and who will represent you at this meeting. \nPlease start sharing this with neighbors in your community. \nIf you have any questions\, please contact me. \nHave a say in decisions affecting your community by participating in your CAC. \n-Follow SECAC on Facebook: https://www.facebook.com/SERALEIGHCAC \nUlysses J Lane VMD \nSECAC Chair \nulane6@nc.rr.com \n919-247-0988
URL:https://livableraleigh.com/event/se-cac/
LOCATION:Barwell Road Community Center\, 5857 Barwell Park Dr\, Raleigh\, NC\, 27610\, United States
CATEGORIES:CAC,Engagement Filter
END:VEVENT
END:VCALENDAR