BEGIN:VCALENDAR
VERSION:2.0
PRODID:-//Livable Raleigh - ECPv6.15.20//NONSGML v1.0//EN
CALSCALE:GREGORIAN
METHOD:PUBLISH
X-ORIGINAL-URL:https://livableraleigh.com
X-WR-CALDESC:Events for Livable Raleigh
REFRESH-INTERVAL;VALUE=DURATION:PT1H
X-Robots-Tag:noindex
X-PUBLISHED-TTL:PT1H
BEGIN:VTIMEZONE
TZID:America/New_York
BEGIN:DAYLIGHT
TZOFFSETFROM:-0500
TZOFFSETTO:-0400
TZNAME:EDT
DTSTART:20230312T070000
END:DAYLIGHT
BEGIN:STANDARD
TZOFFSETFROM:-0400
TZOFFSETTO:-0500
TZNAME:EST
DTSTART:20231105T060000
END:STANDARD
BEGIN:DAYLIGHT
TZOFFSETFROM:-0500
TZOFFSETTO:-0400
TZNAME:EDT
DTSTART:20240310T070000
END:DAYLIGHT
BEGIN:STANDARD
TZOFFSETFROM:-0400
TZOFFSETTO:-0500
TZNAME:EST
DTSTART:20241103T060000
END:STANDARD
BEGIN:DAYLIGHT
TZOFFSETFROM:-0500
TZOFFSETTO:-0400
TZNAME:EDT
DTSTART:20250309T070000
END:DAYLIGHT
BEGIN:STANDARD
TZOFFSETFROM:-0400
TZOFFSETTO:-0500
TZNAME:EST
DTSTART:20251102T060000
END:STANDARD
END:VTIMEZONE
BEGIN:VEVENT
DTSTART;TZID=America/New_York:20240501T083000
DTEND;TZID=America/New_York:20240501T100000
DTSTAMP:20260425T152354
CREATED:20240402T040527Z
LAST-MODIFIED:20240426T152236Z
UID:37290-1714552200-1714557600@livableraleigh.com
SUMMARY:RHDC Research Committee
DESCRIPTION:Public Meeting – May 1\, 2024\n\n\n\nThe Research Committee of the Raleigh Historic Development Commission will conduct a public meeting on Wednesday\, May 1 at 8:30 a.m. at One Exchange Plaza\, Suite 100\, conference room 108. \nFor questions about the meeting\, please contact historicpreservation@raleighnc.gov \n\n1. Call to Order\n\n\nA. Call to Order and Welcome\nThis Agenda Item Contains an Attachment.\n\n\n\n\n\n2. New Business\n\n\nA. County Commissioner Adamson\n\n\n\n\n\n\n3. Public Comment\n\n\nA. This is an opportunity for the public to comment on items or issues that are not otherwise on the agenda. Please limit comments to 3 minutes per speaker.\n\n\n\n\n\n\n4. Pending Business\n\n\nA. Items not being discussed\n\n\n\n\n\n\n5. Adjournment\n\n\n\n\nThe Research Committee meets on the first Wednesday of the month at 8:30 a.m. in conference room 108\, Suite 100 of the One Exchange Plaza building. Meeting agendas are added to the BoardDocs agenda management portal.
URL:https://livableraleigh.com/event/rhdc-research-committee-17/
LOCATION:One Exchange Plaza\, 1 Exchange Plaza\, Raleigh\, NY\, 27601
CATEGORIES:Engagement Filter,Historic Development Commission
END:VEVENT
BEGIN:VEVENT
DTSTART;TZID=America/New_York:20240501T143000
DTEND;TZID=America/New_York:20240501T160000
DTSTAMP:20260425T152354
CREATED:20240412T201011Z
LAST-MODIFIED:20240412T201011Z
UID:37542-1714573800-1714579200@livableraleigh.com
SUMMARY:Virtual NC HUB and NC DBE Certification Quarterly Session
DESCRIPTION:Are you a minority or woman-owned business owner? Are you looking to expand your opportunities for exposure? Do you want more opportunities to increase your cash flow? If you answered “YES” to these questions\, this information session is for you! \nIf your business is not certified\, please join the City of Raleigh’s MWBE Program\, NC DOA/HUB Office\, and the NC DOT/DBE Office to learn the requirements and process to apply for certification. Benefits of Certification as HUB (Historically Underutilized Business) & DBE (Disadvantaged Business Enterprise): \n\nIncreased exposure to business and procurement opportunities\nAddition of your business to the online directory\nReceive bid notices from all government organizations\nProvides opportunities for business development\nAnd\, more…\n\nWho should apply? The business must be 51% or more owned and controlled by the following minority groups: \n\nBlack Americans\nHispanic Americans\nPacific Asian Americans\nAmerican Indians\nFemales\nDisabled – A person with disability as defined in G.S. 168-1 or G.S. 168A-3\nDisadvantaged – A person who is socially and economically disadvantaged as defined in 15 U.S.C. § 637
URL:https://livableraleigh.com/event/virtual-nc-hub-and-nc-dbe-certification-quarterly-session-3/
LOCATION:Virtual Meeting
CATEGORIES:Community and Workshops,Engagement Filter
END:VEVENT
BEGIN:VEVENT
DTSTART;TZID=America/New_York:20240501T180000
DTEND;TZID=America/New_York:20240501T200000
DTSTAMP:20260425T152354
CREATED:20240416T183911Z
LAST-MODIFIED:20240422T194643Z
UID:37585-1714586400-1714593600@livableraleigh.com
SUMMARY:Community Engagement Workshop on Election Reform
DESCRIPTION:Raleigh City Council is considering changes to the municipal election process and is seeking community feedback. An information workshop will be held on Wednesday\, May 1 at Chavis Community Center from 6 p.m. until 8 p.m. Workshop participants will be asked a series of questions to help inform Council’s decision-making. Participants planning to attend are encouraged to register online. \nRead more about the proposed changes.
URL:https://livableraleigh.com/event/community-engagement-workshop-on-election-reform/
LOCATION:Chavis Community Center\, 505 Martin Luther King Jr. Blvd\, Raleigh\, NC\, United States
CATEGORIES:Community and Workshops,Engagement Filter
END:VEVENT
END:VCALENDAR