BEGIN:VCALENDAR
VERSION:2.0
PRODID:-//Livable Raleigh - ECPv6.15.20//NONSGML v1.0//EN
CALSCALE:GREGORIAN
METHOD:PUBLISH
X-ORIGINAL-URL:https://livableraleigh.com
X-WR-CALDESC:Events for Livable Raleigh
REFRESH-INTERVAL;VALUE=DURATION:PT1H
X-Robots-Tag:noindex
X-PUBLISHED-TTL:PT1H
BEGIN:VTIMEZONE
TZID:America/New_York
BEGIN:DAYLIGHT
TZOFFSETFROM:-0500
TZOFFSETTO:-0400
TZNAME:EDT
DTSTART:20230312T070000
END:DAYLIGHT
BEGIN:STANDARD
TZOFFSETFROM:-0400
TZOFFSETTO:-0500
TZNAME:EST
DTSTART:20231105T060000
END:STANDARD
BEGIN:DAYLIGHT
TZOFFSETFROM:-0500
TZOFFSETTO:-0400
TZNAME:EDT
DTSTART:20240310T070000
END:DAYLIGHT
BEGIN:STANDARD
TZOFFSETFROM:-0400
TZOFFSETTO:-0500
TZNAME:EST
DTSTART:20241103T060000
END:STANDARD
BEGIN:DAYLIGHT
TZOFFSETFROM:-0500
TZOFFSETTO:-0400
TZNAME:EDT
DTSTART:20250309T070000
END:DAYLIGHT
BEGIN:STANDARD
TZOFFSETFROM:-0400
TZOFFSETTO:-0500
TZNAME:EST
DTSTART:20251102T060000
END:STANDARD
END:VTIMEZONE
BEGIN:VEVENT
DTSTART;TZID=America/New_York:20240423T173000
DTEND;TZID=America/New_York:20240423T183000
DTSTAMP:20260425T163705
CREATED:20240411T202102Z
LAST-MODIFIED:20240411T203135Z
UID:37514-1713893400-1713897000@livableraleigh.com
SUMMARY:Neighborhood Rezoning Meeting -- 500 Rawls Drive (Z-07-24)
DESCRIPTION:April 23\, 2024\nTarboro Road Community Center\n500 Rawls Drive\nPost-submittal \nZ-07-24\, R-10 to RX-4-CU\nC\nIsabel Mattox \n919-781-1311\nShaughnessy
URL:https://livableraleigh.com/event/neighborhood-rezoning-meeting-500-rawls-drive-z-07-24/
LOCATION:Tarboro Road Community Center
CATEGORIES:Engagement Filter,Neighborhood Meeting (Zoning)
END:VEVENT
BEGIN:VEVENT
DTSTART;TZID=America/New_York:20240423T190000
DTEND;TZID=America/New_York:20240423T210000
DTSTAMP:20260425T163705
CREATED:20240413T183700Z
LAST-MODIFIED:20240420T181734Z
UID:37567-1713898800-1713906000@livableraleigh.com
SUMMARY:Hillsborough-Wade CAC meeting
DESCRIPTION:Hi CAC neighbors\, \nAGENDA UPDATE: We will have a police report\, but no presentation on rezoning case Z-83-22 (just a quick update). The focus of this meeting will be on Raleigh’s environment and what we can do to improve it as Raleigh continues to grow. \nOur Hillsborough-Wade CAC meeting will be this coming Tuesday\, April 23rd at 7:00 PM. We’ll be meeting at the Jaycee Park facility along Wade Avenue. \nAgenda:• Police report• Presentation on Biophilia and Raleigh’s membership in the international network of Biophilic Cities. (1)• Kate Dixon (now on the Raleigh Parks Board) will talk about volunteer efforts to remove invasive plant species from our City parks. (2) \nClick here for more news about Raleigh’s environment and Kate Dixon. \n\n\n\n\n\n\n\n\n\n\n\n\n\n\n\n\n(1) One of our very active CAC members and super volunteer\, Marsha Presnell-Jennette\, thought it would be good for us to hear from Brian Smith (our Natural Resources Superintendent) about the Biophilic Cities Network and Raleigh’s efforts to improve our environment and connections to it. Read more about Biophilic design and concepts. \n(2) Kate Dixon and a group of other volunteers have been holding a weekly workday to remove invasive plants like English ivy and privet from Windemere Beaver Dam Park\, just north of Wade Avenue. They’ve made great progress\, and Kate will speak to us about their work and ideas about how to expand the effort to other parks like Jaycee Park. \nIf you have a neighborhood listserv\, please forward this email to your list. \nSee you on the 23rd\,Mike \n\nMichael LindsayChair of the Hillsborough-Wade CACMobile: 919-429-0177inform@nc.rr.com \n  \n\n\n\n\n\n\nHi CAC neighbors\, \nOur Hillsborough-Wade CAC meeting will be a week from today on Tuesday\, April 23rd at 7:00 PM. We’ll be meeting at the Jaycee Park facility along Wade Avenue. \nWe have some updates for our agenda. \nCurrent Agenda:\n• Police report (waiting to hear back).\n• Presentation on Biophilia and Raleigh’s membership in the international network of Biophilic Cities. (1)\n• Kate Dixon (now on the Raleigh Parks Board) will talk about volunteer efforts to remove invasive plant species from our City parks. (2)\n• Possible update on rezoning case Z-83-22 (property includes where the Arby’s was on Hillsborough Street)? \n\n(1) One of our very active CAC members and super volunteer\, Marsha Presnell-Jennette\, thought it would be good for us to hear from Brian Smith (our Natural Resources Superintendent) about the Biophilic Cities Network and Raleigh’s efforts to improve our environment and connections to it. Read more about Biophilic design and concepts. \n(2) Kate Dixon and a group of other volunteers have been holding a weekly workday to remove invasive plants like English ivy and privet from Windemere Beaver Dam Park\, just north of Wade Avenue. They’ve made great progress\, and Kate will speak to us about their work and ideas about how to expand the effort to other parks like Jaycee Park. \nIf you have a neighborhood listserv\, please forward this email to your list. \nSee you on the 23rd\, \nMike \n\nMichael Lindsay\nChair of the Hillsborough-Wade CAC\nMobile: 919-429-0177\ninform@nc.rr.com \n 
URL:https://livableraleigh.com/event/hillsborough-wade-cac-meeting-5/
LOCATION:Jaycee Park Community Center\, 2405 Wade Avenue\, Raleigh
CATEGORIES:CAC,Engagement Filter
END:VEVENT
END:VCALENDAR