BEGIN:VCALENDAR
VERSION:2.0
PRODID:-//Livable Raleigh - ECPv6.15.20//NONSGML v1.0//EN
CALSCALE:GREGORIAN
METHOD:PUBLISH
X-WR-CALNAME:Livable Raleigh
X-ORIGINAL-URL:https://livableraleigh.com
X-WR-CALDESC:Events for Livable Raleigh
REFRESH-INTERVAL;VALUE=DURATION:PT1H
X-Robots-Tag:noindex
X-PUBLISHED-TTL:PT1H
BEGIN:VTIMEZONE
TZID:America/New_York
BEGIN:DAYLIGHT
TZOFFSETFROM:-0500
TZOFFSETTO:-0400
TZNAME:EDT
DTSTART:20230312T070000
END:DAYLIGHT
BEGIN:STANDARD
TZOFFSETFROM:-0400
TZOFFSETTO:-0500
TZNAME:EST
DTSTART:20231105T060000
END:STANDARD
BEGIN:DAYLIGHT
TZOFFSETFROM:-0500
TZOFFSETTO:-0400
TZNAME:EDT
DTSTART:20240310T070000
END:DAYLIGHT
BEGIN:STANDARD
TZOFFSETFROM:-0400
TZOFFSETTO:-0500
TZNAME:EST
DTSTART:20241103T060000
END:STANDARD
BEGIN:DAYLIGHT
TZOFFSETFROM:-0500
TZOFFSETTO:-0400
TZNAME:EDT
DTSTART:20250309T070000
END:DAYLIGHT
BEGIN:STANDARD
TZOFFSETFROM:-0400
TZOFFSETTO:-0500
TZNAME:EST
DTSTART:20251102T060000
END:STANDARD
END:VTIMEZONE
BEGIN:VEVENT
DTSTART;TZID=America/New_York:20240422T163000
DTEND;TZID=America/New_York:20240422T183000
DTSTAMP:20260425T174607
CREATED:20240302T213540Z
LAST-MODIFIED:20240302T213540Z
UID:36785-1713803400-1713810600@livableraleigh.com
SUMMARY:Kyle Drive Park Public Workshop
DESCRIPTION:Drop-In Public Meeting to discuss draft concept plan for Kyle Drive Park.\nThis meeting will be family-friendly and will include light refreshments and an art-making station for people of all ages. Childcare will be available for children five years to twelve years old. Accommodations & Translation Services are available upon request. Please contact KyleDrivePark@publicinput.com \nLocation: Marsh Creek Community CenterAges: AllCost: Free
URL:https://livableraleigh.com/event/kyle-drive-park-public-workshop/
LOCATION:Marsh Creek Community Center\, 3050 N. New Hope Rd.\, Raleigh\, NC\, 27604\, United States
CATEGORIES:Engagement Filter,Parks & Rec
END:VEVENT
BEGIN:VEVENT
DTSTART;TZID=America/New_York:20240422T190000
DTEND;TZID=America/New_York:20240422T210000
DTSTAMP:20260425T174607
CREATED:20240416T111250Z
LAST-MODIFIED:20240416T111250Z
UID:37581-1713812400-1713819600@livableraleigh.com
SUMMARY:Midtown CAC Meeting -- Hybrid
DESCRIPTION:Agenda \n\n\nHybrid Midtown Citizens Advisory Council Meeting \n\n\nMonday\, April 22\, 2024\, 7:00-9:00 pm \n\n\n\n\n\n1)   7:00           Call to Order and Welcome to Midtown CAC \n\n\n2)   7:05           Review of Minutes of Prior MCAC meetings\nDiscussion of Minutes\, Followed by Amendment / Vote \n\n\n3)   7:10           RPD officers Winkle and Garcia \n\n\n                        Activity and Crime Stats Report for Midtown \n\n\n                        Question and Answer \n\n\n4)   7:30           Raleigh Police Request for Competitive Salaries \n\n\n                        Rick Armstrong \n\n\n                        Vice President \n\n\n                        Teamsters Local 391\, Raleigh Police Protective Association \n\n\n5)   8:30           City Council Updates \n\n\n6)   8:45           Old / New Business\, Announcements\, Remarks \n\n\n7)   9:00           Adjournment \n\n\n\n\n\nIn Person Location: \n\n\n                        Millbrook Exchange \n\n\n                        1905 Spring Forest Road \n\n\n                        Raleigh\, NC 27615 \n\n\nZoom Meeting Link: \n\n\nhttps://us02web.zoom.us/j/86172852122?pwd=cS92NjVIQng4TWRYUXBHSUpYc3hZUT09 \n\n\nMeeting ID: 861 7285 2122 \n\n\nPasscode: 347661 \n\n\nOne tap mobile \n\n\n+16468769923\,\,86172852122#\,\,\,\,*347661# US (New York) \n\n\n+16469313860\,\,86172852122#\,\,\,\,*347661# US \n\n\n\n\n\nVisit our Midtown CAC Facebook page: \n\n\n https://www.facebook.com/MidtownCAC
URL:https://livableraleigh.com/event/midtown-cac-meeting-hybrid/
LOCATION:Millbrook Exchange Park\, 1905 Spring Forest Rd\, Raleigh\, NC\, 27615
CATEGORIES:CAC,Engagement Filter
END:VEVENT
END:VCALENDAR