BEGIN:VCALENDAR
VERSION:2.0
PRODID:-//Livable Raleigh - ECPv6.15.20//NONSGML v1.0//EN
CALSCALE:GREGORIAN
METHOD:PUBLISH
X-ORIGINAL-URL:https://livableraleigh.com
X-WR-CALDESC:Events for Livable Raleigh
REFRESH-INTERVAL;VALUE=DURATION:PT1H
X-Robots-Tag:noindex
X-PUBLISHED-TTL:PT1H
BEGIN:VTIMEZONE
TZID:America/New_York
BEGIN:DAYLIGHT
TZOFFSETFROM:-0500
TZOFFSETTO:-0400
TZNAME:EDT
DTSTART:20230312T070000
END:DAYLIGHT
BEGIN:STANDARD
TZOFFSETFROM:-0400
TZOFFSETTO:-0500
TZNAME:EST
DTSTART:20231105T060000
END:STANDARD
BEGIN:DAYLIGHT
TZOFFSETFROM:-0500
TZOFFSETTO:-0400
TZNAME:EDT
DTSTART:20240310T070000
END:DAYLIGHT
BEGIN:STANDARD
TZOFFSETFROM:-0400
TZOFFSETTO:-0500
TZNAME:EST
DTSTART:20241103T060000
END:STANDARD
BEGIN:DAYLIGHT
TZOFFSETFROM:-0500
TZOFFSETTO:-0400
TZNAME:EDT
DTSTART:20250309T070000
END:DAYLIGHT
BEGIN:STANDARD
TZOFFSETFROM:-0400
TZOFFSETTO:-0500
TZNAME:EST
DTSTART:20251102T060000
END:STANDARD
END:VTIMEZONE
BEGIN:VEVENT
DTSTART;TZID=America/New_York:20240420T093000
DTEND;TZID=America/New_York:20240420T110000
DTSTAMP:20260425T190622
CREATED:20240416T162852Z
LAST-MODIFIED:20240416T162852Z
UID:37583-1713605400-1713610800@livableraleigh.com
SUMMARY:DDNA Meeting
DESCRIPTION:Our next meeting is scheduled for April 20th at 9:30 AM at the Thomas G. Crowder Woodland Center with District D City Councilor Jane Harrison. \nWe will discuss the downtown municipal service district (MSD). The Downtown Raleigh Alliance will explain its role in providing safety\, cleaning\, and business development services via the MSD. Raleigh City Council is considering\nexpanding the downtown MSD borders to better cover areas like Glenwood South. \nThis meeting will be in-person only and we plan to have Zoom access back at the next meeting. \nHope to see you there!
URL:https://livableraleigh.com/event/ddna-meeting/
CATEGORIES:Council District Meeting,Engagement Filter
END:VEVENT
BEGIN:VEVENT
DTSTART;TZID=America/New_York:20240420T160000
DTEND;TZID=America/New_York:20240420T190000
DTSTAMP:20260425T190622
CREATED:20240404T165841Z
LAST-MODIFIED:20240406T171141Z
UID:37322-1713628800-1713639600@livableraleigh.com
SUMMARY:10th Annual Celebrate Oberlin Event
DESCRIPTION:Be Our Guest!\n\n\n\n\n\n\n\n\n\n\n\n\n\n\n\n\n\n\n\n\n\n\nJoin us for an exciting evening meeting new friends or reuniting with neighbors at FOV’s 10th Annual Celebrate Oberlin event. This year’s celebratory event will be held on April 20\, 2024\, from 4-8 p.m. on the beautiful grounds of Raleigh’s newest park – Latta University Historic Park. \n  \nEnjoy the evening visiting a mobile library of education tables featuring:  Oberlin Pioneers in Medicine hosted by WakeMed\, radar scans of Oberlin Cemetery conducted by former NCSU doctoral student John Wall\, Oberlin Veterans from various military campaigns\, and other education displays. Dance the night away or relax on a blanket on the grassy knolls listening to the live performance of EPIC\, whose playlist will include jazz and gospel. Stroll through the park and read the interpretive signage honoring Latta University. Learn about the landmark structures along Oberlin Road by partaking in a free Historic Trolley Tour of Oberlin offered throughout the evening by FOV volunteers. Satiate your appetite with offerings by two gourmet food trucks:  Oak City Fish & Chips and Sweet’s Turkey BBQ. And\, satisfy your sweet tooth with homemade pound cakes provided by White Memorial Presbyterian Church\, West Raleigh Presbyterian Church\, and other terrific bakers. \n  \nThis is a wonderful opportunity to celebrate Oberlin with the community\, while learning about the history and the leaders of North Carolina’s largest known remaining intact settlement founded by a free Black person in 1858. We hope to see you there. \n  \n\n\n\n\n\n\n\n\n\n\n\nSincerely\,.\n\n\n\n\n\n\n\n\n\n\n\n\n\n\n\n\n\n\n\n\n\n\n\n\n\n\n\n\n\n\n\n\n\n\n\n\n\n\n\n\n\n\n\n\n\nExecutive Director \nFriends of Oberlin Village
URL:https://livableraleigh.com/event/10th-annual-celebrate-oberlin-event/
LOCATION:Latta University Historic Park\, 1001 Parker Street\, Raleigh\, NC\, 27607
CATEGORIES:Community and Workshops,Engagement Filter
END:VEVENT
END:VCALENDAR