BEGIN:VCALENDAR
VERSION:2.0
PRODID:-//Livable Raleigh - ECPv6.15.20//NONSGML v1.0//EN
CALSCALE:GREGORIAN
METHOD:PUBLISH
X-WR-CALNAME:Livable Raleigh
X-ORIGINAL-URL:https://livableraleigh.com
X-WR-CALDESC:Events for Livable Raleigh
REFRESH-INTERVAL;VALUE=DURATION:PT1H
X-Robots-Tag:noindex
X-PUBLISHED-TTL:PT1H
BEGIN:VTIMEZONE
TZID:America/New_York
BEGIN:DAYLIGHT
TZOFFSETFROM:-0500
TZOFFSETTO:-0400
TZNAME:EDT
DTSTART:20230312T070000
END:DAYLIGHT
BEGIN:STANDARD
TZOFFSETFROM:-0400
TZOFFSETTO:-0500
TZNAME:EST
DTSTART:20231105T060000
END:STANDARD
BEGIN:DAYLIGHT
TZOFFSETFROM:-0500
TZOFFSETTO:-0400
TZNAME:EDT
DTSTART:20240310T070000
END:DAYLIGHT
BEGIN:STANDARD
TZOFFSETFROM:-0400
TZOFFSETTO:-0500
TZNAME:EST
DTSTART:20241103T060000
END:STANDARD
BEGIN:DAYLIGHT
TZOFFSETFROM:-0500
TZOFFSETTO:-0400
TZNAME:EDT
DTSTART:20250309T070000
END:DAYLIGHT
BEGIN:STANDARD
TZOFFSETFROM:-0400
TZOFFSETTO:-0500
TZNAME:EST
DTSTART:20251102T060000
END:STANDARD
END:VTIMEZONE
BEGIN:VEVENT
DTSTART;TZID=America/New_York:20240409T173000
DTEND;TZID=America/New_York:20240409T190000
DTSTAMP:20260425T201737
CREATED:20240404T232853Z
LAST-MODIFIED:20240404T232853Z
UID:37327-1712683800-1712689200@livableraleigh.com
SUMMARY:Mordecai CAC
DESCRIPTION:Mordecai CAC\nthe key to strong community\n\n\n\n\n\n\n\n\n\n\n\n\n\n\n\n\n\n\n\n\n\n\n\n\n\n\n\n\n\n\n\n\n\n\n\n\n\n\n\n\n\n\n\nJoin us online this Tuesday\nApril MCAC meeting\, on Zoom:  \nYou are invited to a Zoom meeting. Join us to celebrate Earth Month and learn about some ways we can care for our community. \nWhen: Apr 9\, 2024 05:30 PM\nRegister in advance for this meeting:\nhttps://us06web.zoom.us/meeting/register/tZEtcuGpqzsoHt3ZvM_dU14IX81e-chGcx4C \nAfter registering\, you will receive a confirmation email containing information about joining the meeting. \n\nMCAC April Agenda  \n\n\nWelcome/Agenda\nAnnouncements\nPolice Update\nCommittee updates:\n-Person Street Partnership- Philip Bernard\n-Bikes/Peds – Kevin Kyyro\n\nFeatured Topics: “Caring for our Community” \n\nSpring at the Raleigh City Farm\nStream Cleanups\nParks Committee Spring Update\nHoneybees and Swarms\nYard Sale and Plant Sale Day\n\n\n\nConnect with Mordecai community neighbors through our our website\, http://mordecaicac.org and also on NextDoor Community\, the MCAC Facebook page\, Instagram\, and Twitter.
URL:https://livableraleigh.com/event/mordecai-cac-5/
CATEGORIES:CAC,Engagement Filter
END:VEVENT
END:VCALENDAR