BEGIN:VCALENDAR
VERSION:2.0
PRODID:-//Livable Raleigh - ECPv6.15.20//NONSGML v1.0//EN
CALSCALE:GREGORIAN
METHOD:PUBLISH
X-ORIGINAL-URL:https://livableraleigh.com
X-WR-CALDESC:Events for Livable Raleigh
REFRESH-INTERVAL;VALUE=DURATION:PT1H
X-Robots-Tag:noindex
X-PUBLISHED-TTL:PT1H
BEGIN:VTIMEZONE
TZID:America/New_York
BEGIN:DAYLIGHT
TZOFFSETFROM:-0500
TZOFFSETTO:-0400
TZNAME:EDT
DTSTART:20230312T070000
END:DAYLIGHT
BEGIN:STANDARD
TZOFFSETFROM:-0400
TZOFFSETTO:-0500
TZNAME:EST
DTSTART:20231105T060000
END:STANDARD
BEGIN:DAYLIGHT
TZOFFSETFROM:-0500
TZOFFSETTO:-0400
TZNAME:EDT
DTSTART:20240310T070000
END:DAYLIGHT
BEGIN:STANDARD
TZOFFSETFROM:-0400
TZOFFSETTO:-0500
TZNAME:EST
DTSTART:20241103T060000
END:STANDARD
BEGIN:DAYLIGHT
TZOFFSETFROM:-0500
TZOFFSETTO:-0400
TZNAME:EDT
DTSTART:20250309T070000
END:DAYLIGHT
BEGIN:STANDARD
TZOFFSETFROM:-0400
TZOFFSETTO:-0500
TZNAME:EST
DTSTART:20251102T060000
END:STANDARD
END:VTIMEZONE
BEGIN:VEVENT
DTSTART;TZID=America/New_York:20240325T190000
DTEND;TZID=America/New_York:20240325T210000
DTSTAMP:20260425T111618
CREATED:20240318T110037Z
LAST-MODIFIED:20240318T180338Z
UID:37160-1711393200-1711400400@livableraleigh.com
SUMMARY:Hybrid Midtown Citizens Advisory Council (CAC) Meeting
DESCRIPTION:Neighbors\,\nHope that everyone is doing well this month.\nAppended is our agenda for this month’s meeting. We are continuing the hybrid model\, with the in person meeting at Eastgate Park Community Center\, combined with virtual participation using Zoom. \nWe will open the meeting with updates from our local RPD members\, followed by some special guests. \nAs many of you know\, Council is working on the budget for 2024 / 2025. In an effort to inform our area residents on issues of importance\, we are featuring some work force groups that need more local attention. This month\, we are hosting Caleb Lewis\, representing the Raleigh Professional Firefighters Association (RPFFA) for a discussion on Separation Allowance for Firefighters. \nOur second guest speaker will provide additional detail on the long awaited Six Forks Road Improvement project that was finally approved by Council in February. While this project has been scaled back in terms of road coverage\, it will definitely provide property relief to those residents and businesses along Six Forks road\, in addition to traffic relief and improved intersection safety from Rowan to Millbrook road. Hopefully\, this first stage of improvement will lead to budgeting for additional sections of Six Forks (stages 2 and 3)\, in an effort to catch up with planned development in other sections of the roadway. \nWe will wrap the meeting with updates from our local District Councilors that represent Midtown. \nI look forward to seeing everyone later this month. \nRegards\,\nLarry Helfant\nMidtown CAC ChairmanAgenda \n\n\n\n\n\nHybrid Midtown Citizens Advisory Council Meeting \n\n\nMonday\, March 25\, 2024\, 7:00-9:00 pm \n\n\n\n\n\n1)   7:00           Call to Order and Welcome to Midtown CAC \n\n\n\n\n\n2)   7:05           Review of Minutes of Prior MCAC meetings\nDiscussion of Minutes\, Followed by Amendment / Vote \n\n\n\n\n\n3)   7:10           RPD officers Winkle and Garcia \n\n\n\n\n\n                        Activity and Crime Stats Report for Midtown \n\n\n                        Question and Answer \n\n\n\n\n\n4)   7:30           Separation Allowance for Firefighters \n\n\n                        Caleb Lewis (Fire Station 16) \n\n\n                        Raleigh Professional Firefighters Association (RPFFA) \n\n\n\n\n\n5)   7:45           Six Forks Road Improvement Project\, Design\, Outreach & Communication \n\n\n                        Sylvester Percival\, PE and staff \n\n\n                        City of Raleigh Engineering Services Department \n\n\n                        Roadway Design and Construction \n\n\n\n\n\n6)   8:30           City Council Updates \n\n\n\n\n\n7)   8:45           Old / New Business\, Announcements\, Remarks \n\n\n\n\n\n8)   9:00           Adjournment \n\n\n\n\n\nIn Person Location: \n\n\n                        Eastgate Park Community Center \n\n\n                        Eastgate Park\, 4200 Quail Hollow Drive \n\n\n                        Raleigh\, NC 27609 \n\n\n\n\n\nZoom Meeting Link: \n\n\n\n\n\nhttps://us02web.zoom.us/j/86172852122?pwd=cS92NjVIQng4TWRYUXBHSUpYc3hZUT09 \n\n\n\n\n\nMeeting ID: 861 7285 2122 \n\n\nPasscode: 347661 \n\n\nOne tap mobile \n\n\n+16468769923\,\,86172852122#\,\,\,\,*347661# US (New York) \n\n\n+16469313860\,\,86172852122#\,\,\,\,*347661# US \n\n\n\n\n\nVisit our Midtown CAC Facebook page: \n\n\n https://www.facebook.com/MidtownCAC
URL:https://livableraleigh.com/event/hybrid-midtown-citizens-advisory-council-cac-meeting/
LOCATION:Eastgate Park\, 4200 Quail Hollow Dr\,\, Raleigh\, NC\, 27609
CATEGORIES:CAC,Engagement Filter
END:VEVENT
END:VCALENDAR