BEGIN:VCALENDAR
VERSION:2.0
PRODID:-//Livable Raleigh - ECPv6.15.20//NONSGML v1.0//EN
CALSCALE:GREGORIAN
METHOD:PUBLISH
X-ORIGINAL-URL:https://livableraleigh.com
X-WR-CALDESC:Events for Livable Raleigh
REFRESH-INTERVAL;VALUE=DURATION:PT1H
X-Robots-Tag:noindex
X-PUBLISHED-TTL:PT1H
BEGIN:VTIMEZONE
TZID:America/New_York
BEGIN:DAYLIGHT
TZOFFSETFROM:-0500
TZOFFSETTO:-0400
TZNAME:EDT
DTSTART:20230312T070000
END:DAYLIGHT
BEGIN:STANDARD
TZOFFSETFROM:-0400
TZOFFSETTO:-0500
TZNAME:EST
DTSTART:20231105T060000
END:STANDARD
BEGIN:DAYLIGHT
TZOFFSETFROM:-0500
TZOFFSETTO:-0400
TZNAME:EDT
DTSTART:20240310T070000
END:DAYLIGHT
BEGIN:STANDARD
TZOFFSETFROM:-0400
TZOFFSETTO:-0500
TZNAME:EST
DTSTART:20241103T060000
END:STANDARD
BEGIN:DAYLIGHT
TZOFFSETFROM:-0500
TZOFFSETTO:-0400
TZNAME:EDT
DTSTART:20250309T070000
END:DAYLIGHT
BEGIN:STANDARD
TZOFFSETFROM:-0400
TZOFFSETTO:-0500
TZNAME:EST
DTSTART:20251102T060000
END:STANDARD
END:VTIMEZONE
BEGIN:VEVENT
DTSTART;TZID=America/New_York:20240321T120000
DTEND;TZID=America/New_York:20240321T130000
DTSTAMP:20260425T141438
CREATED:20240203T014651Z
LAST-MODIFIED:20240302T212330Z
UID:36213-1711022400-1711026000@livableraleigh.com
SUMMARY:Mayor’s Committee for Persons with Disabilities Meeting
DESCRIPTION:The committee helps people with disabilities to participate in the economic and social life of the community. To this end\, the committee promotes employment of people with disabilities and communicates their needs to local leaders and the public. The committee also sponsors activities benefiting people with disabilities and their families. \nLocationRaleigh Pathways Center900 S. Wilmington StreetRaleigh\, NC 27601 \nMeeting Minutes and AgendasView meeting minutes and agendas on BoardDocs
URL:https://livableraleigh.com/event/mayors-committee-for-persons-with-disabilities-meeting-5/
LOCATION:Raleigh Pathways Center\, 900 S. Wilmington Street
CATEGORIES:Boards and Commissions,Engagement Filter
END:VEVENT
BEGIN:VEVENT
DTSTART;TZID=America/New_York:20240321T183000
DTEND;TZID=America/New_York:20240321T193000
DTSTAMP:20260425T141438
CREATED:20240313T202900Z
LAST-MODIFIED:20240313T202900Z
UID:37102-1711045800-1711049400@livableraleigh.com
SUMMARY:Neighborhood Rezoning Meeting: 2751 Capital Blvd
DESCRIPTION:March 21\, 2024 6:30 p.m.\nMarsh Creek Park\, 3050 N New Hope Road\, Raleigh\, NC 27604\n2751 Capital Blvd\nPre Submittal \nCX-3-PL to IX-CU \n(Additional Information)\nA\nMatthew Carpenter\nBurns
URL:https://livableraleigh.com/event/neighborhood-rezoning-meeting-2751-capital-blvd/
LOCATION:Marsh Creek Community Center\, 3050 N. New Hope Rd.\, Raleigh\, NC\, 27604\, United States
CATEGORIES:Engagement Filter,Neighborhood Meeting (Zoning)
END:VEVENT
END:VCALENDAR