BEGIN:VCALENDAR
VERSION:2.0
PRODID:-//Livable Raleigh - ECPv6.15.20//NONSGML v1.0//EN
CALSCALE:GREGORIAN
METHOD:PUBLISH
X-WR-CALNAME:Livable Raleigh
X-ORIGINAL-URL:https://livableraleigh.com
X-WR-CALDESC:Events for Livable Raleigh
REFRESH-INTERVAL;VALUE=DURATION:PT1H
X-Robots-Tag:noindex
X-PUBLISHED-TTL:PT1H
BEGIN:VTIMEZONE
TZID:America/New_York
BEGIN:DAYLIGHT
TZOFFSETFROM:-0500
TZOFFSETTO:-0400
TZNAME:EDT
DTSTART:20230312T070000
END:DAYLIGHT
BEGIN:STANDARD
TZOFFSETFROM:-0400
TZOFFSETTO:-0500
TZNAME:EST
DTSTART:20231105T060000
END:STANDARD
BEGIN:DAYLIGHT
TZOFFSETFROM:-0500
TZOFFSETTO:-0400
TZNAME:EDT
DTSTART:20240310T070000
END:DAYLIGHT
BEGIN:STANDARD
TZOFFSETFROM:-0400
TZOFFSETTO:-0500
TZNAME:EST
DTSTART:20241103T060000
END:STANDARD
BEGIN:DAYLIGHT
TZOFFSETFROM:-0500
TZOFFSETTO:-0400
TZNAME:EDT
DTSTART:20250309T070000
END:DAYLIGHT
BEGIN:STANDARD
TZOFFSETFROM:-0400
TZOFFSETTO:-0500
TZNAME:EST
DTSTART:20251102T060000
END:STANDARD
END:VTIMEZONE
BEGIN:VEVENT
DTSTART;TZID=America/New_York:20240311T180000
DTEND;TZID=America/New_York:20240311T200000
DTSTAMP:20260425T123634
CREATED:20240308T170827Z
LAST-MODIFIED:20240308T170827Z
UID:36947-1710180000-1710187200@livableraleigh.com
SUMMARY:Local Business Showcase with District E Councilor Christina Jones
DESCRIPTION:Connecting commerce with council
URL:https://livableraleigh.com/event/local-business-showcase-with-district-e-councilor-christina-jones/
LOCATION:Bowstring Pizza\, 1930 Wake Forest Road\, Raleigh
CATEGORIES:Community and Workshops,Engagement Filter
END:VEVENT
BEGIN:VEVENT
DTSTART;TZID=America/New_York:20240311T183000
DTEND;TZID=America/New_York:20240311T193000
DTSTAMP:20260425T123634
CREATED:20240216T220522Z
LAST-MODIFIED:20240216T220522Z
UID:36539-1710181800-1710185400@livableraleigh.com
SUMMARY:CONNECTRALEIGH Listening Session - Raleigh Police Department
DESCRIPTION:In the spirit of transparency\, the Raleigh Police Department is hosting community listening sessions regarding CONNECTRALEIGH\, a video camera-sharing public safety program. Learn more about the CONNECTRALEIGH program listening sessions. \nMonday\, March 116:30 p.m. t0 7:30 p.m.John Chavis Memorial Park505 Martin Luther King Jr. Blvd
URL:https://livableraleigh.com/event/connectraleigh-listening-session-raleigh-police-department-3/
LOCATION:John Chavis Community Center\, 505 Martin Luther King Jr. Blvd.\, Raleigh\, NC\, 27601\, United States
CATEGORIES:Community Engagement,Engagement Filter
END:VEVENT
BEGIN:VEVENT
DTSTART;TZID=America/New_York:20240311T190000
DTEND;TZID=America/New_York:20240311T200000
DTSTAMP:20260425T123634
CREATED:20240305T215118Z
LAST-MODIFIED:20240305T215118Z
UID:36859-1710183600-1710187200@livableraleigh.com
SUMMARY:Southwest Raleigh Community Engagement Meeting
DESCRIPTION:Join us Monday night\, March 11th at 7PM for our regularly scheduled Southwest Raleigh Community Engagement Meeting we will be meeting on Zoom. \n\nGreetings to Friends and Neighbors\nCity of Raleigh Inspections Report – Inspector David Johnson.\nCity of Raleigh Monthly Report and Update – Captain Karlinski (SW-Southwest). Captain LaTour (SE-Southeast)\, Captain Van Antwerp (DT-Downtown). Our SW area is now part of three Raleigh Police Districts.\nOur March meeting Continues the Quarterly Open Forum Format – Please feel free to use this time to bring your comments\, concerns\, and subjects of interest to the group. We want to hear from you and learn more about what you believe should be taking place in our neighborhood.\nChanges in Community Group Meetings – Comments and updates from our community leaders and residents.\n\n\nWe plan to broadcast the meeting on Facebook if you would prefer to watch it and not participate.\n\nOur next meeting is scheduled for April 8th\, 2024. \nHopefully\, we will soon have some encouraging information about returning to our traditional home at Carolina Pines Community Center. \nIf you have a particular interest and suggestions for topics please let us know. \n \n\n\n\n\n\n\n\n\n\n\n\n\n\n\n\n\n\n\n\n\n\n\n\n\n\n\n\n\n\n\n\n\n\n\n\n\n\n\n\n\n\n\n\n\n\n\n\n\n\n\n\n\n\n\n\n\n\n\n\n\n\n\n\n\n\n\n\n\n\n\n\n\nZoom Meeting
URL:https://livableraleigh.com/event/southwest-raleigh-community-engagement-meeting-7/
CATEGORIES:CAC,Engagement Filter
END:VEVENT
END:VCALENDAR