BEGIN:VCALENDAR
VERSION:2.0
PRODID:-//Livable Raleigh - ECPv6.15.20//NONSGML v1.0//EN
CALSCALE:GREGORIAN
METHOD:PUBLISH
X-ORIGINAL-URL:https://livableraleigh.com
X-WR-CALDESC:Events for Livable Raleigh
REFRESH-INTERVAL;VALUE=DURATION:PT1H
X-Robots-Tag:noindex
X-PUBLISHED-TTL:PT1H
BEGIN:VTIMEZONE
TZID:America/New_York
BEGIN:DAYLIGHT
TZOFFSETFROM:-0500
TZOFFSETTO:-0400
TZNAME:EDT
DTSTART:20230312T070000
END:DAYLIGHT
BEGIN:STANDARD
TZOFFSETFROM:-0400
TZOFFSETTO:-0500
TZNAME:EST
DTSTART:20231105T060000
END:STANDARD
BEGIN:DAYLIGHT
TZOFFSETFROM:-0500
TZOFFSETTO:-0400
TZNAME:EDT
DTSTART:20240310T070000
END:DAYLIGHT
BEGIN:STANDARD
TZOFFSETFROM:-0400
TZOFFSETTO:-0500
TZNAME:EST
DTSTART:20241103T060000
END:STANDARD
BEGIN:DAYLIGHT
TZOFFSETFROM:-0500
TZOFFSETTO:-0400
TZNAME:EDT
DTSTART:20250309T070000
END:DAYLIGHT
BEGIN:STANDARD
TZOFFSETFROM:-0400
TZOFFSETTO:-0500
TZNAME:EST
DTSTART:20251102T060000
END:STANDARD
END:VTIMEZONE
BEGIN:VEVENT
DTSTART;TZID=America/New_York:20240309T100000
DTEND;TZID=America/New_York:20240309T120000
DTSTAMP:20260425T111651
CREATED:20240227T224255Z
LAST-MODIFIED:20240227T224255Z
UID:36653-1709978400-1709985600@livableraleigh.com
SUMMARY:Neuse River Park Public Site Visit
DESCRIPTION:Join Raleigh Parks for an informational event at the site of the future Neuse River Park!\nStaff will be located at three different stations along the greenway trail\, sharing information about the proposed plans for the park. This event will have content similar to the Public Workshop on March 4\, but presented on-site! \nParking is available at the existing greenway trailhead at 12030 Old Falls of Neuse Road.
URL:https://livableraleigh.com/event/neuse-river-park-public-site-visit-2/
LOCATION:Neuse River Trail\, 12030 Old Falls of Neuse Road\, Wake Forest\, North Carolina\, 27587
CATEGORIES:Engagement Filter,Parks & Rec
END:VEVENT
BEGIN:VEVENT
DTSTART;TZID=America/New_York:20240309T130000
DTEND;TZID=America/New_York:20240309T150000
DTSTAMP:20260425T111651
CREATED:20240202T204628Z
LAST-MODIFIED:20240202T204628Z
UID:36162-1709989200-1709996400@livableraleigh.com
SUMMARY:Advice About Your Device Drop-In Hours
DESCRIPTION:Need Help With Technology? Get Advice About Your Device!\nRaleigh Digital Ambassadors are here to help! Whether you have a short question about how to work your computer or have long-term digital goals\, join us at the Raleigh Pathways Center! \nYou will be paired up with a Digital Ambassador to create a plan to best support your needs and tackle goals together in a 1:1 setting. Whether you need help with your phone\, computer\, or have other digital goals\, we have you covered! \nNo appointment is needed for this FREE session.
URL:https://livableraleigh.com/event/advice-about-your-device-drop-in-hours-7/
LOCATION:Raleigh Pathways Center\, 900 S. Wilmington Street
CATEGORIES:Community and Workshops,Engagement Filter
END:VEVENT
END:VCALENDAR