BEGIN:VCALENDAR
VERSION:2.0
PRODID:-//Livable Raleigh - ECPv6.15.20//NONSGML v1.0//EN
CALSCALE:GREGORIAN
METHOD:PUBLISH
X-WR-CALNAME:Livable Raleigh
X-ORIGINAL-URL:https://livableraleigh.com
X-WR-CALDESC:Events for Livable Raleigh
REFRESH-INTERVAL;VALUE=DURATION:PT1H
X-Robots-Tag:noindex
X-PUBLISHED-TTL:PT1H
BEGIN:VTIMEZONE
TZID:America/New_York
BEGIN:DAYLIGHT
TZOFFSETFROM:-0500
TZOFFSETTO:-0400
TZNAME:EDT
DTSTART:20230312T070000
END:DAYLIGHT
BEGIN:STANDARD
TZOFFSETFROM:-0400
TZOFFSETTO:-0500
TZNAME:EST
DTSTART:20231105T060000
END:STANDARD
BEGIN:DAYLIGHT
TZOFFSETFROM:-0500
TZOFFSETTO:-0400
TZNAME:EDT
DTSTART:20240310T070000
END:DAYLIGHT
BEGIN:STANDARD
TZOFFSETFROM:-0400
TZOFFSETTO:-0500
TZNAME:EST
DTSTART:20241103T060000
END:STANDARD
BEGIN:DAYLIGHT
TZOFFSETFROM:-0500
TZOFFSETTO:-0400
TZNAME:EDT
DTSTART:20250309T070000
END:DAYLIGHT
BEGIN:STANDARD
TZOFFSETFROM:-0400
TZOFFSETTO:-0500
TZNAME:EST
DTSTART:20251102T060000
END:STANDARD
END:VTIMEZONE
BEGIN:VEVENT
DTSTART;TZID=America/New_York:20240306T173000
DTEND;TZID=America/New_York:20240306T183000
DTSTAMP:20260425T151902
CREATED:20240227T223453Z
LAST-MODIFIED:20240227T223453Z
UID:36646-1709746200-1709749800@livableraleigh.com
SUMMARY:Neighborhood Rezoning Meeting: 3400 Barwell Road (Z-2-24)
DESCRIPTION:March 6\, 2024 5:30 p.m.\nBarwell Road Park Community Center\, 5857 Barwell Park Drive\, Raleigh\, NC 27610\nZ-2-24 \n3400 Barwell Rd\nPost Submittal \nR-4 to R-10-CU \n(Additional Information)\nC\nWorth Mills\nTate
URL:https://livableraleigh.com/event/neighborhood-rezoning-meeting-3400-barwell-road-z-2-24/
LOCATION:Barwell Road Community Center\, 5857 Barwell Park Dr\, Raleigh\, NC\, 27610\, United States
CATEGORIES:Engagement Filter,Neighborhood Meeting (Zoning)
END:VEVENT
END:VCALENDAR