BEGIN:VCALENDAR
VERSION:2.0
PRODID:-//Livable Raleigh - ECPv6.15.20//NONSGML v1.0//EN
CALSCALE:GREGORIAN
METHOD:PUBLISH
X-WR-CALNAME:Livable Raleigh
X-ORIGINAL-URL:https://livableraleigh.com
X-WR-CALDESC:Events for Livable Raleigh
REFRESH-INTERVAL;VALUE=DURATION:PT1H
X-Robots-Tag:noindex
X-PUBLISHED-TTL:PT1H
BEGIN:VTIMEZONE
TZID:America/New_York
BEGIN:DAYLIGHT
TZOFFSETFROM:-0500
TZOFFSETTO:-0400
TZNAME:EDT
DTSTART:20230312T070000
END:DAYLIGHT
BEGIN:STANDARD
TZOFFSETFROM:-0400
TZOFFSETTO:-0500
TZNAME:EST
DTSTART:20231105T060000
END:STANDARD
BEGIN:DAYLIGHT
TZOFFSETFROM:-0500
TZOFFSETTO:-0400
TZNAME:EDT
DTSTART:20240310T070000
END:DAYLIGHT
BEGIN:STANDARD
TZOFFSETFROM:-0400
TZOFFSETTO:-0500
TZNAME:EST
DTSTART:20241103T060000
END:STANDARD
BEGIN:DAYLIGHT
TZOFFSETFROM:-0500
TZOFFSETTO:-0400
TZNAME:EDT
DTSTART:20250309T070000
END:DAYLIGHT
BEGIN:STANDARD
TZOFFSETFROM:-0400
TZOFFSETTO:-0500
TZNAME:EST
DTSTART:20251102T060000
END:STANDARD
END:VTIMEZONE
BEGIN:VEVENT
DTSTART;TZID=America/New_York:20240304T170000
DTEND;TZID=America/New_York:20240304T190000
DTSTAMP:20260425T123703
CREATED:20240202T174402Z
LAST-MODIFIED:20240202T174402Z
UID:36140-1709571600-1709578800@livableraleigh.com
SUMMARY:Neuse River Park Public Workshop - Design Alternatives
DESCRIPTION:Drop-In Public Meeting to discuss design alternatives for Neuse River Park.\nThis meeting will be family-friendly and will include light refreshments and an art-making station for people of all ages. \nAccommodations & Translation Services are available upon request. Please contact NeuseRiverPark@publicinput.com \nLocation: Campbell Lodge\, Durant Nature PreserveAges: AllCost: Free
URL:https://livableraleigh.com/event/neuse-river-park-public-workshop-design-alternatives/
LOCATION:Campbell Lodge at Durant Nature Preserve\, 3237 Spottswood Street\, Raleigh\, 27615
CATEGORIES:Engagement Filter,Parks & Rec
END:VEVENT
BEGIN:VEVENT
DTSTART;TZID=America/New_York:20240304T180000
DTEND;TZID=America/New_York:20240304T190000
DTSTAMP:20260425T123703
CREATED:20240109T215802Z
LAST-MODIFIED:20240109T215802Z
UID:35456-1709575200-1709578800@livableraleigh.com
SUMMARY:Downtown South Quarterly Meeting
DESCRIPTION:The Downtown South project will be hosting its quarterly public meeting on March 4th\, 2024\, from 6:00 – 7:00pm. This meeting will be held via Zoom. The Zoom link for the meeting can be found below: \n\nThis meeting is open to the public. Please share the below Zoom link with anyone who may be interested in learning more about the Downtown South project. \n\nZOOM INFORMATION: \nLink: https://morningstarlaw.group/03042024.mtg
URL:https://livableraleigh.com/event/downtown-south-quarterly-meeting/
CATEGORIES:Community and Workshops,Engagement Filter
END:VEVENT
BEGIN:VEVENT
DTSTART;TZID=America/New_York:20240304T183000
DTEND;TZID=America/New_York:20240304T193000
DTSTAMP:20260425T123703
CREATED:20240227T223228Z
LAST-MODIFIED:20240227T223228Z
UID:36641-1709577000-1709580600@livableraleigh.com
SUMMARY:Neighborhood Rezoning Meeting: 4216 Holden Road (Z-5-24)
DESCRIPTION:March 4\, 2024 6:30 p.m.\nAbbotts Creek Community Center\, 9950 Durant Road\, Raleigh\, NC 27614\nz-5-24 \n4216 Holden Rd\nPost Submittal \nR-4 to R-6 \n(Additional Information)\nB\nNunna Realty\nBurns
URL:https://livableraleigh.com/event/neighborhood-rezoning-meeting-4216-holden-road-z-5-24/
LOCATION:Abbotts Creek Community Center\, 9950 Durant Rd\, Raleigh\, NC\, 27614
CATEGORIES:Engagement Filter,Neighborhood Meeting (Zoning)
END:VEVENT
END:VCALENDAR