BEGIN:VCALENDAR
VERSION:2.0
PRODID:-//Livable Raleigh - ECPv6.15.20//NONSGML v1.0//EN
CALSCALE:GREGORIAN
METHOD:PUBLISH
X-ORIGINAL-URL:https://livableraleigh.com
X-WR-CALDESC:Events for Livable Raleigh
REFRESH-INTERVAL;VALUE=DURATION:PT1H
X-Robots-Tag:noindex
X-PUBLISHED-TTL:PT1H
BEGIN:VTIMEZONE
TZID:America/New_York
BEGIN:DAYLIGHT
TZOFFSETFROM:-0500
TZOFFSETTO:-0400
TZNAME:EDT
DTSTART:20230312T070000
END:DAYLIGHT
BEGIN:STANDARD
TZOFFSETFROM:-0400
TZOFFSETTO:-0500
TZNAME:EST
DTSTART:20231105T060000
END:STANDARD
BEGIN:DAYLIGHT
TZOFFSETFROM:-0500
TZOFFSETTO:-0400
TZNAME:EDT
DTSTART:20240310T070000
END:DAYLIGHT
BEGIN:STANDARD
TZOFFSETFROM:-0400
TZOFFSETTO:-0500
TZNAME:EST
DTSTART:20241103T060000
END:STANDARD
BEGIN:DAYLIGHT
TZOFFSETFROM:-0500
TZOFFSETTO:-0400
TZNAME:EDT
DTSTART:20250309T070000
END:DAYLIGHT
BEGIN:STANDARD
TZOFFSETFROM:-0400
TZOFFSETTO:-0500
TZNAME:EST
DTSTART:20251102T060000
END:STANDARD
END:VTIMEZONE
BEGIN:VEVENT
DTSTART;TZID=America/New_York:20240301T180000
DTEND;TZID=America/New_York:20240301T193000
DTSTAMP:20260425T083023
CREATED:20240210T010747Z
LAST-MODIFIED:20240210T010747Z
UID:36442-1709316000-1709321400@livableraleigh.com
SUMMARY:Virtual Listening Session: West Raleigh Municipal Service District
DESCRIPTION:The City of Raleigh would like to measure community support for a proposed Municipal Service District (MSD) in West Raleigh\, also known as the Blue Ridge corridor. Residents and property owners who are interested in learning more about the MSD are welcome to attend. \nRead more about helping to shape the future of West Raleigh. \nMarch 1\, 6 p.m.-7:30 p.m. Join via ZoomRegistration is not required.
URL:https://livableraleigh.com/event/virtual-listening-session-west-raleigh-municipal-service-district/
LOCATION:Virtual Meeting
CATEGORIES:Community Engagement,Engagement Filter
END:VEVENT
END:VCALENDAR