BEGIN:VCALENDAR
VERSION:2.0
PRODID:-//Livable Raleigh - ECPv6.15.20//NONSGML v1.0//EN
CALSCALE:GREGORIAN
METHOD:PUBLISH
X-ORIGINAL-URL:https://livableraleigh.com
X-WR-CALDESC:Events for Livable Raleigh
REFRESH-INTERVAL;VALUE=DURATION:PT1H
X-Robots-Tag:noindex
X-PUBLISHED-TTL:PT1H
BEGIN:VTIMEZONE
TZID:America/New_York
BEGIN:DAYLIGHT
TZOFFSETFROM:-0500
TZOFFSETTO:-0400
TZNAME:EDT
DTSTART:20230312T070000
END:DAYLIGHT
BEGIN:STANDARD
TZOFFSETFROM:-0400
TZOFFSETTO:-0500
TZNAME:EST
DTSTART:20231105T060000
END:STANDARD
BEGIN:DAYLIGHT
TZOFFSETFROM:-0500
TZOFFSETTO:-0400
TZNAME:EDT
DTSTART:20240310T070000
END:DAYLIGHT
BEGIN:STANDARD
TZOFFSETFROM:-0400
TZOFFSETTO:-0500
TZNAME:EST
DTSTART:20241103T060000
END:STANDARD
BEGIN:DAYLIGHT
TZOFFSETFROM:-0500
TZOFFSETTO:-0400
TZNAME:EDT
DTSTART:20250309T070000
END:DAYLIGHT
BEGIN:STANDARD
TZOFFSETFROM:-0400
TZOFFSETTO:-0500
TZNAME:EST
DTSTART:20251102T060000
END:STANDARD
END:VTIMEZONE
BEGIN:VEVENT
DTSTART;TZID=America/New_York:20240220T160000
DTEND;TZID=America/New_York:20240220T183000
DTSTAMP:20260425T095341
CREATED:20240127T001154Z
LAST-MODIFIED:20240127T001154Z
UID:35990-1708444800-1708453800@livableraleigh.com
SUMMARY:Wake BRT: Western Corridor Station Area Plan Open House
DESCRIPTION:Winter 2024 Open Houses \nBus Rapid Transit (BRT) \nBus Rapid Transit is coming to Wake County! The western corridor will connect downtown Raleigh to downtown Cary along Western Boulevard. This will mean more frequent service and faster bus transit connections.  \nStation Area Planning \nNew Bus Rapid Transit will attract new residents\, businesses\, and investment to areas around new stations. The Station Area Plan will ensure that these changes benefit existing residents and businesses\, as well as visitors.  \nKey topics include: \n\nWalking and biking paths to stations.\nHousing for current and future residents.\nStrategies for existing businesses to thrive in the future.\nRegulations and policies to shape new development.\n\nStation Area Plan Options and Alternatives \nJoin us to explore how we can achieve station area plan goals. \n\nNew and enhanced sidewalks and pedestrian crossings. \nExpanded bike connections.\nFuture development options – homes\, businesses\, community facilities.\nAffordable housing strategies. \nSpaces for existing businesses to grow. \nOpen spaces and public amenities. \n\nWe will be sharing the same information at each of the following Open Houses.  \nOpen HouseSaturday\, February 17\, 2024: 12:30-2:30 p.m.Method Road Community Center514 Method Rd.\, Raleigh\, NC 27607 \n  \nOpen HouseTuesday\, February 20\, 2024: 4:00-6:30 p.m. Powell Drive Community Center740 Powell Dr.\, Raleigh\, NC 27606 \n  \nOnline WebinarWednesday\, February 21\, 2024: 6:30-8:00 p.m. Register
URL:https://livableraleigh.com/event/wake-brt-western-corridor-station-area-plan-open-house-2/
LOCATION:Powell Drive Park\, 740 Powell Drive\, 27606
CATEGORIES:Engagement Filter,Open Houses and Public Hearings
END:VEVENT
BEGIN:VEVENT
DTSTART;TZID=America/New_York:20240220T173000
DTEND;TZID=America/New_York:20240220T193000
DTSTAMP:20260425T095341
CREATED:20240119T154911Z
LAST-MODIFIED:20240119T154911Z
UID:35749-1708450200-1708457400@livableraleigh.com
SUMMARY:Advice About Your Device Drop-In Hours
DESCRIPTION:Need Help With Technology? Get Advice About Your Device!\nRaleigh Digital Ambassadors are here to help! Whether you have a short question about how to work your computer or have long-term digital goals\, join us for drop-in hours! This session is offered in partnership with StepUp Ministry and will take place at the White Memorial Presbyterian Church. \nYou will be paired up with a Digital Ambassador to create a plan to best support your needs and tackle goals together in a 1:1 setting. Whether you need help with your phone\, computer\, or have other digital goals\, we have you covered! \nNo appointment is needed for this FREE session.
URL:https://livableraleigh.com/event/advice-about-your-device-drop-in-hours-6/
LOCATION:White Memorial Presbyterian Church\, 1704 Oberlin Road\, Raleigh
CATEGORIES:Community and Workshops,Engagement Filter
END:VEVENT
BEGIN:VEVENT
DTSTART;TZID=America/New_York:20240220T183000
DTEND;TZID=America/New_York:20240220T193000
DTSTAMP:20260425T095341
CREATED:20240212T180036Z
LAST-MODIFIED:20240212T180036Z
UID:36471-1708453800-1708457400@livableraleigh.com
SUMMARY:Neighborhood Rezoning Meeting: 4020 Tryon Road (Z-60-23)
DESCRIPTION:Feb 20\, 2024 \n6:30 p.m.\nCarolina Pines Community Center\, 2305 Lake Wheeler Rd\, Raleigh\, NC 27603\n4020 Tryon Rd \nZ-60-23\nPost-Submittal \nIX-3-PL w/ SRPOD & SHOD-1 TO CX-5-PL-CU-w/ SRPOD \n(Additional Information)\nD\nMark Frederick\nReckhow
URL:https://livableraleigh.com/event/neighborhood-rezoning-meeting-4020-tryon-road-z-60-23/
LOCATION:Carolina Pines Community Center\, 2305 Lake Wheeler Road\, Raleigh\, NC\, 27603\, United States
CATEGORIES:Engagement Filter,Neighborhood Meeting (Zoning)
END:VEVENT
BEGIN:VEVENT
DTSTART;TZID=America/New_York:20240220T183000
DTEND;TZID=America/New_York:20240220T193000
DTSTAMP:20260425T095341
CREATED:20240212T180856Z
LAST-MODIFIED:20240212T180856Z
UID:36473-1708453800-1708457400@livableraleigh.com
SUMMARY:CONNECTRALEIGH Listening Session - Raleigh Police Department
DESCRIPTION:In the spirit of transparency\, the Raleigh Police Department is hosting community listening sessions regarding CONNECTRALEIGH\, a video camera-sharing public safety program. Learn more about the CONNECTRALEIGH program listening sessions. \nTuesday\, Feb. 206:30 p.m. to 7:30 p.m.Brier Creek Park10810 Globe Road
URL:https://livableraleigh.com/event/connectraleigh-listening-session-raleigh-police-department/
LOCATION:Brier Creek Community Center\, 10810 Globe Road\, Morrisville\, 27560
CATEGORIES:Community and Workshops,Engagement Filter
END:VEVENT
END:VCALENDAR