BEGIN:VCALENDAR
VERSION:2.0
PRODID:-//Livable Raleigh - ECPv6.15.20//NONSGML v1.0//EN
CALSCALE:GREGORIAN
METHOD:PUBLISH
X-ORIGINAL-URL:https://livableraleigh.com
X-WR-CALDESC:Events for Livable Raleigh
REFRESH-INTERVAL;VALUE=DURATION:PT1H
X-Robots-Tag:noindex
X-PUBLISHED-TTL:PT1H
BEGIN:VTIMEZONE
TZID:America/New_York
BEGIN:DAYLIGHT
TZOFFSETFROM:-0500
TZOFFSETTO:-0400
TZNAME:EDT
DTSTART:20240310T070000
END:DAYLIGHT
BEGIN:STANDARD
TZOFFSETFROM:-0400
TZOFFSETTO:-0500
TZNAME:EST
DTSTART:20241103T060000
END:STANDARD
BEGIN:DAYLIGHT
TZOFFSETFROM:-0500
TZOFFSETTO:-0400
TZNAME:EDT
DTSTART:20250309T070000
END:DAYLIGHT
BEGIN:STANDARD
TZOFFSETFROM:-0400
TZOFFSETTO:-0500
TZNAME:EST
DTSTART:20251102T060000
END:STANDARD
BEGIN:DAYLIGHT
TZOFFSETFROM:-0500
TZOFFSETTO:-0400
TZNAME:EDT
DTSTART:20260308T070000
END:DAYLIGHT
BEGIN:STANDARD
TZOFFSETFROM:-0400
TZOFFSETTO:-0500
TZNAME:EST
DTSTART:20261101T060000
END:STANDARD
BEGIN:DAYLIGHT
TZOFFSETFROM:-0500
TZOFFSETTO:-0400
TZNAME:EDT
DTSTART:20270314T070000
END:DAYLIGHT
BEGIN:STANDARD
TZOFFSETFROM:-0400
TZOFFSETTO:-0500
TZNAME:EST
DTSTART:20271107T060000
END:STANDARD
END:VTIMEZONE
BEGIN:VEVENT
DTSTART;TZID=America/New_York:20251208T190000
DTEND;TZID=America/New_York:20251208T203000
DTSTAMP:20260425T080420
CREATED:20251117T141534Z
LAST-MODIFIED:20251208T145901Z
UID:49439-1765220400-1765225800@livableraleigh.com
SUMMARY:When and How does Raleigh Vote? - POSTPONED DUE TO WEATHER- NEW DATE TBD
DESCRIPTION:POSTPONED DUE TO ICY WEATHER – NEW DATE TBD – STAY SAFE\nWHAT CHANGES ARE COMING TO RALEIGH ELECTIONS?\nAND\nWHAT DO RALEIGH VOTERS CARE ABOUT?\n\n\n\n\n\n\n\n\n\n\nThe next election for Raleigh Mayor and City Council will be held November 3\, 2026. \nBut there’s a brand-new primary election first\, on March 3\, 2026. \nWith a deadline for candidates to file and get on the ballot THIS YEAR — by December 19\, 2025. \nThat’s right: To run in 2026\, you must file with the Board of Elections by noon on December 19\, 2025. \nJoin Livable Raleigh Advisory Committee Members and our guest Elections Expert Gerry Cohen on Monday\, December 8\, from 7-8:30pm at Jaycee Park\, 2405 Wade Avenue to learn all the details. \nWe will also be presenting professional polling results showing what Raleigh voters care about.  \nIf you are unable to join us on December 8\, a video recording will be made available after the meeting. \nRead more about Raleigh’s election format changes here: Election Season Ahead
URL:https://livableraleigh.com/event/when-and-how-does-raleigh-vote/
LOCATION:Jaycee Park Community Center\, 2405 Wade Avenue\, Raleigh
CATEGORIES:Community and Workshops,Election,Engagement Filter,Livable Raleigh Public Forum
END:VEVENT
BEGIN:VEVENT
DTSTART;TZID=America/New_York:20260127T190000
DTEND;TZID=America/New_York:20260127T203000
DTSTAMP:20260425T080420
CREATED:20260113T215823Z
LAST-MODIFIED:20260114T202716Z
UID:50324-1769540400-1769545800@livableraleigh.com
SUMMARY:Hillsborough-Wade CAC featuring At-Large City Council Candidate Forum
DESCRIPTION:Hi CAC neighbors\, \nThe Hillsborough-Wade CAC will be hosting an At-Large City Council Candidate Forum two weeks from today\, on Tuesday\, January 27th at 7:00 PM on Zoom (link at the bottom of this email). Please put this event on your calendar! \nAs you may know\, Raleigh will have a non-partisan primary on March 3rd (early voting is February 12 to 28) and a general election on November 3rd. There will be only two primary races this year: At-Large and District C. Both of those races require a primary due to the number of candidates running. \nThe At-Large City Council race has six candidates running:\nJames Bledsoe\nJoshua Bradley\nStormie Denise Forte (incumbent City Councilor)\nClark Rinehart \nSana Siddiqui\nCameron Zamot \nClick on any of the above candidates’ names to visit their website. All six candidates will join us for the forum! \nSee you in two weeks\, \nMike \n\nMichael Lindsay\nChair of the Hillsborough-Wade CAC\nMobile: 919-429-0177\ninform@nc.rr.com \n\nHillsborough-Wade CAC meeting: At-Large City Council Candidate Forum \nTime: Jan 27\, 2026 07:00 PM Eastern Time (US and Canada) \nJoin Zoom Meeting \nhttps://us02web.zoom.us/j/85492662428?pwd=yC5apE1ogNeRzBS0fyZXE4SNYAQlOB.1
URL:https://livableraleigh.com/event/hillsborough-wade-cac-featuring-at-large-city-council-candidate-forum/
CATEGORIES:CAC,Election,Engagement Filter
END:VEVENT
BEGIN:VEVENT
DTSTART;TZID=America/New_York:20260207T103000
DTEND;TZID=America/New_York:20260207T143000
DTSTAMP:20260425T080420
CREATED:20260128T180532Z
LAST-MODIFIED:20260128T180532Z
UID:50980-1770460200-1770474600@livableraleigh.com
SUMMARY:City of Raleigh Candidates' Forum
DESCRIPTION:Shape the future of Raleigh. Your vote matters in this year’s Raleigh Primary (March) and General Election (November).\n\n\nIn partnership with PowerUp NC and NCLCVF\, Shaw University and Raleigh Downtown are hosting the City of Raleigh Candidates’ Forum on Saturday\, February 7 at Shaw University.\n\n\nThis is your chance to meet Raleigh City Council candidates\, hear where they stand on the issues that matter most\, and make informed decisions.\n\n\nFREE — Open to the public with lunch provided.\n\n\nREGISTER — Scan the QR Code or register here: https://secure.ngpvan.com/ZkXyNxwFdUCMfCE7wDVtwg2. \nScreenshot
URL:https://livableraleigh.com/event/city-of-raleigh-candidates-forum/
LOCATION:Estey Hall\, Shaw University\, 118 East South Street\, Raleigh
CATEGORIES:Community and Workshops,Election,Engagement Filter
END:VEVENT
END:VCALENDAR