BEGIN:VCALENDAR
VERSION:2.0
PRODID:-//Livable Raleigh - ECPv6.15.20//NONSGML v1.0//EN
CALSCALE:GREGORIAN
METHOD:PUBLISH
X-ORIGINAL-URL:https://livableraleigh.com
X-WR-CALDESC:Events for Livable Raleigh
REFRESH-INTERVAL;VALUE=DURATION:PT1H
X-Robots-Tag:noindex
X-PUBLISHED-TTL:PT1H
BEGIN:VTIMEZONE
TZID:America/New_York
BEGIN:DAYLIGHT
TZOFFSETFROM:-0500
TZOFFSETTO:-0400
TZNAME:EDT
DTSTART:20250309T070000
END:DAYLIGHT
BEGIN:STANDARD
TZOFFSETFROM:-0400
TZOFFSETTO:-0500
TZNAME:EST
DTSTART:20251102T060000
END:STANDARD
BEGIN:DAYLIGHT
TZOFFSETFROM:-0500
TZOFFSETTO:-0400
TZNAME:EDT
DTSTART:20260308T070000
END:DAYLIGHT
BEGIN:STANDARD
TZOFFSETFROM:-0400
TZOFFSETTO:-0500
TZNAME:EST
DTSTART:20261101T060000
END:STANDARD
BEGIN:DAYLIGHT
TZOFFSETFROM:-0500
TZOFFSETTO:-0400
TZNAME:EDT
DTSTART:20270314T070000
END:DAYLIGHT
BEGIN:STANDARD
TZOFFSETFROM:-0400
TZOFFSETTO:-0500
TZNAME:EST
DTSTART:20271107T060000
END:STANDARD
END:VTIMEZONE
BEGIN:VEVENT
DTSTART;TZID=America/New_York:20260402T163000
DTEND;TZID=America/New_York:20260402T183000
DTSTAMP:20260421T093734
CREATED:20260228T223653Z
LAST-MODIFIED:20260330T162744Z
UID:51963-1775147400-1775154600@livableraleigh.com
SUMMARY:Design Review Commission
DESCRIPTION:Public Meeting – April 2\, 2026\n\n\n\n\n\n\nThe City of Raleigh Design Review Commission will conduct a public meeting on Thursday\, April 2 at 4:30 p.m. at the Raleigh Municipal Building\, 222 West Hargett Street in Conference Room 305. \n\n\n\n\n\n\nFor more information about the meeting\, please contact Kasey Evans or visit the Design Review Commission webpage. \n\n\n\nA.\n\nCall to Order\n\n\n\n\n\n\n\n\n\n\n\n\n\n\n\n\n\n\n\n\n\n\n\nB.\n\nApproval of Minutes\n\n\n\n\n\n\n\n\n\n\n\n\n\n\n\n\n\n\n\n\n\n\nReview and approval of the March 5\, 2026 Design Review Commission meeting minutes. \n\n\n\n\n\n\n\n\n\nC.\n\nOther Business\n\n\n\n\n\n\n\n\n\n\n\n\n\n\n\n\n\n\n\n\n\n\n\nC.1\n\nDesign Impact Grant Review\n\n\n\n\n\n\n\n\n\n\n\n\n\n\n\n\n\n\n\n\n\n\n\nC.2\n\nSir Walter Raleigh Awards\n\n\n\n\n\n\n\n\n\n\n\n\n\n\n\n\n\n\n\n\n\n\n\nC.3\n\nReport of the Commission’s Attorney\n\n\n\n\n\n\n\n\n\n\n\n\n\n\n\n\n\n\n\n\n\n\n\nC.4\n\nReport of the Chair and/or Vice Chair\n\n\n\n\n\n\n\n\n\n\n\n\n\n\n\n\n\n\n\n\n\n\n\n\n\nD.\n\nAdjournment\n\n\n\n\nThe Commission typically meets on the first and third Thursday of each month at 4:30 p.m. Upcoming meeting agendas for the Design Review Commission can be found on our City Council\, Boards and Commissions Agendas and Minutes page. Design Review Commission public meetings will be broadcast live on RTN 11 and on our live streaming webpage. To watch past meetings\, visit our video services pag
URL:https://livableraleigh.com/event/design-review-commission-44/
LOCATION:Raleigh Municipal Building\, 222 W. Hargett St.\, Raleigh\, NC\, 27601\, United States
CATEGORIES:Design Review Commission,Virtual
END:VEVENT
END:VCALENDAR