BEGIN:VCALENDAR
VERSION:2.0
PRODID:-//Livable Raleigh - ECPv6.15.20//NONSGML v1.0//EN
CALSCALE:GREGORIAN
METHOD:PUBLISH
X-WR-CALNAME:Livable Raleigh
X-ORIGINAL-URL:https://livableraleigh.com
X-WR-CALDESC:Events for Livable Raleigh
REFRESH-INTERVAL;VALUE=DURATION:PT1H
X-Robots-Tag:noindex
X-PUBLISHED-TTL:PT1H
BEGIN:VTIMEZONE
TZID:America/New_York
BEGIN:DAYLIGHT
TZOFFSETFROM:-0500
TZOFFSETTO:-0400
TZNAME:EDT
DTSTART:20250309T070000
END:DAYLIGHT
BEGIN:STANDARD
TZOFFSETFROM:-0400
TZOFFSETTO:-0500
TZNAME:EST
DTSTART:20251102T060000
END:STANDARD
BEGIN:DAYLIGHT
TZOFFSETFROM:-0500
TZOFFSETTO:-0400
TZNAME:EDT
DTSTART:20260308T070000
END:DAYLIGHT
BEGIN:STANDARD
TZOFFSETFROM:-0400
TZOFFSETTO:-0500
TZNAME:EST
DTSTART:20261101T060000
END:STANDARD
BEGIN:DAYLIGHT
TZOFFSETFROM:-0500
TZOFFSETTO:-0400
TZNAME:EDT
DTSTART:20270314T070000
END:DAYLIGHT
BEGIN:STANDARD
TZOFFSETFROM:-0400
TZOFFSETTO:-0500
TZNAME:EST
DTSTART:20271107T060000
END:STANDARD
END:VTIMEZONE
BEGIN:VEVENT
DTSTART;TZID=America/New_York:20260305T163000
DTEND;TZID=America/New_York:20260305T183000
DTSTAMP:20260421T105121
CREATED:20260130T011035Z
LAST-MODIFIED:20260223T215147Z
UID:51042-1772728200-1772735400@livableraleigh.com
SUMMARY:Design Review Commission
DESCRIPTION:The City of Raleigh Design Review Commission will conduct a public meeting on Thursday\, March 5 at 4:30 p.m. at the Raleigh Municipal Building\, 222 West Hargett Street in the City Council Chambers. \n\n\n\n\n\n\nFor more information about the meeting\, please contact Kasey Evans or visit the Design Review Commission webpage. \n \n\n\n\n\n\n\n\nA.\n\nCall to Order\n\n\n\n\n\n\n\n\n\n\n\n\n\n\n\n\n\n\n\n\n\n\n\nB.\n\nApproval of Minutes\n\n\n\n\n\n\n\n\n\n\n\n\n\n\n\n\n\n\n\n\n\n\nReview and approval of the February 5\, 2026 Design Review Commission meeting minutes. \n\n\n\n\n\n\n\n\n\nC.\n\nDesign Alternates – Old Business\n\n\n\n\n\n\n\n\n\n\n\n\n\n\n\n\n\n\n\n\n\n\n\nD.\n\nDesign Alternates – New Business\n\n\n\n\n\n\n\n\n\n\n\n\n\n\n\n\n\n\n\n\n\n\n\nD.1\n\nPLANDEV – DA-01-2026 – 205 W Cabarrus St\n\n\n\n\n\n\n\n\n\n\n\n\n\n\n\n\n\n\n\n\n\nWHEREAS City of Raleigh\, property owner\, requests the following design alternates: (1) to construct a driveway onto W Cabarrus Street located 63.7ft away from the intersection of W Cabarrus Street and S Dawson Street in lieu of the minimum 100ft spacing required per Raleigh Street Design Manual (RSDM) Section 9.5; (2) to construct a driveway onto W Lenoir Street located 51.5ft away from the intersection of W Lenoir Street and S Dawson Street in lieu of the minimum 150ft spacing required per RSDM Section 9.5; (3) to construct a 57.2ft wide driveway onto W Cabarrus Street in lieu of the maximum 40ft width required per RSDM Section 9.5; and (4) to provide 13.8% (58ft) build-to along S Dawson Street in lieu of the minimum 35% (147ft) build-to required per Unified Development Ordinance (UDO) Sections 3.4.8.C and 1.5.6. All requests are in conjunction with the construction of a general building on the approximately 4-acreproperty zoned DX-20-UG located at 205 W Cabarrus Street. (ASR-0071-2025)\n\n\n\n\n\n\n\n\n\n\nE.\n\nOther Business\n\n\n\n\n\n\n\n\n\n\n\n\n\n\n\n\n\n\n\n\n\n\n\nE.1\n\nReport of the Commission’s Attorney\n\n\n\n\n\n\n\n\n\n\n\n\n\n\n\n\n\n\n\n\n\n\n\nE.2\n\nReport of the Chair and/or Vice Chair\n\n\n\n\n\n\n\n\n\n\n\n\n\n\n\n\n\n\n\n\n\n\n\n\n\nF.\n\nAdjournment\n\n\n\n\n\n\n\n\n\n\n\n\n\n\n\n\n\n\n\n\n\n\n\n\n\n\n\n\n\n\n\n\n\n\n\n\nThe Commission typically meets on the first and third Thursday of each month at 4:30 p.m. Upcoming meeting agendas for the Design Review Commission can be found on our City Council\, Boards and Commissions Agendas and Minutes page. Design Review Commission public meetings will be broadcast live on RTN 11 and on our live streaming webpage. To watch past meetings\, visit our video services page.
URL:https://livableraleigh.com/event/design-review-commission-42/
LOCATION:Raleigh Municipal Building\, 222 W. Hargett St.\, Raleigh\, NC\, 27601\, United States
CATEGORIES:Design Review Commission,Virtual
END:VEVENT
END:VCALENDAR