BEGIN:VCALENDAR
VERSION:2.0
PRODID:-//Livable Raleigh - ECPv6.15.20//NONSGML v1.0//EN
CALSCALE:GREGORIAN
METHOD:PUBLISH
X-WR-CALNAME:Livable Raleigh
X-ORIGINAL-URL:https://livableraleigh.com
X-WR-CALDESC:Events for Livable Raleigh
REFRESH-INTERVAL;VALUE=DURATION:PT1H
X-Robots-Tag:noindex
X-PUBLISHED-TTL:PT1H
BEGIN:VTIMEZONE
TZID:America/New_York
BEGIN:DAYLIGHT
TZOFFSETFROM:-0500
TZOFFSETTO:-0400
TZNAME:EDT
DTSTART:20240310T070000
END:DAYLIGHT
BEGIN:STANDARD
TZOFFSETFROM:-0400
TZOFFSETTO:-0500
TZNAME:EST
DTSTART:20241103T060000
END:STANDARD
BEGIN:DAYLIGHT
TZOFFSETFROM:-0500
TZOFFSETTO:-0400
TZNAME:EDT
DTSTART:20250309T070000
END:DAYLIGHT
BEGIN:STANDARD
TZOFFSETFROM:-0400
TZOFFSETTO:-0500
TZNAME:EST
DTSTART:20251102T060000
END:STANDARD
BEGIN:DAYLIGHT
TZOFFSETFROM:-0500
TZOFFSETTO:-0400
TZNAME:EDT
DTSTART:20260308T070000
END:DAYLIGHT
BEGIN:STANDARD
TZOFFSETFROM:-0400
TZOFFSETTO:-0500
TZNAME:EST
DTSTART:20261101T060000
END:STANDARD
END:VTIMEZONE
BEGIN:VEVENT
DTSTART;TZID=America/New_York:20250220T163000
DTEND;TZID=America/New_York:20250220T183000
DTSTAMP:20260423T195813
CREATED:20250111T163056Z
LAST-MODIFIED:20250218T233521Z
UID:42989-1740069000-1740076200@livableraleigh.com
SUMMARY:Design Review Commission - CANCELLED
DESCRIPTION:The City of Raleigh Design Review Commission will conduct a public meeting on Thursday\, February 20 at 4:30 p.m. at the Raleigh Municipal Building\, 222 West Hargett Street in conference room 303. \n\n\n\n\n\n\nFor more information about the meeting\, please contact Kasey Evans or visit the Design Review Commission webpage. \n\nA. Annual Report Draft\n\n\n\nB. Legacy Projects Discussion\n\n\n\nC. Sir Walter Raleigh Awards Committee\n\n\n\nD. Approval of Minutes\n\n\n1. Review January 16\, 2025 Meeting Minutes\n\n\n\n\n\n\nE. Report of the Chair and/or Vice Chair\n\n\n\nF. Adjournment\n\nThe Commission typically meets on the first and third Thursday of each month at 4:30 p.m. Meeting agendas are added to the BoardDocs agenda management portal. Design Review Commission public meetings will be broadcast live on RTN 11 and on our live streaming webpage. To watch past meetings\, visit our video services page.
URL:https://livableraleigh.com/event/design-review-commission-17/
LOCATION:Raleigh Municipal Building\, 222 W. Hargett St.\, Raleigh\, NC\, 27601\, United States
CATEGORIES:Design Review Commission,Engagement Filter
END:VEVENT
END:VCALENDAR