BEGIN:VCALENDAR
VERSION:2.0
PRODID:-//Livable Raleigh - ECPv6.15.20//NONSGML v1.0//EN
CALSCALE:GREGORIAN
METHOD:PUBLISH
X-WR-CALNAME:Livable Raleigh
X-ORIGINAL-URL:https://livableraleigh.com
X-WR-CALDESC:Events for Livable Raleigh
REFRESH-INTERVAL;VALUE=DURATION:PT1H
X-Robots-Tag:noindex
X-PUBLISHED-TTL:PT1H
BEGIN:VTIMEZONE
TZID:America/New_York
BEGIN:DAYLIGHT
TZOFFSETFROM:-0500
TZOFFSETTO:-0400
TZNAME:EDT
DTSTART:20230312T070000
END:DAYLIGHT
BEGIN:STANDARD
TZOFFSETFROM:-0400
TZOFFSETTO:-0500
TZNAME:EST
DTSTART:20231105T060000
END:STANDARD
BEGIN:DAYLIGHT
TZOFFSETFROM:-0500
TZOFFSETTO:-0400
TZNAME:EDT
DTSTART:20240310T070000
END:DAYLIGHT
BEGIN:STANDARD
TZOFFSETFROM:-0400
TZOFFSETTO:-0500
TZNAME:EST
DTSTART:20241103T060000
END:STANDARD
BEGIN:DAYLIGHT
TZOFFSETFROM:-0500
TZOFFSETTO:-0400
TZNAME:EDT
DTSTART:20250309T070000
END:DAYLIGHT
BEGIN:STANDARD
TZOFFSETFROM:-0400
TZOFFSETTO:-0500
TZNAME:EST
DTSTART:20251102T060000
END:STANDARD
END:VTIMEZONE
BEGIN:VEVENT
DTSTART;TZID=America/New_York:20241003T163000
DTEND;TZID=America/New_York:20241003T183000
DTSTAMP:20260423T074104
CREATED:20240902T001907Z
LAST-MODIFIED:20240920T132713Z
UID:40302-1727973000-1727980200@livableraleigh.com
SUMMARY:Design Review Commission
DESCRIPTION:The Commission typically meets on the first and third Thursday of each month at 4:30 p.m. Meeting agendas are added to the BoardDocs agenda management portal. Design Review Commission public meetings will be broadcast live on RTN 11 and on our live streaming webpage. To watch past meetings\, visit our video services page. \nAgenda Item Details\n\n\nMeeting\nOct 03\, 2024 – Design Review Commission Meeting – First and Third Thursday of each month\n\n\nCategory\nDesign Alternates – Old Business\n\n\nSubject\nDA-4-2024: Holy Trinity Greek Orthodox Church (5000 Lead Mine Rd)\n\n\nType\n\n\n\nContinued from the September 5\, 2024 Design Review Commission meeting. \nWHEREAS Greek Orthodox Community Inc of Raleigh NC\, property owner\, requests the following design alternates: (1) for complete relief from the New and Existing Streets requirements per UDO Section 8.4.1.B.1 along French Drive; (2) for complete relief from the New and Existing Streets requirements per UDO Section 8.4.1.B.1 along Lead Mine Road; (3) for complete relief from the Neighborhood Street Type requirements set forth in UDO Section 8.5.4.C along French Drive; and (4) for complete relief from the Avenue 4-Lane Divided Street Type requirements set forth in UDO Section 8.5.6.B along Lead Mine Road.  All requests are in conjunction with the expansion of a civic building on the approximately 6.6 acre property zoned R-4 located at 5000 and 5008 Lead Mine Road (ASR-0084-2023).
URL:https://livableraleigh.com/event/design-review-commission-9/
LOCATION:Raleigh Municipal Building\, 222 W. Hargett St.\, Raleigh\, NC\, 27601\, United States
CATEGORIES:Design Review Commission
END:VEVENT
END:VCALENDAR