BEGIN:VCALENDAR
VERSION:2.0
PRODID:-//Livable Raleigh - ECPv6.15.20//NONSGML v1.0//EN
CALSCALE:GREGORIAN
METHOD:PUBLISH
X-ORIGINAL-URL:https://livableraleigh.com
X-WR-CALDESC:Events for Livable Raleigh
REFRESH-INTERVAL;VALUE=DURATION:PT1H
X-Robots-Tag:noindex
X-PUBLISHED-TTL:PT1H
BEGIN:VTIMEZONE
TZID:America/New_York
BEGIN:DAYLIGHT
TZOFFSETFROM:-0500
TZOFFSETTO:-0400
TZNAME:EDT
DTSTART:20230312T070000
END:DAYLIGHT
BEGIN:STANDARD
TZOFFSETFROM:-0400
TZOFFSETTO:-0500
TZNAME:EST
DTSTART:20231105T060000
END:STANDARD
BEGIN:DAYLIGHT
TZOFFSETFROM:-0500
TZOFFSETTO:-0400
TZNAME:EDT
DTSTART:20240310T070000
END:DAYLIGHT
BEGIN:STANDARD
TZOFFSETFROM:-0400
TZOFFSETTO:-0500
TZNAME:EST
DTSTART:20241103T060000
END:STANDARD
BEGIN:DAYLIGHT
TZOFFSETFROM:-0500
TZOFFSETTO:-0400
TZNAME:EDT
DTSTART:20250309T070000
END:DAYLIGHT
BEGIN:STANDARD
TZOFFSETFROM:-0400
TZOFFSETTO:-0500
TZNAME:EST
DTSTART:20251102T060000
END:STANDARD
END:VTIMEZONE
BEGIN:VEVENT
DTSTART;TZID=America/New_York:20241205T163000
DTEND;TZID=America/New_York:20241205T183000
DTSTAMP:20260423T150151
CREATED:20241103T151153Z
LAST-MODIFIED:20241122T143313Z
UID:42201-1733416200-1733423400@livableraleigh.com
SUMMARY:Design Review Commission
DESCRIPTION:Public Meeting – December 5\, 2024\n\n\n\n\n\n\nThe City of Raleigh Design Review Commission will conduct a public meeting on Thursday\, December 5 at 4:30 p.m. at the Raleigh Municipal Building\, 222 West Hargett Street in the Council Chamber. \n\n\n\n\n\n\nFor more information about the meeting\, please contact Kasey Evans or visit the Design Review Commission webpage. \n\nA. Design Alternates – Old Business\n\n\n1. DA-4-2024: Holy Trinity Greek Orthodox Church (5000 Lead Mine Rd)\nThis Agenda Item Contains an Attachment.\n\n\n\n\n\nB. Design Alternates – New Business\n\n\n1. DA-10-2024: 5401 North (7740 Midtown Market Av)\nThis Agenda Item Contains an Attachment.\n\n2. DA-11-2024: West South Street Apartments (601 & 611 W South St\, and 716 & 718 S Saunders St)\nThis Agenda Item Contains an Attachment.\n\n\n\n\n\nC. Approval of Minutes\n\n\n1. Review November 7\, 2024 Meeting Minutes\nThis Agenda Item Contains an Attachment.\n\n\n\n\n\nD. Report of the Commission’s Attorney\n\n\n\nE. Report of the Chair and/or Vice Chair\n\n\n\nF. Other Business\n\n\n\nG. Adjournment\n\nThe Commission typically meets on the first and third Thursday of each month at 4:30 p.m. Meeting agendas are added to the BoardDocs agenda management portal. Design Review Commission public meetings will be broadcast live on RTN 11 and on our live streaming webpage. To watch past meetings\, visit our video services page.
URL:https://livableraleigh.com/event/42201/
LOCATION:Raleigh Municipal Building\, 222 W. Hargett St.\, Raleigh\, NC\, 27601\, United States
CATEGORIES:Design Review Commission
END:VEVENT
BEGIN:VEVENT
DTSTART;TZID=America/New_York:20241219T163000
DTEND;TZID=America/New_York:20241219T183000
DTSTAMP:20260423T150151
CREATED:20241103T153456Z
LAST-MODIFIED:20241209T144615Z
UID:42235-1734625800-1734633000@livableraleigh.com
SUMMARY:Design Review Commission -- canceled
DESCRIPTION:The Commission typically meets on the first and third Thursday of each month at 4:30 p.m. Meeting agendas are added to the BoardDocs agenda management portal. Design Review Commission public meetings will be broadcast live on RTN 11 and on our live streaming webpage. To watch past meetings\, visit our video services page.
URL:https://livableraleigh.com/event/design-review-commission-13/
LOCATION:Raleigh Municipal Building\, 222 W. Hargett St.\, Raleigh\, NC\, 27601\, United States
CATEGORIES:Design Review Commission
END:VEVENT
END:VCALENDAR