BEGIN:VCALENDAR
VERSION:2.0
PRODID:-//Livable Raleigh - ECPv6.15.20//NONSGML v1.0//EN
CALSCALE:GREGORIAN
METHOD:PUBLISH
X-WR-CALNAME:Livable Raleigh
X-ORIGINAL-URL:https://livableraleigh.com
X-WR-CALDESC:Events for Livable Raleigh
REFRESH-INTERVAL;VALUE=DURATION:PT1H
X-Robots-Tag:noindex
X-PUBLISHED-TTL:PT1H
BEGIN:VTIMEZONE
TZID:America/New_York
BEGIN:DAYLIGHT
TZOFFSETFROM:-0500
TZOFFSETTO:-0400
TZNAME:EDT
DTSTART:20230312T070000
END:DAYLIGHT
BEGIN:STANDARD
TZOFFSETFROM:-0400
TZOFFSETTO:-0500
TZNAME:EST
DTSTART:20231105T060000
END:STANDARD
BEGIN:DAYLIGHT
TZOFFSETFROM:-0500
TZOFFSETTO:-0400
TZNAME:EDT
DTSTART:20240310T070000
END:DAYLIGHT
BEGIN:STANDARD
TZOFFSETFROM:-0400
TZOFFSETTO:-0500
TZNAME:EST
DTSTART:20241103T060000
END:STANDARD
BEGIN:DAYLIGHT
TZOFFSETFROM:-0500
TZOFFSETTO:-0400
TZNAME:EDT
DTSTART:20250309T070000
END:DAYLIGHT
BEGIN:STANDARD
TZOFFSETFROM:-0400
TZOFFSETTO:-0500
TZNAME:EST
DTSTART:20251102T060000
END:STANDARD
END:VTIMEZONE
BEGIN:VEVENT
DTSTART;TZID=America/New_York:20240905T163000
DTEND;TZID=America/New_York:20240905T183000
DTSTAMP:20260421T164045
CREATED:20240803T012417Z
LAST-MODIFIED:20240821T131549Z
UID:39708-1725553800-1725561000@livableraleigh.com
SUMMARY:Design Review Commission
DESCRIPTION:Public Meeting – September 5\, 2024\n\n\n\n\n\n\nThe City of Raleigh Design Review Commission will conduct a public meeting on Thursday\, September 5 at 4:30 p.m. at the Raleigh Municipal Building\, 222 West Hargett Street in the Council Chamber. \n\n\n\n\n\n\nFor more information about the meeting\, please contact Kasey Evans or visit the Design Review Commission webpage. \n\nA. Design Alternates – Old Business\n\n\n1. DA-4-2024: Holy Trinity Greek Orthodox Church (5000 Lead Mine Rd)\nThis Agenda Item Contains an Attachment.\n\n2. DA-7-2024: 1021 Social St (Life Time Living Residential)\nThis Agenda Item Contains an Attachment.\n\n\n\n\n\nB. Approval of Minutes\n\n\n1. Review August 1\, 2024 Meeting Minutes\n\n\n\n\n\n\nC. Sir Walter Raleigh Awards Planning\n\n\n1. SWRA Planning\n\n\n\n\n\n\nD. Report of the Commission’s Attorney\n\n\n\nE. Report of the Chair and/or Vice Chair\n\n\n\nF. Adjournment\n\nThe Commission typically meets on the first and third Thursday of each month at 4:30 p.m. Meeting agendas are added to the BoardDocs agenda management portal. Design Review Commission public meetings will be broadcast live on RTN 11 and on our live streaming webpage. To watch past meetings\, visit our video services page.
URL:https://livableraleigh.com/event/design-review-commission-7/
LOCATION:Raleigh Municipal Building\, 222 W. Hargett St.\, Raleigh\, NC\, 27601\, United States
CATEGORIES:Design Review Commission
END:VEVENT
BEGIN:VEVENT
DTSTART;TZID=America/New_York:20240919T163000
DTEND;TZID=America/New_York:20240919T183000
DTSTAMP:20260421T164045
CREATED:20240803T134039Z
LAST-MODIFIED:20240913T205243Z
UID:39768-1726763400-1726770600@livableraleigh.com
SUMMARY:Design Review Commission - CANCELLED
DESCRIPTION:The Commission typically meets on the first and third Thursday of each month at 4:30 p.m. Meeting agendas are added to the BoardDocs agenda management portal. Design Review Commission public meetings will be broadcast live on RTN 11 and on our live streaming webpage. To watch past meetings\, visit our video services page.
URL:https://livableraleigh.com/event/design-review-commission-8/
LOCATION:Raleigh Municipal Building\, 222 W. Hargett St.\, Raleigh\, NC\, 27601\, United States
CATEGORIES:Design Review Commission
END:VEVENT
END:VCALENDAR