BEGIN:VCALENDAR
VERSION:2.0
PRODID:-//Livable Raleigh - ECPv6.15.20//NONSGML v1.0//EN
CALSCALE:GREGORIAN
METHOD:PUBLISH
X-WR-CALNAME:Livable Raleigh
X-ORIGINAL-URL:https://livableraleigh.com
X-WR-CALDESC:Events for Livable Raleigh
REFRESH-INTERVAL;VALUE=DURATION:PT1H
X-Robots-Tag:noindex
X-PUBLISHED-TTL:PT1H
BEGIN:VTIMEZONE
TZID:America/New_York
BEGIN:DAYLIGHT
TZOFFSETFROM:-0500
TZOFFSETTO:-0400
TZNAME:EDT
DTSTART:20230312T070000
END:DAYLIGHT
BEGIN:STANDARD
TZOFFSETFROM:-0400
TZOFFSETTO:-0500
TZNAME:EST
DTSTART:20231105T060000
END:STANDARD
BEGIN:DAYLIGHT
TZOFFSETFROM:-0500
TZOFFSETTO:-0400
TZNAME:EDT
DTSTART:20240310T070000
END:DAYLIGHT
BEGIN:STANDARD
TZOFFSETFROM:-0400
TZOFFSETTO:-0500
TZNAME:EST
DTSTART:20241103T060000
END:STANDARD
BEGIN:DAYLIGHT
TZOFFSETFROM:-0500
TZOFFSETTO:-0400
TZNAME:EDT
DTSTART:20250309T070000
END:DAYLIGHT
BEGIN:STANDARD
TZOFFSETFROM:-0400
TZOFFSETTO:-0500
TZNAME:EST
DTSTART:20251102T060000
END:STANDARD
END:VTIMEZONE
BEGIN:VEVENT
DTSTART;TZID=America/New_York:20240710T163000
DTEND;TZID=America/New_York:20240710T173000
DTSTAMP:20260421T134108
CREATED:20240621T230231Z
LAST-MODIFIED:20240621T230258Z
UID:38903-1720629000-1720632600@livableraleigh.com
SUMMARY:Design Review Commission
DESCRIPTION:Public Meeting – July 10\, 2024\n\n\n\n\n\n\nThe City of Raleigh Design Review Commission will conduct a public meeting on Wednesday\, July 10 at 4:30 p.m. at the Raleigh Municipal Building\, 222 West Hargett Street in the Council Chamber. \n\n\n\n\n\n\nFor more information about the meeting\, please contact Kasey Evans or visit the Design Review Commission webpage. \nA. MEETING CALLED TO ORDER BY THE CHAIR\n\n\n1. Item 22-05: Prince Hall Historic Overlay District (5/7/24)\nThis Agenda Item Contains an Attachment.\n\n2. Item 22-07: Rezoning Z-72-22: S Blount Street\, north of E Cabarrus Street (District C) (5/21/24)\nThis Agenda Item Contains an Attachment.\n\n\n\n\n\nB. PENDING ITEMS\n\n\n1. Item 22-01: Economic Development Roundtable – Historically Black Colleges & Universities (2/21/23)\n\n\n2. Item 22-04: Downtown Raleigh Economic Development Strategy (2/13/24)\n\n\n3. Item 22-06: Leveling the Playing Field (Workforce Development Organization) (5/7/24)
URL:https://livableraleigh.com/event/design-review-commission-4/
LOCATION:Raleigh Municipal Building\, 222 W. Hargett St.\, Raleigh\, NC\, 27601\, United States
CATEGORIES:Design Review Commission
END:VEVENT
BEGIN:VEVENT
DTSTART;TZID=America/New_York:20240718T163000
DTEND;TZID=America/New_York:20240718T183000
DTSTAMP:20260421T134108
CREATED:20240601T223914Z
LAST-MODIFIED:20240712T172259Z
UID:38516-1721320200-1721327400@livableraleigh.com
SUMMARY:Design Review Commission - CANCELLED
DESCRIPTION:The Commission typically meets on the first and third Thursday of each month at 4:30 p.m. Meeting agendas are added to the BoardDocs agenda management portal. Design Review Commission public meetings will be broadcast live on RTN 11 and on our live streaming webpage. To watch past meetings\, visit our video services page.
URL:https://livableraleigh.com/event/design-review-commission-3/
LOCATION:Raleigh Municipal Building\, 222 W. Hargett St.\, Raleigh\, NC\, 27601\, United States
CATEGORIES:Design Review Commission
END:VEVENT
END:VCALENDAR