BEGIN:VCALENDAR
VERSION:2.0
PRODID:-//Livable Raleigh - ECPv6.15.20//NONSGML v1.0//EN
CALSCALE:GREGORIAN
METHOD:PUBLISH
X-WR-CALNAME:Livable Raleigh
X-ORIGINAL-URL:https://livableraleigh.com
X-WR-CALDESC:Events for Livable Raleigh
REFRESH-INTERVAL;VALUE=DURATION:PT1H
X-Robots-Tag:noindex
X-PUBLISHED-TTL:PT1H
BEGIN:VTIMEZONE
TZID:America/New_York
BEGIN:DAYLIGHT
TZOFFSETFROM:-0500
TZOFFSETTO:-0400
TZNAME:EDT
DTSTART:20220313T070000
END:DAYLIGHT
BEGIN:STANDARD
TZOFFSETFROM:-0400
TZOFFSETTO:-0500
TZNAME:EST
DTSTART:20221106T060000
END:STANDARD
BEGIN:DAYLIGHT
TZOFFSETFROM:-0500
TZOFFSETTO:-0400
TZNAME:EDT
DTSTART:20230312T070000
END:DAYLIGHT
BEGIN:STANDARD
TZOFFSETFROM:-0400
TZOFFSETTO:-0500
TZNAME:EST
DTSTART:20231105T060000
END:STANDARD
BEGIN:DAYLIGHT
TZOFFSETFROM:-0500
TZOFFSETTO:-0400
TZNAME:EDT
DTSTART:20240310T070000
END:DAYLIGHT
BEGIN:STANDARD
TZOFFSETFROM:-0400
TZOFFSETTO:-0500
TZNAME:EST
DTSTART:20241103T060000
END:STANDARD
END:VTIMEZONE
BEGIN:VEVENT
DTSTART;TZID=America/New_York:20230523T160000
DTEND;TZID=America/New_York:20230523T173000
DTSTAMP:20260420T022447
CREATED:20230504T002556Z
LAST-MODIFIED:20230519T095522Z
UID:29758-1684857600-1684863000@livableraleigh.com
SUMMARY:Growth & Natural Resources Committee Meeting
DESCRIPTION:A. MEETING CALLED TO ORDER BY THE CHAIR\n\n1. Omnibus Text Change List\n\nGo to our Council Committees page to register to join this meeting. \nYou can also get information on how to watch the meeting\, view agendas and minutes\, view members\, and see information about other Council Committees.
URL:https://livableraleigh.com/event/growth-natural-resources-committee-meeting-2/
LOCATION:Raleigh Municipal Building\, 222 W. Hargett St.\, Raleigh\, NC\, 27601\, United States
CATEGORIES:Council Committee
END:VEVENT
BEGIN:VEVENT
DTSTART;TZID=America/New_York:20230523T133000
DTEND;TZID=America/New_York:20230523T150000
DTSTAMP:20260420T022447
CREATED:20230504T002411Z
LAST-MODIFIED:20230519T095554Z
UID:29756-1684848600-1684854000@livableraleigh.com
SUMMARY:Economic Development and Innovation Committee Meeting
DESCRIPTION:A. MEETING CALLED TO ORDER BY THE CHAIR\n\n1. Historically Black Colleges and Universities \n\n\n\n\n\nGo to our Council Committees page to get information on how to watch the meeting\, view agendas and minutes\, view members\, and see information about other Council Committees.
URL:https://livableraleigh.com/event/economic-development-and-innovation-committee-meeting/
LOCATION:Raleigh Municipal Building\, 222 W. Hargett St.\, Raleigh\, NC\, 27601\, United States
CATEGORIES:Council Committee
END:VEVENT
BEGIN:VEVENT
DTSTART;TZID=America/New_York:20230328T113000
DTEND;TZID=America/New_York:20230328T133000
DTSTAMP:20260420T022447
CREATED:20230309T235038Z
LAST-MODIFIED:20230323T233447Z
UID:28389-1680003000-1680010200@livableraleigh.com
SUMMARY:Safe\, Vibrant & Healthy Community Meeting
DESCRIPTION:A. MEETING CALLED TO ORDER BY THE CHAIR\n\n1. Rezoning Z-54-22 Peace and West Street (District D) \n\n\n\n\nCONFERENCE ROOM 305\n222 WEST HARGETT STREET\nRALEIGH\, NORTH CAROLINA\nGo to our Council Committees page to get information on how to watch the meeting\, view agendas and minutes\, view members\, and see information about other Council Committees.
URL:https://livableraleigh.com/event/safe-vibrant-healthy-community-meeting-2/
LOCATION:Raleigh Municipal Building\, 222 W. Hargett St.\, Raleigh\, NC\, 27601\, United States
CATEGORIES:Council Committee
END:VEVENT
BEGIN:VEVENT
DTSTART;TZID=America/New_York:20230323T150000
DTEND;TZID=America/New_York:20230323T163000
DTSTAMP:20260420T022447
CREATED:20230314T161704Z
LAST-MODIFIED:20230321T224339Z
UID:28659-1679583600-1679589000@livableraleigh.com
SUMMARY:Transportation and Transit Committee Meeting
DESCRIPTION:A. MEETING CALLED TO THE ORDER BY THE CHAIR\n\n1. Walkability and Improving Safety \n\n\n\n\nTRANSPORTATION AND TRANSIT COMMITTEE\nFourth Thursday of each month (Council meeting schedule may alter this)\n3:00 PM \nCOUNCIL CHAMBER\, ROOM 201\n222 WEST HARGETT STREET\nRALEIGH\, NORTH CAROLINA
URL:https://livableraleigh.com/event/transportation-and-transit-committee-meeting/
LOCATION:Raleigh Municipal Building\, 222 W. Hargett St.\, Raleigh\, NC\, 27601\, United States
CATEGORIES:Council Committee
END:VEVENT
BEGIN:VEVENT
DTSTART;TZID=America/New_York:20230309T140000
DTEND;TZID=America/New_York:20230309T153000
DTSTAMP:20260420T022447
CREATED:20230226T135515Z
LAST-MODIFIED:20230306T190639Z
UID:28012-1678370400-1678375800@livableraleigh.com
SUMMARY:Community Outreach Committee -- CANCELED
DESCRIPTION:The Community Outreach Committee promotes and encourages public participation in bicycle- and pedestrian-related projects and initiatives. \n\nMeeting Schedule: The second Thursday of every month at 2 p.m. unless otherwise specified\nMeeting Location: Raleigh Municipal Building\, Conference Room 419\nMembers: Nick Neptune (Chair)\, Shakema McClean\, Brian Thomas\, Michael Thor\n\nIf you are interested in viewing the meeting or making a public comment\, please contact Barbara Godwin
URL:https://livableraleigh.com/event/community-outreach-committee/
LOCATION:Raleigh Municipal Building\, 222 W. Hargett St.\, Raleigh\, NC\, 27601\, United States
CATEGORIES:Council Committee
END:VEVENT
BEGIN:VEVENT
DTSTART;TZID=America/New_York:20230228T160000
DTEND;TZID=America/New_York:20230228T180000
DTSTAMP:20260420T022447
CREATED:20230215T002757Z
LAST-MODIFIED:20230224T143051Z
UID:27475-1677600000-1677607200@livableraleigh.com
SUMMARY:Growth & Natural Resources Committee Meeting
DESCRIPTION:A. MEETING CALLED TO ORDER BY THE CHAIR\n\n1. Item 22-01 – Dix Edge Area Study Final Report and Comprehensive Plan Amendment (1/24/23) \n\n\n2. Item 22-02 – Rezoning Z-53-22B: S Wilmington St\, and Water Works St (District D) (1/24/23) \n\n\n3. To be Deferred: Item 22-03 – Rezoning Z-72-21: Lake Wheeler Road\, Mercury Street\, Maywood Avenue (District D) (1/24/23)\n\nGROWTH AND NATURAL RESOURCES COMMITTE\nFourth Tuesday of each month (Council meeting schedule may alter this)\n4:00 PM \nCOUNCIL CHAMBER\, ROOM 201\n222 WEST HARGETT STREET\nRALEIGH\, NORTH CAROLINA \n\nGo to our Council Committees page to register to join this meeting. \nYou can also get information on how to watch the meeting\, view agendas and minutes\, view members\, and see information about other Council Committees.
URL:https://livableraleigh.com/event/growth-natural-resources-committee-meeting/
LOCATION:Raleigh Municipal Building\, 222 W. Hargett St.\, Raleigh\, NC\, 27601\, United States
CATEGORIES:Council Committee
END:VEVENT
BEGIN:VEVENT
DTSTART;TZID=America/New_York:20230228T113000
DTEND;TZID=America/New_York:20230228T133000
DTSTAMP:20260420T022447
CREATED:20230215T002548Z
LAST-MODIFIED:20230224T142253Z
UID:27473-1677583800-1677591000@livableraleigh.com
SUMMARY:Safe\, Vibrant & Healthy Community Meeting
DESCRIPTION:SAFE\, VIBRANT AND HEALTHY COMMUNITY COMMITTEE\nFourth Tuesday of each month (Council meeting schedule may alter this)\n11:30 AM \nRALEIGH MUNICIPAL BUILDING\, ROOM 303\n222 WEST HARGETT STREET\nRALEIGH\, NORTH CAROLINA \n\nA. MEETING CALLED TO ORDER BY THE CHAIR\n\n1. Item 22-01 – Rezoning Z-54-22: Peace & West (District D) (1/24/23) \n\n\n\n\n\nGo to our Council Committees page to get information on how to watch the meeting\, view agendas and minutes\, view members\, and see information about other Council Committees.
URL:https://livableraleigh.com/event/safe-vibrant-healthy-community-meeting/
LOCATION:Raleigh Municipal Building\, 222 W. Hargett St.\, Raleigh\, NC\, 27601\, United States
CATEGORIES:Council Committee
END:VEVENT
END:VCALENDAR