BEGIN:VCALENDAR
VERSION:2.0
PRODID:-//Livable Raleigh - ECPv6.15.20//NONSGML v1.0//EN
CALSCALE:GREGORIAN
METHOD:PUBLISH
X-ORIGINAL-URL:https://livableraleigh.com
X-WR-CALDESC:Events for Livable Raleigh
REFRESH-INTERVAL;VALUE=DURATION:PT1H
X-Robots-Tag:noindex
X-PUBLISHED-TTL:PT1H
BEGIN:VTIMEZONE
TZID:America/New_York
BEGIN:DAYLIGHT
TZOFFSETFROM:-0500
TZOFFSETTO:-0400
TZNAME:EDT
DTSTART:20220313T070000
END:DAYLIGHT
BEGIN:STANDARD
TZOFFSETFROM:-0400
TZOFFSETTO:-0500
TZNAME:EST
DTSTART:20221106T060000
END:STANDARD
BEGIN:DAYLIGHT
TZOFFSETFROM:-0500
TZOFFSETTO:-0400
TZNAME:EDT
DTSTART:20230312T070000
END:DAYLIGHT
BEGIN:STANDARD
TZOFFSETFROM:-0400
TZOFFSETTO:-0500
TZNAME:EST
DTSTART:20231105T060000
END:STANDARD
BEGIN:DAYLIGHT
TZOFFSETFROM:-0500
TZOFFSETTO:-0400
TZNAME:EDT
DTSTART:20240310T070000
END:DAYLIGHT
BEGIN:STANDARD
TZOFFSETFROM:-0400
TZOFFSETTO:-0500
TZNAME:EST
DTSTART:20241103T060000
END:STANDARD
END:VTIMEZONE
BEGIN:VEVENT
DTSTART;TZID=America/New_York:20231214T100000
DTEND;TZID=America/New_York:20231214T120000
DTSTAMP:20260420T010448
CREATED:20231103T000637Z
LAST-MODIFIED:20231103T000637Z
UID:33933-1702548000-1702555200@livableraleigh.com
SUMMARY:City/County Joint Housing Stability Coalition Meeting
DESCRIPTION:The public is invited to view the City/County Joint Housing Stability Coalition Meeting. \nThe group is made up of local leaders\, community members and providers which will assist with the revisioning and rebranding of the Continuum of Care lead agency to ensure the coordination of care for some of the most vulnerable in our community.
URL:https://livableraleigh.com/event/city-county-joint-housing-stability-coalition-meeting/
LOCATION:Wake County Commons Building\, 4011 Carya Drive
CATEGORIES:Council Committee
END:VEVENT
BEGIN:VEVENT
DTSTART;TZID=America/New_York:20231128T160000
DTEND;TZID=America/New_York:20231128T173000
DTSTAMP:20260420T010448
CREATED:20231108T003054Z
LAST-MODIFIED:20231122T203021Z
UID:34154-1701187200-1701192600@livableraleigh.com
SUMMARY:Growth & Natural Resources Committee Meeting
DESCRIPTION:A. MEETING CALLED TO ORDER BY THE CHAIR\n\n\n1. Item 22-08 Comprehensive Plan Amendment CP-4-23: Downtown Transition Areas\, east and south of the Glenwood-Brooklyn neighborhood (District D)\n\n\n2. Item 22-05 NC Wildlife Resource Commission- Green Growth Toolbox Program\n\n\n\n\n\n\nB. PENDING ITEMS\n\nGo to our Council Committees page to register to join this meeting. \nYou can also get information on how to watch the meeting\, view agendas and minutes\, view members\, and see information about other Council Committees.
URL:https://livableraleigh.com/event/growth-natural-resources-committee-meeting-6/
LOCATION:Raleigh Municipal Building\, 222 W. Hargett St.\, Raleigh\, NC\, 27601\, United States
CATEGORIES:Council Committee
END:VEVENT
BEGIN:VEVENT
DTSTART;TZID=America/New_York:20231026T150000
DTEND;TZID=America/New_York:20231026T170000
DTSTAMP:20260420T010448
CREATED:20231017T102422Z
LAST-MODIFIED:20231020T143049Z
UID:33607-1698332400-1698339600@livableraleigh.com
SUMMARY:Transportation & Transit Committee
DESCRIPTION:A. MEETING CALLED TO THE ORDER BY THE CHAIR\n\n\n1. Item 22-05 Rezoning Z-94-22 Creedmoor Road (District E)\nThis Agenda Item Contains an Attachment.\n\n2. Item 22-06 Six Forks Road Improvements Project Update\nThis Agenda Item Contains an Attachment.\n\n\n\n\n\nB. PENDING ITEMS
URL:https://livableraleigh.com/event/transportation-transit-committee/
LOCATION:NC
CATEGORIES:Council Committee,Engagement Filter
END:VEVENT
BEGIN:VEVENT
DTSTART;TZID=America/New_York:20231024T160000
DTEND;TZID=America/New_York:20231024T173000
DTSTAMP:20260420T010448
CREATED:20231003T191452Z
LAST-MODIFIED:20231020T145928Z
UID:33281-1698163200-1698168600@livableraleigh.com
SUMMARY:Growth & Natural Resources Committee Meeting
DESCRIPTION:A. MEETING CALLED TO ORDER BY THE CHAIR\n\n\n1. Item 22-07 External Text Change Request- Mordecai Neighborhood Conservation Overlay Districts- Citizen Initiated\nThis Agenda Item Contains an Attachment.\n\n2. Item 22-06 Greenway Master Plan\n\n\n\n\n\n\nB. PENDING ITEMS\n\nGo to our Council Committees page to register to join this meeting. \nYou can also get information on how to watch the meeting\, view agendas and minutes\, view members\, and see information about other Council Committees.
URL:https://livableraleigh.com/event/growth-natural-resources-committee-meeting-5/
LOCATION:Raleigh Municipal Building\, 222 W. Hargett St.\, Raleigh\, NC\, 27601\, United States
CATEGORIES:Council Committee
END:VEVENT
BEGIN:VEVENT
DTSTART;TZID=America/New_York:20231024T133000
DTEND;TZID=America/New_York:20231024T150000
DTSTAMP:20260420T010448
CREATED:20230905T203022Z
LAST-MODIFIED:20231020T104144Z
UID:32493-1698154200-1698159600@livableraleigh.com
SUMMARY:Economic Development and Innovation Committee Meeting
DESCRIPTION:A. MEETING CALLED TO ORDER BY THE CHAIR\n\n\n1. Item 22-01 Economic Development Roundtable – Historically Black Colleges and Universities\nThis Agenda Item Contains an Attachment.\n\n2. Item 22-03 Gener8tor Music\n\n\n\n\n\n\nB. PENDING ITEMS\n\nGo to our Council Committees page to get information on how to watch the meeting\, view agendas and minutes\, view members\, and see information about other Council Committees.
URL:https://livableraleigh.com/event/economic-development-and-innovation-committee-meeting-4/
LOCATION:Raleigh Municipal Building\, 222 W. Hargett St.\, Raleigh\, NC\, 27601\, United States
CATEGORIES:Council Committee
END:VEVENT
BEGIN:VEVENT
DTSTART;TZID=America/New_York:20231024T113000
DTEND;TZID=America/New_York:20231024T123000
DTSTAMP:20260420T010448
CREATED:20231017T102049Z
LAST-MODIFIED:20231020T104109Z
UID:33603-1698147000-1698150600@livableraleigh.com
SUMMARY:Safe\, Vibrant\, & Health Community Committee
DESCRIPTION:A. MEETING CALLED TO ORDER BY THE CHAIR\n\n\n1. Item 22-02 Downtown Public Safety Update
URL:https://livableraleigh.com/event/safe-vibrant-health-community-committee/
LOCATION:NC
CATEGORIES:Council Committee,Engagement Filter
END:VEVENT
BEGIN:VEVENT
DTSTART;TZID=America/New_York:20230928T150000
DTEND;TZID=America/New_York:20230928T163000
DTSTAMP:20260420T010448
CREATED:20230905T203333Z
LAST-MODIFIED:20230922T160055Z
UID:32497-1695913200-1695918600@livableraleigh.com
SUMMARY:Transportation and Transit Committee Meeting
DESCRIPTION:A. MEETING CALLED TO THE ORDER BY THE CHAIR\n\n\n1. Item 22-02- Rezoning Z-50-21 – Fairview Rd and Bickett Blvd (9/5/23)\nThis Agenda Item Contains an Attachment.\n\n2. Item 22-03: Comprehensive Plan Amendment CP-3-23: Kellam-Wyatt Farm Park (District C)\nThis Agenda Item Contains an Attachment.\n\n\n\n\n\nB. PENDING ITEMS\n\nGo to our Council Committees page to get information on how to watch the meeting\, view agendas and minutes\, view members\, and see information about other Council Committees.
URL:https://livableraleigh.com/event/transportation-and-transit-committee-meeting-2/
LOCATION:Raleigh Municipal Building\, 222 W. Hargett St.\, Raleigh\, NC\, 27601\, United States
CATEGORIES:Council Committee
END:VEVENT
BEGIN:VEVENT
DTSTART;TZID=America/New_York:20230926T160000
DTEND;TZID=America/New_York:20230926T173000
DTSTAMP:20260420T010448
CREATED:20230820T165011Z
LAST-MODIFIED:20230921T160742Z
UID:32077-1695744000-1695749400@livableraleigh.com
SUMMARY:Growth & Natural Resources Committee Meeting
DESCRIPTION:A. MEETING CALLED TO ORDER BY THE CHAIR\n\n\n1. Item 22-04 Omnibus Text Change Program 2023\nThis Agenda Item Contains an Attachment.\n\n2. Item 22-05 NC Wildlife Resource Commission- Green Growth Toolbox Program\nThis Agenda Item Contains an Attachment.\n\n\n\n\n\nB. PENDING ITEMS\n\n\n1. Item 22-06 Greenway Master Plan (7/5/23)\n\n\n2. Item 22-07 External Text Change Request- Mordecai Neighborhood Conservation Overlay Districts- Citizen Initiated (9/19/23)\n\n\n\nGo to our Council Committees page to register to join this meeting. \nYou can also get information on how to watch the meeting\, view agendas and minutes\, view members\, and see information about other Council Committees.
URL:https://livableraleigh.com/event/growth-natural-resources-committee-meeting-4/
LOCATION:Raleigh Municipal Building\, 222 W. Hargett St.\, Raleigh\, NC\, 27601\, United States
CATEGORIES:Council Committee
END:VEVENT
BEGIN:VEVENT
DTSTART;TZID=America/New_York:20230926T133000
DTEND;TZID=America/New_York:20230926T150000
DTSTAMP:20260420T010448
CREATED:20230820T164844Z
LAST-MODIFIED:20230921T160925Z
UID:32075-1695735000-1695740400@livableraleigh.com
SUMMARY:Economic Development and Innovation Committee Meeting
DESCRIPTION:A. MEETING CALLED TO ORDER BY THE CHAIR\n\n\n1. Item 22-02 TC-1-23 Stormwater Management Regulations\nThis Agenda Item Contains an Attachment.\n\n\n\n\n\nB. PENDING ITEMS\n\n\n1. Item 22-01 Economic Development Roundtable- Historically Black Colleges and Universities (2/21/23)\n\n\n2. Item 22-03 Gener8tor Music (8/15/23)\n\n\n\nGo to our Council Committees page to get information on how to watch the meeting\, view agendas and minutes\, view members\, and see information about other Council Committees.
URL:https://livableraleigh.com/event/economic-development-and-innovation-committee-meeting-3/
LOCATION:Raleigh Municipal Building\, 222 W. Hargett St.\, Raleigh\, NC\, 27601\, United States
CATEGORIES:Council Committee
END:VEVENT
BEGIN:VEVENT
DTSTART;TZID=America/New_York:20230926T113000
DTEND;TZID=America/New_York:20230926T133000
DTSTAMP:20260420T010448
CREATED:20230905T203222Z
LAST-MODIFIED:20230923T140856Z
UID:32495-1695727800-1695735000@livableraleigh.com
SUMMARY:Safe\, Vibrant & Healthy Community Meeting
DESCRIPTION:Meeting is scheduled to take place in Council Chambers (Room 201) at the Municipal Building\n\nA. MEETING CALLED TO ORDER BY THE CHAIR\n\n\n1. Item 22-02 Downtown Public Safety Update\n\n\n\n\n\n\nB. PENDING ITEMS\n\nGo to our Council Committees page to get information on how to watch the meeting\, view agendas and minutes\, view members\, and see information about other Council Committees.
URL:https://livableraleigh.com/event/safe-vibrant-healthy-community-meeting-3/
LOCATION:Raleigh Municipal Building\, 222 W. Hargett St.\, Raleigh\, NC\, 27601\, United States
CATEGORIES:Council Committee
END:VEVENT
BEGIN:VEVENT
DTSTART;TZID=America/New_York:20230627T160000
DTEND;TZID=America/New_York:20230627T173000
DTSTAMP:20260420T010448
CREATED:20230607T174829Z
LAST-MODIFIED:20230625T004529Z
UID:30538-1687881600-1687887000@livableraleigh.com
SUMMARY:Growth & Natural Resources Committee Meeting - CANCELLED
DESCRIPTION:Go to our Council Committees page to register to join this meeting. \nYou can also get information on how to watch the meeting\, view agendas and minutes\, view members\, and see information about other Council Committees.
URL:https://livableraleigh.com/event/growth-natural-resources-committee-meeting-3/
LOCATION:Raleigh Municipal Building\, 222 W. Hargett St.\, Raleigh\, NC\, 27601\, United States
CATEGORIES:Council Committee
END:VEVENT
BEGIN:VEVENT
DTSTART;TZID=America/New_York:20230627T133000
DTEND;TZID=America/New_York:20230627T150000
DTSTAMP:20260420T010448
CREATED:20230607T174658Z
LAST-MODIFIED:20230622T210850Z
UID:30535-1687872600-1687878000@livableraleigh.com
SUMMARY:Economic Development and Innovation Committee Meeting
DESCRIPTION:A. MEETING CALLED TO ORDER BY THE CHAIR\n\n1. Item 22-02: TC-1-2023 Stormwater Management Regulations \n\n\n\n\n\nB. PENDING ITEMS\n\n1. Pending Items\n\n\nGo to our Council Committees page to get information on how to watch the meeting\, view agendas and minutes\, view members\, and see information about other Council Committees.
URL:https://livableraleigh.com/event/economic-development-and-innovation-committee-meeting-2/
LOCATION:Raleigh Municipal Building\, 222 W. Hargett St.\, Raleigh\, NC\, 27601\, United States
CATEGORIES:Council Committee
END:VEVENT
BEGIN:VEVENT
DTSTART;TZID=America/New_York:20230523T160000
DTEND;TZID=America/New_York:20230523T173000
DTSTAMP:20260420T010448
CREATED:20230504T002556Z
LAST-MODIFIED:20230519T095522Z
UID:29758-1684857600-1684863000@livableraleigh.com
SUMMARY:Growth & Natural Resources Committee Meeting
DESCRIPTION:A. MEETING CALLED TO ORDER BY THE CHAIR\n\n1. Omnibus Text Change List\n\nGo to our Council Committees page to register to join this meeting. \nYou can also get information on how to watch the meeting\, view agendas and minutes\, view members\, and see information about other Council Committees.
URL:https://livableraleigh.com/event/growth-natural-resources-committee-meeting-2/
LOCATION:Raleigh Municipal Building\, 222 W. Hargett St.\, Raleigh\, NC\, 27601\, United States
CATEGORIES:Council Committee
END:VEVENT
BEGIN:VEVENT
DTSTART;TZID=America/New_York:20230523T133000
DTEND;TZID=America/New_York:20230523T150000
DTSTAMP:20260420T010448
CREATED:20230504T002411Z
LAST-MODIFIED:20230519T095554Z
UID:29756-1684848600-1684854000@livableraleigh.com
SUMMARY:Economic Development and Innovation Committee Meeting
DESCRIPTION:A. MEETING CALLED TO ORDER BY THE CHAIR\n\n1. Historically Black Colleges and Universities \n\n\n\n\n\nGo to our Council Committees page to get information on how to watch the meeting\, view agendas and minutes\, view members\, and see information about other Council Committees.
URL:https://livableraleigh.com/event/economic-development-and-innovation-committee-meeting/
LOCATION:Raleigh Municipal Building\, 222 W. Hargett St.\, Raleigh\, NC\, 27601\, United States
CATEGORIES:Council Committee
END:VEVENT
BEGIN:VEVENT
DTSTART;TZID=America/New_York:20230328T113000
DTEND;TZID=America/New_York:20230328T133000
DTSTAMP:20260420T010448
CREATED:20230309T235038Z
LAST-MODIFIED:20230323T233447Z
UID:28389-1680003000-1680010200@livableraleigh.com
SUMMARY:Safe\, Vibrant & Healthy Community Meeting
DESCRIPTION:A. MEETING CALLED TO ORDER BY THE CHAIR\n\n1. Rezoning Z-54-22 Peace and West Street (District D) \n\n\n\n\nCONFERENCE ROOM 305\n222 WEST HARGETT STREET\nRALEIGH\, NORTH CAROLINA\nGo to our Council Committees page to get information on how to watch the meeting\, view agendas and minutes\, view members\, and see information about other Council Committees.
URL:https://livableraleigh.com/event/safe-vibrant-healthy-community-meeting-2/
LOCATION:Raleigh Municipal Building\, 222 W. Hargett St.\, Raleigh\, NC\, 27601\, United States
CATEGORIES:Council Committee
END:VEVENT
BEGIN:VEVENT
DTSTART;TZID=America/New_York:20230323T150000
DTEND;TZID=America/New_York:20230323T163000
DTSTAMP:20260420T010448
CREATED:20230314T161704Z
LAST-MODIFIED:20230321T224339Z
UID:28659-1679583600-1679589000@livableraleigh.com
SUMMARY:Transportation and Transit Committee Meeting
DESCRIPTION:A. MEETING CALLED TO THE ORDER BY THE CHAIR\n\n1. Walkability and Improving Safety \n\n\n\n\nTRANSPORTATION AND TRANSIT COMMITTEE\nFourth Thursday of each month (Council meeting schedule may alter this)\n3:00 PM \nCOUNCIL CHAMBER\, ROOM 201\n222 WEST HARGETT STREET\nRALEIGH\, NORTH CAROLINA
URL:https://livableraleigh.com/event/transportation-and-transit-committee-meeting/
LOCATION:Raleigh Municipal Building\, 222 W. Hargett St.\, Raleigh\, NC\, 27601\, United States
CATEGORIES:Council Committee
END:VEVENT
BEGIN:VEVENT
DTSTART;TZID=America/New_York:20230309T140000
DTEND;TZID=America/New_York:20230309T153000
DTSTAMP:20260420T010448
CREATED:20230226T135515Z
LAST-MODIFIED:20230306T190639Z
UID:28012-1678370400-1678375800@livableraleigh.com
SUMMARY:Community Outreach Committee -- CANCELED
DESCRIPTION:The Community Outreach Committee promotes and encourages public participation in bicycle- and pedestrian-related projects and initiatives. \n\nMeeting Schedule: The second Thursday of every month at 2 p.m. unless otherwise specified\nMeeting Location: Raleigh Municipal Building\, Conference Room 419\nMembers: Nick Neptune (Chair)\, Shakema McClean\, Brian Thomas\, Michael Thor\n\nIf you are interested in viewing the meeting or making a public comment\, please contact Barbara Godwin
URL:https://livableraleigh.com/event/community-outreach-committee/
LOCATION:Raleigh Municipal Building\, 222 W. Hargett St.\, Raleigh\, NC\, 27601\, United States
CATEGORIES:Council Committee
END:VEVENT
BEGIN:VEVENT
DTSTART;TZID=America/New_York:20230228T160000
DTEND;TZID=America/New_York:20230228T180000
DTSTAMP:20260420T010448
CREATED:20230215T002757Z
LAST-MODIFIED:20230224T143051Z
UID:27475-1677600000-1677607200@livableraleigh.com
SUMMARY:Growth & Natural Resources Committee Meeting
DESCRIPTION:A. MEETING CALLED TO ORDER BY THE CHAIR\n\n1. Item 22-01 – Dix Edge Area Study Final Report and Comprehensive Plan Amendment (1/24/23) \n\n\n2. Item 22-02 – Rezoning Z-53-22B: S Wilmington St\, and Water Works St (District D) (1/24/23) \n\n\n3. To be Deferred: Item 22-03 – Rezoning Z-72-21: Lake Wheeler Road\, Mercury Street\, Maywood Avenue (District D) (1/24/23)\n\nGROWTH AND NATURAL RESOURCES COMMITTE\nFourth Tuesday of each month (Council meeting schedule may alter this)\n4:00 PM \nCOUNCIL CHAMBER\, ROOM 201\n222 WEST HARGETT STREET\nRALEIGH\, NORTH CAROLINA \n\nGo to our Council Committees page to register to join this meeting. \nYou can also get information on how to watch the meeting\, view agendas and minutes\, view members\, and see information about other Council Committees.
URL:https://livableraleigh.com/event/growth-natural-resources-committee-meeting/
LOCATION:Raleigh Municipal Building\, 222 W. Hargett St.\, Raleigh\, NC\, 27601\, United States
CATEGORIES:Council Committee
END:VEVENT
BEGIN:VEVENT
DTSTART;TZID=America/New_York:20230228T113000
DTEND;TZID=America/New_York:20230228T133000
DTSTAMP:20260420T010448
CREATED:20230215T002548Z
LAST-MODIFIED:20230224T142253Z
UID:27473-1677583800-1677591000@livableraleigh.com
SUMMARY:Safe\, Vibrant & Healthy Community Meeting
DESCRIPTION:SAFE\, VIBRANT AND HEALTHY COMMUNITY COMMITTEE\nFourth Tuesday of each month (Council meeting schedule may alter this)\n11:30 AM \nRALEIGH MUNICIPAL BUILDING\, ROOM 303\n222 WEST HARGETT STREET\nRALEIGH\, NORTH CAROLINA \n\nA. MEETING CALLED TO ORDER BY THE CHAIR\n\n1. Item 22-01 – Rezoning Z-54-22: Peace & West (District D) (1/24/23) \n\n\n\n\n\nGo to our Council Committees page to get information on how to watch the meeting\, view agendas and minutes\, view members\, and see information about other Council Committees.
URL:https://livableraleigh.com/event/safe-vibrant-healthy-community-meeting/
LOCATION:Raleigh Municipal Building\, 222 W. Hargett St.\, Raleigh\, NC\, 27601\, United States
CATEGORIES:Council Committee
END:VEVENT
END:VCALENDAR