BEGIN:VCALENDAR
VERSION:2.0
PRODID:-//Livable Raleigh - ECPv6.15.20//NONSGML v1.0//EN
CALSCALE:GREGORIAN
METHOD:PUBLISH
X-WR-CALNAME:Livable Raleigh
X-ORIGINAL-URL:https://livableraleigh.com
X-WR-CALDESC:Events for Livable Raleigh
REFRESH-INTERVAL;VALUE=DURATION:PT1H
X-Robots-Tag:noindex
X-PUBLISHED-TTL:PT1H
BEGIN:VTIMEZONE
TZID:America/New_York
BEGIN:DAYLIGHT
TZOFFSETFROM:-0500
TZOFFSETTO:-0400
TZNAME:EDT
DTSTART:20240310T070000
END:DAYLIGHT
BEGIN:STANDARD
TZOFFSETFROM:-0400
TZOFFSETTO:-0500
TZNAME:EST
DTSTART:20241103T060000
END:STANDARD
BEGIN:DAYLIGHT
TZOFFSETFROM:-0500
TZOFFSETTO:-0400
TZNAME:EDT
DTSTART:20250309T070000
END:DAYLIGHT
BEGIN:STANDARD
TZOFFSETFROM:-0400
TZOFFSETTO:-0500
TZNAME:EST
DTSTART:20251102T060000
END:STANDARD
BEGIN:DAYLIGHT
TZOFFSETFROM:-0500
TZOFFSETTO:-0400
TZNAME:EDT
DTSTART:20260308T070000
END:DAYLIGHT
BEGIN:STANDARD
TZOFFSETFROM:-0400
TZOFFSETTO:-0500
TZNAME:EST
DTSTART:20261101T060000
END:STANDARD
END:VTIMEZONE
BEGIN:VEVENT
DTSTART;TZID=America/New_York:20250826T090000
DTEND;TZID=America/New_York:20250826T113000
DTSTAMP:20260422T160348
CREATED:20250819T212228Z
LAST-MODIFIED:20250821T211753Z
UID:47343-1756198800-1756207800@livableraleigh.com
SUMMARY:Safe\, Vibrant\, & Healthy Community Committee
DESCRIPTION:MEETING CALLED TO ORDER BY THE CHAIR\nITEMS TO BE DISCUSSED\n\n\n\n   \n\n\n\nB.1 Item 24-03: Digital Signage and Digital Billboards \nJustin Rametta\, Planning and Development\n.\nPlanning and Development staff will provide an overview of previous Council discussions of off- premise signage from 2023-2024\, and provide options for potential Unified Development Ordinance (UDO) text amendments. \n\n\n\n\n\n\nB.2 Item 24-02: Hours of Operation – Commercial Trash Pickup \nThe City Attorney’s Office initiated contact with solid waste haulers to gather information regarding early morning collection practices and to assess the potential impacts of a proposed amendment to the noise ordinance. A feedback form was distributed\, and the responses have been compiled into the attached chart. \n\n\n\n\n\n\nC. PENDING ITEMS \n• Item 24-01: Commercial and Residential Use – Conflicts (3/18/25) & Intersection of Hospitality/Nightlife Areas and Residential (5/6/25) \n\n\n\n\n \n\n\nD. ADJOURNMENT
URL:https://livableraleigh.com/event/safe-vibrant-healthy-community-committee/
LOCATION:Raleigh Municipal Building\, 222 W. Hargett St.\, Raleigh\, NC\, 27601\, United States
CATEGORIES:Council Committee,Engagement Filter
END:VEVENT
END:VCALENDAR