BEGIN:VCALENDAR
VERSION:2.0
PRODID:-//Livable Raleigh - ECPv6.15.20//NONSGML v1.0//EN
CALSCALE:GREGORIAN
METHOD:PUBLISH
X-WR-CALNAME:Livable Raleigh
X-ORIGINAL-URL:https://livableraleigh.com
X-WR-CALDESC:Events for Livable Raleigh
REFRESH-INTERVAL;VALUE=DURATION:PT1H
X-Robots-Tag:noindex
X-PUBLISHED-TTL:PT1H
BEGIN:VTIMEZONE
TZID:America/New_York
BEGIN:DAYLIGHT
TZOFFSETFROM:-0500
TZOFFSETTO:-0400
TZNAME:EDT
DTSTART:20240310T070000
END:DAYLIGHT
BEGIN:STANDARD
TZOFFSETFROM:-0400
TZOFFSETTO:-0500
TZNAME:EST
DTSTART:20241103T060000
END:STANDARD
BEGIN:DAYLIGHT
TZOFFSETFROM:-0500
TZOFFSETTO:-0400
TZNAME:EDT
DTSTART:20250309T070000
END:DAYLIGHT
BEGIN:STANDARD
TZOFFSETFROM:-0400
TZOFFSETTO:-0500
TZNAME:EST
DTSTART:20251102T060000
END:STANDARD
BEGIN:DAYLIGHT
TZOFFSETFROM:-0500
TZOFFSETTO:-0400
TZNAME:EDT
DTSTART:20260308T070000
END:DAYLIGHT
BEGIN:STANDARD
TZOFFSETFROM:-0400
TZOFFSETTO:-0500
TZNAME:EST
DTSTART:20261101T060000
END:STANDARD
END:VTIMEZONE
BEGIN:VEVENT
DTSTART;TZID=America/New_York:20250619T120000
DTEND;TZID=America/New_York:20250619T130000
DTSTAMP:20260419T203421
CREATED:20250502T165050Z
LAST-MODIFIED:20250502T165050Z
UID:45143-1750334400-1750338000@livableraleigh.com
SUMMARY:Mayor's Committee for Persons With Disabilities Meeting
DESCRIPTION:The Mayor’s Committee for Persons With Disabilities meets on the 3rd Thursday of each month from 12 to 1 p.m at the Raleigh Pathways Center. \nMinutes and Agendas\nView meeting minutes and agendas on BoardDocs \nSign Up for News and Updates\nSign up to receive alerts about the Mayor’s Committee for Persons with Disabilities through MyRaleigh subscriptions.
URL:https://livableraleigh.com/event/mayors-committee-for-persons-with-disabilities-meeting-19/
LOCATION:Raleigh Pathways Center\, 900 S. Wilmington Street
CATEGORIES:Council Committee
END:VEVENT
BEGIN:VEVENT
DTSTART;TZID=America/New_York:20250624T113000
DTEND;TZID=America/New_York:20250624T133000
DTSTAMP:20260419T203421
CREATED:20250604T020044Z
LAST-MODIFIED:20250623T184938Z
UID:45911-1750764600-1750771800@livableraleigh.com
SUMMARY:Safe\, Vibrant and Healthy Community Meeting -- Cancelled
DESCRIPTION:A. MEETING CALLED TO ORDER BY THE CHAIR\n\n\n1. Item 24-02: Hours of Operation – Commercial Trash Pickup (4/1/25)\n\n\n2. Item 24-01: Commercial and Residential Use – Conflicts (3/18/25) & Intersection of Hospitality/Nightlife Areas and Residential (5/6/25)\n\n\n\n\n\n\nB. PENDING ITEMS\n\n\n1. Item 24-03: Digital Signage and Digital Billboards (5/6/25)\n\n\n\nThe Council Committees page has information on how to watch the meeting\, view agendas and minutes\, view members\, and see information about other Council Committees.
URL:https://livableraleigh.com/event/safe-vibrant-and-healthy-community-meeting-3/
LOCATION:Raleigh Municipal Building\, 222 W. Hargett St.\, Raleigh\, NC\, 27601\, United States
CATEGORIES:Council Committee
END:VEVENT
END:VCALENDAR