BEGIN:VCALENDAR
VERSION:2.0
PRODID:-//Livable Raleigh - ECPv6.15.20//NONSGML v1.0//EN
CALSCALE:GREGORIAN
METHOD:PUBLISH
X-ORIGINAL-URL:https://livableraleigh.com
X-WR-CALDESC:Events for Livable Raleigh
REFRESH-INTERVAL;VALUE=DURATION:PT1H
X-Robots-Tag:noindex
X-PUBLISHED-TTL:PT1H
BEGIN:VTIMEZONE
TZID:America/New_York
BEGIN:DAYLIGHT
TZOFFSETFROM:-0500
TZOFFSETTO:-0400
TZNAME:EDT
DTSTART:20250309T070000
END:DAYLIGHT
BEGIN:STANDARD
TZOFFSETFROM:-0400
TZOFFSETTO:-0500
TZNAME:EST
DTSTART:20251102T060000
END:STANDARD
BEGIN:DAYLIGHT
TZOFFSETFROM:-0500
TZOFFSETTO:-0400
TZNAME:EDT
DTSTART:20260308T070000
END:DAYLIGHT
BEGIN:STANDARD
TZOFFSETFROM:-0400
TZOFFSETTO:-0500
TZNAME:EST
DTSTART:20261101T060000
END:STANDARD
BEGIN:DAYLIGHT
TZOFFSETFROM:-0500
TZOFFSETTO:-0400
TZNAME:EDT
DTSTART:20270314T070000
END:DAYLIGHT
BEGIN:STANDARD
TZOFFSETFROM:-0400
TZOFFSETTO:-0500
TZNAME:EST
DTSTART:20271107T060000
END:STANDARD
END:VTIMEZONE
BEGIN:VEVENT
DTSTART;TZID=America/New_York:20260502T100000
DTEND;TZID=America/New_York:20260502T130000
DTSTAMP:20260423T200621
CREATED:20260320T151928Z
LAST-MODIFIED:20260320T151928Z
UID:52870-1777716000-1777726800@livableraleigh.com
SUMMARY:Rolling Together 2026
DESCRIPTION:Join the Community Engagement Department for Rolling Together 2026\, our second annual mobile resource fair\, on May 2! \nWe’ll be highlighting both city departments and community partners that use vehicles to provide resources in the community. \nEnjoy inflatables\, face painting\, snow cones\, and plenty of family-friendly fun while learning about resources available to you. Bring the whole family and spend the day connecting with your community! \nEvent Details\nMay 2\, 2026\n10 a.m. – 1 p.m.\nRoberts Park Community Center\n1300 E. Martin St.\, Raleigh NC \nOrganizations that’d like to participate with their vehicle should complete our form by April 24. A staff member will contact you regarding your request.
URL:https://livableraleigh.com/event/rolling-together-2026/
LOCATION:Roberts Park Community Center\, 1300 E. Martin St\, Raleigh\, NC\, 27610
CATEGORIES:Community and Workshops,Community Engagement,Festivals & Special Events
END:VEVENT
BEGIN:VEVENT
DTSTART;TZID=America/New_York:20260506T100000
DTEND;TZID=America/New_York:20260506T113000
DTSTAMP:20260423T200621
CREATED:20260404T123421Z
LAST-MODIFIED:20260404T123421Z
UID:53172-1778061600-1778067000@livableraleigh.com
SUMMARY:Outreach at North Regional Library
DESCRIPTION:May 6\n10 a.m. to 11:30 a.m.\n7009 Harps Mill Rd\, Raleigh\, NC 27615\n\nWant to learn more about City services without the hassle of traveling downtown? Now you can! Raleigh’s Community Engagement Team is visiting neighborhoods across the city\, bringing resources directly to residents. Residents will have the opportunity to: \n\nLearn about projects impacting your community;\nSign up for activities and classes\, including our FREE English Language programs;\nGet assistance navigating our website and services; and\,\nMuch more!\n\nView Community Engagement event calendar
URL:https://livableraleigh.com/event/outreach-at-north-regional-library-13/
LOCATION:North Regional Library\, 7009 Harps Mill Road\, Raleigh\, NC\, 27615
CATEGORIES:Community Engagement
END:VEVENT
BEGIN:VEVENT
DTSTART;TZID=America/New_York:20260523T130000
DTEND;TZID=America/New_York:20260523T170000
DTSTAMP:20260423T200621
CREATED:20260404T163831Z
LAST-MODIFIED:20260404T163831Z
UID:53246-1779541200-1779555600@livableraleigh.com
SUMMARY:Community Engagement Attending Darkness RISING: Live
DESCRIPTION:May 23\n1 p.m. to 5 p.m.\n201 S. Blount St. Raleigh\, NC\n\nFind Community Engagement at Darkness RISING: LIVE 9\, Raleigh’s high-energy Arts & Mental Health Block Party celebrating wellness\, the arts\, and community. More than an event\, it’s a movement rooted in collective care and joy. Attendees will enjoy a live concert featuring The Voice’s NiiTO Band\, a DJ\, vendors\, wellness workshops\, interactive art\, kids’ activities\, giveaways\, and more. For event information\, email carlita@darknessrisingproject.org. \nCommunity Engagement will be attending the event from 2 p.m. to 5 p.m. \nView Community Engagement event calendar
URL:https://livableraleigh.com/event/community-engagement-attending-darkness-rising-live/
CATEGORIES:Community Engagement
END:VEVENT
BEGIN:VEVENT
DTSTART;TZID=America/New_York:20260529T160000
DTEND;TZID=America/New_York:20260529T183000
DTSTAMP:20260423T200621
CREATED:20260410T173505Z
LAST-MODIFIED:20260410T173505Z
UID:53384-1780070400-1780079400@livableraleigh.com
SUMMARY:Community Engagement Attending Senior Prom
DESCRIPTION:Community Engagement will be attending Alignment Health’s Annual Senior Prom! This special event will feature an evening of music\, fun\, and festivities designed to uplift and celebrate our valued senior members. Guests should come dressed to impress for a night of joy\, connection\, and unforgettable memories! \nDate: May 29\, 2026\nTime: 4 p.m. to 6:30 p.m.\nLocation: Roberts Park\, 1300 E. Martin St\, Raleigh\, NC 27610
URL:https://livableraleigh.com/event/community-engagement-attending-senior-prom/
LOCATION:Roberts Park Community Center\, 1300 E. Martin St\, Raleigh\, NC\, 27610
CATEGORIES:Community Engagement
END:VEVENT
END:VCALENDAR