BEGIN:VCALENDAR
VERSION:2.0
PRODID:-//Livable Raleigh - ECPv6.15.20//NONSGML v1.0//EN
CALSCALE:GREGORIAN
METHOD:PUBLISH
X-WR-CALNAME:Livable Raleigh
X-ORIGINAL-URL:https://livableraleigh.com
X-WR-CALDESC:Events for Livable Raleigh
REFRESH-INTERVAL;VALUE=DURATION:PT1H
X-Robots-Tag:noindex
X-PUBLISHED-TTL:PT1H
BEGIN:VTIMEZONE
TZID:America/New_York
BEGIN:DAYLIGHT
TZOFFSETFROM:-0500
TZOFFSETTO:-0400
TZNAME:EDT
DTSTART:20230312T070000
END:DAYLIGHT
BEGIN:STANDARD
TZOFFSETFROM:-0400
TZOFFSETTO:-0500
TZNAME:EST
DTSTART:20231105T060000
END:STANDARD
BEGIN:DAYLIGHT
TZOFFSETFROM:-0500
TZOFFSETTO:-0400
TZNAME:EDT
DTSTART:20240310T070000
END:DAYLIGHT
BEGIN:STANDARD
TZOFFSETFROM:-0400
TZOFFSETTO:-0500
TZNAME:EST
DTSTART:20241103T060000
END:STANDARD
BEGIN:DAYLIGHT
TZOFFSETFROM:-0500
TZOFFSETTO:-0400
TZNAME:EDT
DTSTART:20250309T070000
END:DAYLIGHT
BEGIN:STANDARD
TZOFFSETFROM:-0400
TZOFFSETTO:-0500
TZNAME:EST
DTSTART:20251102T060000
END:STANDARD
END:VTIMEZONE
BEGIN:VEVENT
DTSTART;TZID=America/New_York:20241209T180000
DTEND;TZID=America/New_York:20241209T193000
DTSTAMP:20260422T190950
CREATED:20241123T013411Z
LAST-MODIFIED:20241123T013411Z
UID:42430-1733767200-1733772600@livableraleigh.com
SUMMARY:City Budget Listening Session - Virtual
DESCRIPTION:The City of Raleigh wants to hear from you! \nThe Budget and Management Services Department is hosting eight listening sessions to hear how residents want their tax dollars spent. Your input is critical to creating an equitable City budget. \nJoin us for a virtual listening session on Monday\, Dec. 9 from 6 p.m. to 7:30 p.m. \nRegister online. Virtual sessions will be held via Zoom. If you choose a virtual session\, you will receive the Zoom link after you sign up. \nIf you speak a different language and need interpretation\, let us know in the sign up form\, and we’ll provide an interpreter free of charge. \nLearn more about our budget listening sessions.
URL:https://livableraleigh.com/event/city-budget-listening-session-virtual/
LOCATION:Virtual Meeting
CATEGORIES:Community Engagement
END:VEVENT
BEGIN:VEVENT
DTSTART;TZID=America/New_York:20241121T110000
DTEND;TZID=America/New_York:20241121T140000
DTSTAMP:20260422T190950
CREATED:20241115T171225Z
LAST-MODIFIED:20241115T171225Z
UID:42330-1732186800-1732197600@livableraleigh.com
SUMMARY:On-site Hours at the Former DMV Site
DESCRIPTION:Raleigh’s Community Engagement team will be at the Former DMV site. \nStop by and say hello to our team members. Learn more about the Former DMV site project and other city projects!
URL:https://livableraleigh.com/event/on-site-hours-at-the-former-dmv-site-4/
LOCATION:DMV Site\, 1100 New Bern Ave.\, Raleigh\, NC\, 27601
CATEGORIES:Community Engagement
END:VEVENT
BEGIN:VEVENT
DTSTART;TZID=America/New_York:20241121T083000
DTEND;TZID=America/New_York:20241121T120000
DTSTAMP:20260422T190950
CREATED:20241006T015744Z
LAST-MODIFIED:20241006T015744Z
UID:41518-1732177800-1732190400@livableraleigh.com
SUMMARY:2024 GIS Day
DESCRIPTION:Join City of Raleigh IT for an exciting and interactive GIS Day at Raleigh Union Station on November 21\, from 8:30 a.m.-Noon featuring engaging demos and hands-on learning opportunities. Discover how state and local governments use Geographic Information Systems (GIS) to tackle everyday challenges and explore cutting-edge GIS technologies. \nThis event is perfect for anyone curious about the powerful impact of GIS on our community. \nQuestions? Please reach out to gisday@raleighnc.gov.
URL:https://livableraleigh.com/event/2024-gis-day/
LOCATION:Raleigh Union Station\, 510 West Martin Street\, Suite 200\, Raleigh\, NC\, 27601
CATEGORIES:Community Engagement
END:VEVENT
BEGIN:VEVENT
DTSTART;TZID=America/New_York:20241114T110000
DTEND;TZID=America/New_York:20241114T140000
DTSTAMP:20260422T190950
CREATED:20241006T013512Z
LAST-MODIFIED:20241006T013512Z
UID:41496-1731582000-1731592800@livableraleigh.com
SUMMARY:On-site Hours at the Former DMV Site
DESCRIPTION:Raleigh’s Community Engagement team will be at the Former DMV site. \nStop by and say hello to our team members. Learn more about the Former DMV site project and other city projects!
URL:https://livableraleigh.com/event/on-site-hours-at-the-former-dmv-site-2/
LOCATION:DMV Site\, 1100 New Bern Ave.\, Raleigh\, NC\, 27601
CATEGORIES:Community Engagement
END:VEVENT
BEGIN:VEVENT
DTSTART;TZID=America/New_York:20241101T150000
DTEND;TZID=America/New_York:20241101T200000
DTSTAMP:20260422T190950
CREATED:20241011T203334Z
LAST-MODIFIED:20241011T203334Z
UID:41680-1730473200-1730491200@livableraleigh.com
SUMMARY:Commerce Place(making) - Opening Day Event!
DESCRIPTION:On First Friday in November\, the City of Raleigh welcomes you to Commerce Place in the Warehouse District. We’ve recently implemented some pedestrian-oriented improvements to Commerce Place\, including outdoor seating\, overhead lighting\, and a striking mural created by local artist Mary Carter Taub. \nStop by Commerce Place\, located between W. Martin and Davie streets\, to join us in celebrating a new pedestrian-friendly “third place” for the people of Raleigh. As a future event center\, Commerce Place will fit right in on any First Friday itinerary that includes CAM\, the Pit\, Boxcar\, Videri Chocolate\, Raleigh Denim\, 311 Gallery and other local businesses. \nCome out for snacks\, games\, live music\, a raffle for items donated by Warehouse District businesses\, and to share your thoughts on the new Commerce Placevision. Visit our Commerce Place project webpage to learn more about the project! \nCommerce Place accessible via either W. Martin or W. Davie streets\, Raleigh\, NC\, 27601. Please note this event is outdoors and will not be held in the event of severe weather.
URL:https://livableraleigh.com/event/commerce-placemaking-opening-day-event/
LOCATION:Commerce Place
CATEGORIES:Community Engagement
END:VEVENT
BEGIN:VEVENT
DTSTART;TZID=America/New_York:20241010T110000
DTEND;TZID=America/New_York:20241010T140000
DTSTAMP:20260422T190951
CREATED:20240927T170427Z
LAST-MODIFIED:20240927T170427Z
UID:41014-1728558000-1728568800@livableraleigh.com
SUMMARY:On-site Hours at the Former DMV Site
DESCRIPTION:Raleigh’s Community Engagement team will be at the Former DMV site. \nStop by and say hello to our team members. Learn more about the Former DMV site project and other city projects!
URL:https://livableraleigh.com/event/on-site-hours-at-the-former-dmv-site/
LOCATION:DMV Site\, 1100 New Bern Ave.\, Raleigh\, NC\, 27601
CATEGORIES:Community Engagement
END:VEVENT
BEGIN:VEVENT
DTSTART;TZID=America/New_York:20241009T163000
DTEND;TZID=America/New_York:20241009T183000
DTSTAMP:20260422T190951
CREATED:20240902T005652Z
LAST-MODIFIED:20240902T005652Z
UID:40325-1728491400-1728498600@livableraleigh.com
SUMMARY:Community Engagement Board Meeting
DESCRIPTION:The Community Engagement Board helps to develop\, evaluate\, and implement the City of Raleigh’s community engagement efforts. \nThe committee will meet on Oct. 9 at 4:30 p.m. at Lions Park Community Center\, 516 Dennis Avenue. \nRegister to attend virtually.
URL:https://livableraleigh.com/event/community-engagement-board-meeting-9/
LOCATION:Lions Park Community Center\, 516 Dennis Avenue\, Raleigh\, 27604
CATEGORIES:Community Engagement,Community Engagement Board
END:VEVENT
BEGIN:VEVENT
DTSTART;TZID=America/New_York:20240929T160000
DTEND;TZID=America/New_York:20240929T180000
DTSTAMP:20260422T190951
CREATED:20240921T200530Z
LAST-MODIFIED:20240921T200530Z
UID:40793-1727625600-1727632800@livableraleigh.com
SUMMARY:District C Candidate Forum
DESCRIPTION:Martin Luther King Jr Student Center \nSecond Floor – St Augustine University \n1315 Oakwood Ave  27610
URL:https://livableraleigh.com/event/district-c-candidate-forum/
LOCATION:St Augustine’s University\, 1315 Oakwood Ave.\, Raleigh\, NC\, 27610
CATEGORIES:Community Engagement,Election
END:VEVENT
BEGIN:VEVENT
DTSTART;TZID=America/New_York:20240907T100000
DTEND;TZID=America/New_York:20240907T150000
DTSTAMP:20260422T190951
CREATED:20240803T012653Z
LAST-MODIFIED:20240803T012653Z
UID:39712-1725703200-1725721200@livableraleigh.com
SUMMARY:Engage Raleigh Community and Neighborhood Expo
DESCRIPTION:Join us for the very first Engage Raleigh Expo! This free event will connect you with community groups and local government staff. Discover why community engagement matters\, learn about how you\, your friends\, and your family can make a difference\, and explore exciting ways to participate in local decision-making in your community. \nRegistration is required for the keynote program and lunch. We will open the expo to the public from 1 p.m. to 3 p.m. Registration will open soon with more details to come.
URL:https://livableraleigh.com/event/engage-raleigh-community-and-neighborhood-expo/
LOCATION:McKimmon Center\, NCSU McKimmon Center 1101 Gorman Street\, Raleigh\, NC\, 27606\, United States
CATEGORIES:Community Engagement
END:VEVENT
BEGIN:VEVENT
DTSTART;TZID=America/New_York:20240824T110000
DTEND;TZID=America/New_York:20240824T140000
DTSTAMP:20260422T190951
CREATED:20240803T003035Z
LAST-MODIFIED:20240803T003035Z
UID:39686-1724497200-1724508000@livableraleigh.com
SUMMARY:Community Kickoff: Shaping the Future DMV Site
DESCRIPTION:Join us for an exciting kickoff event with food\, fun\, and a chance to connect with community members and our Project Working Group about the future of New Bern Avenue! \nThe City of Raleigh has recently acquired the former DMV headquarters at 1100 New Bern Avenue. If you did not know\, we kicked off engagement by establishing a project working group made up of community members with unique connections to New Bern Avenue\, committed to honoring the area’s significance. Now\, we want to include you! Come share your thoughts and visions for the site! \nYou can also follow along for site updates on our Former DMV Site project website.
URL:https://livableraleigh.com/event/community-kickoff-shaping-the-future-dmv-site/
LOCATION:DMV Site\, 1100 New Bern Ave.\, Raleigh\, NC\, 27601
CATEGORIES:Community Engagement
END:VEVENT
BEGIN:VEVENT
DTSTART;TZID=America/New_York:20240813T123000
DTEND;TZID=America/New_York:20240813T140000
DTSTAMP:20260422T190951
CREATED:20240702T133745Z
LAST-MODIFIED:20240702T133745Z
UID:39055-1723552200-1723557600@livableraleigh.com
SUMMARY:Community Engagement Pop-Up at Lincoln Park Food Distribution Center
DESCRIPTION:Stop by and say hello to our Community Engagement team at Lincoln Park Community Outreach Food Distribution Center. Get informed on City projects happening around you and give us your feedback. \nStaff can also help with services including but not limited to: \n\nEducation on City resources;\nInformation on local organizations;\nVoter education and registration;\nParticipation surveys;\nMaking citizen service requests;\nHelp with City of Raleigh utility requests and payments;\nRegistering for a City of Raleigh class; and\,\nApplying for SNAP\, Medicaid\, and WIC.\n\nThis event is being held in partnership with Power the Vote NC
URL:https://livableraleigh.com/event/community-engagement-pop-up-at-lincoln-park-food-distribution-center/
LOCATION:Lincoln Park Food Distribution Center\, 13 Heath St.\, Raleigh\, NC\, 27610
CATEGORIES:Community Engagement
END:VEVENT
BEGIN:VEVENT
DTSTART;TZID=America/New_York:20240809T090000
DTEND;TZID=America/New_York:20240809T110000
DTSTAMP:20260422T190951
CREATED:20240702T133226Z
LAST-MODIFIED:20240702T133226Z
UID:39047-1723194000-1723201200@livableraleigh.com
SUMMARY:Community Engagement Pop-Up at Advance Health
DESCRIPTION:Stop by and say hello to our Community Engagement team at Advance Community Health. Get informed on City projects happening around you and give us your feedback. \nStaff can also help with services including but not limited to: \n\nEducation on City resources;\nInformation on local organizations;\nVoter education and registration;\nParticipation surveys;\nMaking citizen service requests;\nHelp with City of Raleigh utility requests and payments;\nRegistering for a City of Raleigh class; and\,\nApplying for SNAP\, Medicaid\, and WIC.
URL:https://livableraleigh.com/event/community-engagement-pop-up-at-advance-health/
LOCATION:Advance Community Health\, 1011 Rock Quarry Road\, Raleigh\, NC\, 27610
CATEGORIES:Community Engagement
END:VEVENT
BEGIN:VEVENT
DTSTART;TZID=America/New_York:20240727T110000
DTEND;TZID=America/New_York:20240727T130000
DTSTAMP:20260422T190951
CREATED:20240601T225244Z
LAST-MODIFIED:20240711T185931Z
UID:38530-1722078000-1722085200@livableraleigh.com
SUMMARY:Community Engagement Pop-Up at Ashton Square Shopping Center -- Cancelled
DESCRIPTION:Stop by and say hello to our Community Engagement team at Ashton Square Shopping Center. Get informed on City projects happening around you and give us your feedback. \nStaff can also help with services including but not limited to: \n\nEducation on City resources;\nInformation on local organizations;\nVoter education and registration;\nParticipation surveys;\nMaking citizen service requests;\nHelp with City of Raleigh utility requests and payments;\nRegistering for a City of Raleigh class; and\,\nApplying for SNAP\, Medicaid\, and WIC.\n\nThis event is being held in partnership with El Pueblo
URL:https://livableraleigh.com/event/community-engagement-pop-up-at-ashton-square-shopping-center-2/
LOCATION:Ashton Square Shopping Center\, 4008 Capital Blvd.\, Raleigh\, NC\, 27604
CATEGORIES:Community Engagement
END:VEVENT
BEGIN:VEVENT
DTSTART;TZID=America/New_York:20240723T180000
DTEND;TZID=America/New_York:20240723T190000
DTSTAMP:20260422T190951
CREATED:20240718T204948Z
LAST-MODIFIED:20240718T204948Z
UID:39462-1721757600-1721761200@livableraleigh.com
SUMMARY:RPD (Southwest District) Community Meeting
DESCRIPTION:
URL:https://livableraleigh.com/event/rpd-southwest-district-community-meeting/
LOCATION:Greg Poole\, Jr. All Faiths Chapel\, 1030 Richardson Dr\, Raleigh\, NC\, 27603
CATEGORIES:Community and Workshops,Community Engagement,Other
END:VEVENT
BEGIN:VEVENT
DTSTART;TZID=America/New_York:20240714T113000
DTEND;TZID=America/New_York:20240714T160000
DTSTAMP:20260422T190951
CREATED:20240601T223438Z
LAST-MODIFIED:20240607T175200Z
UID:38509-1720956600-1720972800@livableraleigh.com
SUMMARY:Community Engagement Pop-Up at Black Farmer's Market
DESCRIPTION:Stop by and say hello to our Community Engagement team at the Black Farmers’ Market. Get informed on City projects happening around you and give us your feedback. \nStaff can also help with services including but not limited to: \n\nEducation on City resources;\nInformation on local organizations;\nVoter education and registration;\nParticipation surveys;\nMaking citizen service requests;\nHelp with City of Raleigh utility requests and payments;\nRegistering for a City of Raleigh class; and\,\nApplying for SNAP\, Medicaid\, and WIC.\n\nThis event is in partnership with Emancipate NC
URL:https://livableraleigh.com/event/38509/
LOCATION:Southeast Raleigh YMCA\, 1436 Rock Quarry Road\, Raleigh\, NC\, 27610
CATEGORIES:Community Engagement
END:VEVENT
BEGIN:VEVENT
DTSTART;TZID=America/New_York:20240706T110000
DTEND;TZID=America/New_York:20240706T130000
DTSTAMP:20260422T190951
CREATED:20240601T211443Z
LAST-MODIFIED:20240601T211443Z
UID:38490-1720263600-1720270800@livableraleigh.com
SUMMARY:Community Engagement Pop-Up at Ashton Square Shopping Center
DESCRIPTION:Stop by and say hello to our Community Engagement team at Ashton Square Shopping Center. Get informed on City projects happening around you and give us your feedback. \nStaff can also help with services including but not limited to: \n\nEducation on City resources;\nInformation on local organizations;\nVoter education and registration;\nParticipation surveys;\nMaking citizen service requests;\nHelp with City of Raleigh utility requests and payments;\nRegistering for a City of Raleigh class; and\,\nApplying for SNAP\, Medicaid\, and WIC.\n\nThis event is being held in partnership with El Centro Hispano
URL:https://livableraleigh.com/event/community-engagement-pop-up-at-ashton-square-shopping-center/
LOCATION:Ashton Square Shopping Center\, 4008 Capital Blvd.\, Raleigh\, NC\, 27604
CATEGORIES:Community Engagement
END:VEVENT
BEGIN:VEVENT
DTSTART;TZID=America/New_York:20240629T100000
DTEND;TZID=America/New_York:20240629T140000
DTSTAMP:20260422T190951
CREATED:20240505T011616Z
LAST-MODIFIED:20240505T011616Z
UID:37945-1719655200-1719669600@livableraleigh.com
SUMMARY:City Connect Series: Raleigh Tomorrow
DESCRIPTION:The City Connect Series is hosting an immersive event\, diving into the world of technology! This event will feature innovative speakers\, and interactive displays from various city departments and local companies. This event is free and open to the public.
URL:https://livableraleigh.com/event/city-connect-series-raleigh-tomorrow/
LOCATION:Marsh Creek Community Center\, 3050 N. New Hope Rd.\, Raleigh\, NC\, 27604\, United States
CATEGORIES:Community Engagement
END:VEVENT
BEGIN:VEVENT
DTSTART;TZID=America/New_York:20240622T100000
DTEND;TZID=America/New_York:20240622T140000
DTSTAMP:20260422T190951
CREATED:20240518T033118Z
LAST-MODIFIED:20240518T033118Z
UID:38220-1719050400-1719064800@livableraleigh.com
SUMMARY:Community Engagement Board Annual Retreat
DESCRIPTION:The Community Engagement Board will hold its annual retreat on Saturday\, June 22. \nJaycee Park2405 Wade Ave.Raleigh\, NC 27607 \nIf you can’t attend in person\, please register online to watch the live stream.
URL:https://livableraleigh.com/event/community-engagement-board-annual-retreat/
LOCATION:Jaycee Park Community Center\, 2405 Wade Avenue\, Raleigh
CATEGORIES:Community Engagement
END:VEVENT
BEGIN:VEVENT
DTSTART;TZID=America/New_York:20240617T190000
DTEND;TZID=America/New_York:20240617T210000
DTSTAMP:20260422T190951
CREATED:20240613T183338Z
LAST-MODIFIED:20240613T183338Z
UID:38697-1718650800-1718658000@livableraleigh.com
SUMMARY:Bus Rapid Transit Community Meeting
DESCRIPTION:This coming Monday\, June 17\, learn the latest update regarding the Western Corridor Bus Rapid Transit\, and ask questions you may have with the infrastructure.\n\n\nIt is imperative that the city ensures that the voices of the disenfranchised are among the decision makers\, and that the infrastructure works under the framework of #Equity\n\n\nRegister here: https://us02web.zoom.us/…/tZ0ucOqgrjkoGdR4qm9B03t5EKci3…
URL:https://livableraleigh.com/event/bus-rapid-transit-community-meeting/
LOCATION:NC
CATEGORIES:Community and Workshops,Community Engagement
END:VEVENT
BEGIN:VEVENT
DTSTART;TZID=America/New_York:20240613T100000
DTEND;TZID=America/New_York:20240613T140000
DTSTAMP:20260422T190951
CREATED:20240518T032059Z
LAST-MODIFIED:20240518T032059Z
UID:38208-1718272800-1718287200@livableraleigh.com
SUMMARY:Meet Us at the Square
DESCRIPTION:Join us at ‘Meet Us at The Square’\, a compassionate community event hosted by Raleigh’s Housing and Neighborhoods Department at Moore Square on June 13\, 2024. \nThis event is dedicated to extending holistic support and resources to individuals facing homelessness or at-risk situations. By uniting non-profit organizations\, service providers\, volunteers\, and caring community members\, we aim to offer a comprehensive array of assistance and donations. \nFrom bolstering health and wellness to empowering through employment and education\, advocating for legal rights\, meeting basic needs\, and fostering strong community support networks\, together\, we can make a meaningful difference in the lives of those in need. \nMeet Us at The Square will be a convergence point for these sources of assistance with the purpose of increasing accessibility and engagement with all the services available in Raleigh for people experiencing homelessness or at risk. \nFeatured Services \n\nFree health screenings\nBarber/Salon\nShowers\nEmployment assistance\nLegal aid\nFood & Clothing distribution\nVeterinary Care
URL:https://livableraleigh.com/event/meet-us-at-the-square/
LOCATION:Moore Square\, 200 S. Blount St.\, Raleigh\, NC\, 27601
CATEGORIES:Community Engagement
END:VEVENT
BEGIN:VEVENT
DTSTART;TZID=America/New_York:20240529T173000
DTEND;TZID=America/New_York:20240529T193000
DTSTAMP:20260422T190951
CREATED:20240523T112100Z
LAST-MODIFIED:20240523T112100Z
UID:38291-1717003800-1717011000@livableraleigh.com
SUMMARY:Election Reform Petition Signing Event
DESCRIPTION:At the Home of Donna Bailey \n\nWed\, May 29th\, Home of Donna Bailey – University Park  – 5:30PM to 7:30PM\n710 Rosemont Ave/ Raleigh\, NC 27607
URL:https://livableraleigh.com/event/election-reform-petition-signing-event-3/
LOCATION:Donna Bailey\, 710 Rosemont Ave\, Raleigh\, NC\, 27607
CATEGORIES:Community Engagement,Engagement Filter
END:VEVENT
BEGIN:VEVENT
DTSTART;TZID=America/New_York:20240503T170000
DTEND;TZID=America/New_York:20240503T200000
DTSTAMP:20260422T190951
CREATED:20240412T201203Z
LAST-MODIFIED:20240419T112125Z
UID:37544-1714755600-1714766400@livableraleigh.com
SUMMARY:Community Engagement Van at Brentwood Elementary Spring Event
DESCRIPTION:Join our team at Brentwood Elementary’s Spring Fling event! This event is a chance to meet and mingle with other families and members of the community. The PTA is holding a raffle that will benefit students and staff at Brentwood. We will have midway style games\, inflatables\, food trucks and a visit from the Raleigh Fire Department. \nMay 3\, 5 p.m. to 8 p.m. \nBrentwood Elementary School\n3426 Ingram Dr.\nRaleigh\, NC 27604
URL:https://livableraleigh.com/event/37544/
LOCATION:Brentwood Elementary\, 3426 Ingram Dr.\, Raleigh\, NC\, 27604
CATEGORIES:Community Engagement
END:VEVENT
BEGIN:VEVENT
DTSTART;TZID=America/New_York:20240502T180000
DTEND;TZID=America/New_York:20240502T193000
DTSTAMP:20260422T190951
CREATED:20240427T125543Z
LAST-MODIFIED:20240427T125543Z
UID:37745-1714672800-1714678200@livableraleigh.com
SUMMARY:Learn to Buy Your Groceries Online!
DESCRIPTION:Digital Connectors will host a drop-in session for Raleigh residents to learn how to shop online at Food Lion\, Walmart\, and Aldi using their credit\, debit\, and EBT cards as part of their community impact project. \nResidents will receive one-on-one assistance and learn how to create an account\, shop for groceries\, and check out by adding their preferred payment method. The resident will also receive a guide to provide support for the future.
URL:https://livableraleigh.com/event/learn-to-buy-your-groceries-online-2/
LOCATION:Raleigh Pathways Center\, 900 S. Wilmington Street
CATEGORIES:Community Engagement
END:VEVENT
BEGIN:VEVENT
DTSTART;TZID=America/New_York:20240430T180000
DTEND;TZID=America/New_York:20240430T193000
DTSTAMP:20260422T190951
CREATED:20240427T125401Z
LAST-MODIFIED:20240427T125401Z
UID:37743-1714500000-1714505400@livableraleigh.com
SUMMARY:Learn to Buy Your Groceries Online!
DESCRIPTION:Digital Connectors will host a drop-in session for Raleigh residents to learn how to shop online at Food Lion\, Walmart\, and Aldi using their credit\, debit\, and EBT cards as part of their community impact project. \nResidents will receive one-on-one assistance and learn how to create an account\, shop for groceries\, and check out by adding their preferred payment method. The resident will also receive a guide to provide support for the future.
URL:https://livableraleigh.com/event/learn-to-buy-your-groceries-online/
LOCATION:Raleigh Pathways Center\, 900 S. Wilmington Street
CATEGORIES:Community Engagement
END:VEVENT
BEGIN:VEVENT
DTSTART;TZID=America/New_York:20240425T180000
DTEND;TZID=America/New_York:20240425T190000
DTSTAMP:20260422T190951
CREATED:20240405T131521Z
LAST-MODIFIED:20240405T131536Z
UID:37341-1714068000-1714071600@livableraleigh.com
SUMMARY:Green Road Park Site Improvement Presentation
DESCRIPTION:Please join the 3rd public meeting for the Green Road Park Site Improvement Project.\nThe design consultant team will formally present the final drafted schematic design concept. \nAges: AllCost: Free
URL:https://livableraleigh.com/event/green-road-park-site-improvement-presentation/
LOCATION:Green Rd Community Center\, 4201 Green Rd\, Raleigh\, NC\, 27604
CATEGORIES:Community Engagement,Engagement Filter,Parks & Rec
END:VEVENT
BEGIN:VEVENT
DTSTART;TZID=America/New_York:20240418T090000
DTEND;TZID=America/New_York:20240418T113000
DTSTAMP:20260422T190951
CREATED:20240412T195648Z
LAST-MODIFIED:20240412T195648Z
UID:37525-1713430800-1713439800@livableraleigh.com
SUMMARY:Community Engagement Van at Careers on Wheels Truck Fair
DESCRIPTION:Join our engagement van at the annual Careers on Wheels Truck Fair! Come learn about how City employees make a difference in your community. Event is hosted by the Wake Young Men’s Leadership Academy. \nApril 18\, 9 a.m. t0 11:30 a.m. \nCareer on Wheels Truck Fair1315 Oakwood Ave.Raleigh\, NC 27610
URL:https://livableraleigh.com/event/community-engagement-van-at-careers-on-wheels-truck-fair/
LOCATION:St Augustine’s University\, 1315 Oakwood Ave.\, Raleigh\, NC\, 27610
CATEGORIES:Community Engagement
END:VEVENT
BEGIN:VEVENT
DTSTART;TZID=America/New_York:20240410T183000
DTEND;TZID=America/New_York:20240410T193000
DTSTAMP:20260422T190951
CREATED:20240309T205331Z
LAST-MODIFIED:20240309T205331Z
UID:37012-1712773800-1712777400@livableraleigh.com
SUMMARY:Community Engagement Board - Equity Subcommittee Meeting
DESCRIPTION:The Community Engagement Board’s Equity Subcommittee will meet Wednesday\, April 10 from 6:30-7:30 p.m. \nMillbrook Exchange Park1905 Spring Forest RdRaleigh\, NC 27615
URL:https://livableraleigh.com/event/community-engagement-board-equity-subcommittee-meeting-4/
LOCATION:Millbrook Exchange Park\, 1905 Spring Forest Rd\, Raleigh\, NC\, 27615
CATEGORIES:Community Engagement,Engagement Filter
END:VEVENT
BEGIN:VEVENT
DTSTART;TZID=America/New_York:20240405T170000
DTEND;TZID=America/New_York:20240405T210000
DTSTAMP:20260422T190951
CREATED:20240302T172648Z
LAST-MODIFIED:20240302T172648Z
UID:36732-1712336400-1712350800@livableraleigh.com
SUMMARY:Connect Raleigh: City Beats and Visual Vibes
DESCRIPTION:Step into Raleigh’s cultural heartbeat at Moore Square with Connect Raleigh‘s electrifying event! Experience local music and interactive visual arts opportunities like never before. Join us for an unforgettable evening of performances and a film to conclude the evening. Plus\, don’t miss a special performance from “Can We Kick It” Shaolin Jazz DJ’. From innovative trends to soul-stirring rhythms\, this event promises excitement at every turn. Don’t miss out—be part of the Connect Raleigh experience!
URL:https://livableraleigh.com/event/connect-raleigh-city-beats-and-visual-vibes/
LOCATION:Moore Square\, 200 S. Blount St.\, Raleigh\, NC\, 27601
CATEGORIES:Community Engagement
END:VEVENT
BEGIN:VEVENT
DTSTART;TZID=America/New_York:20240403T160000
DTEND;TZID=America/New_York:20240403T173000
DTSTAMP:20260422T190951
CREATED:20240323T000539Z
LAST-MODIFIED:20240323T000539Z
UID:37219-1712160000-1712165400@livableraleigh.com
SUMMARY:TRAC Bin Virtual Information Session
DESCRIPTION:The City of Raleigh is piloting a waste collection system in part of the downtown central business district with above-ground containers. The containers are called TRAC bins (Trash\, Recycling\, and Cardboard).​ \nTheir purpose is to replace the 95-gallon carts occupying sidewalks to reduce contamination and enhance the safety and cleanliness of downtown Raleigh. ​ \nClick here to join the virtual meeting (this link will not work until April 3 at 4 PM).
URL:https://livableraleigh.com/event/trac-bin-virtual-information-session/
LOCATION:Virtual Meeting
CATEGORIES:Community Engagement
END:VEVENT
BEGIN:VEVENT
DTSTART;TZID=America/New_York:20240327T173000
DTEND;TZID=America/New_York:20240327T193000
DTSTAMP:20260422T190951
CREATED:20240302T163738Z
LAST-MODIFIED:20240302T163738Z
UID:36708-1711560600-1711567800@livableraleigh.com
SUMMARY:Prospera: Información de beneficiarios finales (BOI) y su negocio
DESCRIPTION:
URL:https://livableraleigh.com/event/prospera-informacion-de-beneficiarios-finales-boi-y-su-negocio/
LOCATION:Biltmore Hills Park\, 2615 Fitzgerald Drive\, Raleigh\, NC\, 27610
CATEGORIES:Community Engagement
END:VEVENT
END:VCALENDAR