BEGIN:VCALENDAR
VERSION:2.0
PRODID:-//Livable Raleigh - ECPv6.15.20//NONSGML v1.0//EN
CALSCALE:GREGORIAN
METHOD:PUBLISH
X-ORIGINAL-URL:https://livableraleigh.com
X-WR-CALDESC:Events for Livable Raleigh
REFRESH-INTERVAL;VALUE=DURATION:PT1H
X-Robots-Tag:noindex
X-PUBLISHED-TTL:PT1H
BEGIN:VTIMEZONE
TZID:America/New_York
BEGIN:DAYLIGHT
TZOFFSETFROM:-0500
TZOFFSETTO:-0400
TZNAME:EDT
DTSTART:20240310T070000
END:DAYLIGHT
BEGIN:STANDARD
TZOFFSETFROM:-0400
TZOFFSETTO:-0500
TZNAME:EST
DTSTART:20241103T060000
END:STANDARD
BEGIN:DAYLIGHT
TZOFFSETFROM:-0500
TZOFFSETTO:-0400
TZNAME:EDT
DTSTART:20250309T070000
END:DAYLIGHT
BEGIN:STANDARD
TZOFFSETFROM:-0400
TZOFFSETTO:-0500
TZNAME:EST
DTSTART:20251102T060000
END:STANDARD
BEGIN:DAYLIGHT
TZOFFSETFROM:-0500
TZOFFSETTO:-0400
TZNAME:EDT
DTSTART:20260308T070000
END:DAYLIGHT
BEGIN:STANDARD
TZOFFSETFROM:-0400
TZOFFSETTO:-0500
TZNAME:EST
DTSTART:20261101T060000
END:STANDARD
END:VTIMEZONE
BEGIN:VEVENT
DTSTART;TZID=America/New_York:20250506T150000
DTEND;TZID=America/New_York:20250506T180000
DTSTAMP:20260422T153628
CREATED:20250411T222100Z
LAST-MODIFIED:20250411T222100Z
UID:44759-1746543600-1746554400@livableraleigh.com
SUMMARY:Ask-A-Planner: Rooted and Growing: Neighborhood Change - Virtual
DESCRIPTION:If you missed our Reflecting Raleigh Community Conversation or have additional thoughts\, join us for Ask-A-Planner! Talk one-on-one with Planning staff on programs and efforts related to Raleigh’s neighborhood change. \n\nMonday\, April 28\n3-6 p.m.\nMethod Community Center\nWednesday\, April 30\n3-6 p.m.\nTarboro Road Community Center\nTuesday\, May 6\n3-6 p.m.\nVirtual
URL:https://livableraleigh.com/event/ask-a-planner-rooted-and-growing-neighborhood-change-virtual/
LOCATION:Virtual Meeting
CATEGORIES:Community Engagement
END:VEVENT
BEGIN:VEVENT
DTSTART;TZID=America/New_York:20250506T100000
DTEND;TZID=America/New_York:20250506T113000
DTSTAMP:20260422T153628
CREATED:20250429T171816Z
LAST-MODIFIED:20250429T171816Z
UID:45031-1746525600-1746531000@livableraleigh.com
SUMMARY:Outreach at North Regional Library
DESCRIPTION:Want to learn more about City services without the hassle of traveling downtown? Now you can! Raleigh’s Community Engagement Team is visiting neighborhoods across the city\, bringing resources directly to residents. Residents will have the opportunity to: \n\nLearn about projects impacting your community;\nSign up for activities and classes\, including our FREE English Language programs;\nGet assistance navigating our website and services; and\,\nMuch more!
URL:https://livableraleigh.com/event/outreach-at-north-regional-library/
LOCATION:North Regional Library\, 7009 Harps Mill Road\, Raleigh\, NC\, 27615
CATEGORIES:Community Engagement,Engagement Filter
END:VEVENT
BEGIN:VEVENT
DTSTART;TZID=America/New_York:20250430T150000
DTEND;TZID=America/New_York:20250430T180000
DTSTAMP:20260422T153628
CREATED:20250411T221547Z
LAST-MODIFIED:20250411T221547Z
UID:44753-1746025200-1746036000@livableraleigh.com
SUMMARY:Ask-A-Planner: Rooted and Growing: Neighborhood Change
DESCRIPTION:If you missed our Reflecting Raleigh Community Conversation or have additional thoughts\, join us for Ask-A-Planner! Talk one-on-one with Planning staff on programs and efforts related to Raleigh’s neighborhood change. \n\nMonday\, April 28\n3-6 p.m.\nMethod Community Center\nWednesday\, April 30\n3-6 p.m.\nTarboro Road Community Center\nTuesday\, May 6\n3-6 p.m.\nVirtual
URL:https://livableraleigh.com/event/ask-a-planner-rooted-and-growing-neighborhood-change-2/
LOCATION:Tarboro Road Community Center
CATEGORIES:Community Engagement
END:VEVENT
BEGIN:VEVENT
DTSTART;TZID=America/New_York:20250428T150000
DTEND;TZID=America/New_York:20250428T180000
DTSTAMP:20260422T153628
CREATED:20250411T221418Z
LAST-MODIFIED:20250411T221418Z
UID:44751-1745852400-1745863200@livableraleigh.com
SUMMARY:Ask-A-Planner: Rooted and Growing: Neighborhood Change
DESCRIPTION:If you missed our Reflecting Raleigh Community Conversation or have additional thoughts\, join us for Ask-A-Planner! Talk one-on-one with Planning staff on programs and efforts related to Raleigh’s neighborhood change. \n\nMonday\, April 28\n3-6 p.m.\nMethod Community Center\nWednesday\, April 30\n3-6 p.m.\nTarboro Road Community Center\nTuesday\, May 6\n3-6 p.m.\nVirtual
URL:https://livableraleigh.com/event/ask-a-planner-rooted-and-growing-neighborhood-change/
LOCATION:Method Road Community Center\, 514 Method Road\, Raleigh\, NC\, United States
CATEGORIES:Community Engagement
END:VEVENT
BEGIN:VEVENT
DTSTART;TZID=America/New_York:20250425T160000
DTEND;TZID=America/New_York:20250425T200000
DTSTAMP:20260422T153628
CREATED:20250308T205456Z
LAST-MODIFIED:20250308T205456Z
UID:44103-1745596800-1745611200@livableraleigh.com
SUMMARY:Earth Day Celebration 2025
DESCRIPTION:Join our Community Engagement Team as we attend the Earth Day Celebration! Residents will be able learn more about engagement opportunities\, programs\, and services that impact you. We look forward to seeing you there!
URL:https://livableraleigh.com/event/earth-day-celebration-2025/
LOCATION:Earth Day\, 1930 Clark Avenue\, Raleigh\, NC\, 27605
CATEGORIES:Community Engagement
END:VEVENT
BEGIN:VEVENT
DTSTART;TZID=America/New_York:20250422T180000
DTEND;TZID=America/New_York:20250422T200000
DTSTAMP:20260422T153628
CREATED:20250411T191013Z
LAST-MODIFIED:20250411T191013Z
UID:44745-1745344800-1745352000@livableraleigh.com
SUMMARY:Rooted and Growing: Neighborhood Change
DESCRIPTION:
URL:https://livableraleigh.com/event/rooted-and-growing-neighborhood-change-2/
LOCATION:Saint Matthews Baptist Church\, 5410 Louisburg Road\, Raleigh\, 27616
CATEGORIES:Community Engagement,Engagement Filter
END:VEVENT
BEGIN:VEVENT
DTSTART;TZID=America/New_York:20250415T180000
DTEND;TZID=America/New_York:20250415T200000
DTSTAMP:20260422T153628
CREATED:20250408T191442Z
LAST-MODIFIED:20250408T191442Z
UID:44695-1744740000-1744747200@livableraleigh.com
SUMMARY:Rooted and Growing: Neighborhood Change
DESCRIPTION:Join us for Rooted and Growing: Neighborhood Change\, part of the Reflecting Raleigh Community Conversation series. This two-part event will feature speakers discussing the programs\, solutions\, and benefits of neighborhood change. You’re invited to be part of the conversation. \nTuesday\, April 15 | 6-8 p.m.  \nKeynote Presentation \nWatts Chapel Missionary Baptist Church\n\n  \nYour opinions and ideas are important to us. Each night will feature a different program\, and you will have a chance to engage with staff and hear information about current projects.   \nRegistration is encouraged but not required. If you have dietary restrictions\, or require language services\, please let us know. Childcare will be available.
URL:https://livableraleigh.com/event/rooted-and-growing-neighborhood-change/
LOCATION:Watts Chapel Missionary Baptist Church\, 3703 Tryon Road\, Raleigh\, 27606
CATEGORIES:Community Engagement,Engagement Filter
END:VEVENT
BEGIN:VEVENT
DTSTART;TZID=America/New_York:20250412T110000
DTEND;TZID=America/New_York:20250412T140000
DTSTAMP:20260422T153628
CREATED:20250328T141406Z
LAST-MODIFIED:20250328T141406Z
UID:44450-1744455600-1744466400@livableraleigh.com
SUMMARY:Egg-stravagant Basket Giveaway
DESCRIPTION:Join us for a fun-filled Spring Basket Giveaway at the former DMV site! Children can receive special baskets filled with treats\, and there will also be baskets available for adults. Enjoy a variety of activities\, including bounce houses\, music\, and more. Light snacks and refreshments will be provided. Don’t miss this opportunity to celebrate the season with your community!
URL:https://livableraleigh.com/event/egg-stravagant-basket-giveaway/
LOCATION:DMV Site\, 1100 New Bern Ave.\, Raleigh\, NC\, 27601
CATEGORIES:Community Engagement
END:VEVENT
BEGIN:VEVENT
DTSTART;TZID=America/New_York:20250327T150000
DTEND;TZID=America/New_York:20250327T180000
DTSTAMP:20260422T153628
CREATED:20250221T154343Z
LAST-MODIFIED:20250221T154343Z
UID:43748-1743087600-1743098400@livableraleigh.com
SUMMARY:Ask-A-Planner: Branching Out: Trees and Urban Ecosystems
DESCRIPTION:If you missed our Reflecting Raleigh Community Conversation or have additional thoughts\, join us for Ask-A-Planner! Talk one-on-one with Planning & Urban Forestry staff on programs and efforts related to Raleigh’s trees. \n\nThursday\, March 20\n3-6 p.m.\nVirtual\nMonday\, March 24\n3-6 p.m.\nBiltmore Hills Community Center\nThursday\, March 27\n3-6 p.m.\nWalnut Creek Wetland Center\nThis event will feature tours beginning at 4:30 p.m. from students in the Neighborhood Ecology Corps of the Center.
URL:https://livableraleigh.com/event/ask-a-planner-branching-out-trees-and-urban-ecosystems-2/
LOCATION:Walnut Creek Wetland Center\, 950 Peterson St\, Raleigh\, NC\, 27610
CATEGORIES:Community Engagement
END:VEVENT
BEGIN:VEVENT
DTSTART;TZID=America/New_York:20250325T170000
DTEND;TZID=America/New_York:20250325T183000
DTSTAMP:20260422T153628
CREATED:20250221T154222Z
LAST-MODIFIED:20250221T154222Z
UID:43746-1742922000-1742927400@livableraleigh.com
SUMMARY:Five Points Streetscape and Safety Study Final Touchpoint
DESCRIPTION:The City of Raleigh invites you to the final touchpoint for the Five Points Streetscape and Safety Study. \nYour input has been invaluable throughout this process and we want to ensure you stay informed on what comes next. \nJoin us to review the study’s findings\, explore potential next steps and ask questions about what future improvements could look like. \nThere will be a presentation and interactive boards for review.
URL:https://livableraleigh.com/event/five-points-streetscape-and-safety-study-final-touchpoint/
LOCATION:Five Points Center for Active Adults\, 2000 Noble Road\, Raleigh\, NC\, 27608\, United States
CATEGORIES:Community Engagement
END:VEVENT
BEGIN:VEVENT
DTSTART;TZID=America/New_York:20250324T150000
DTEND;TZID=America/New_York:20250324T180000
DTSTAMP:20260422T153628
CREATED:20250221T153903Z
LAST-MODIFIED:20250221T153903Z
UID:43742-1742828400-1742839200@livableraleigh.com
SUMMARY:Ask-A-Planner: Branching Out: Trees and Urban Ecosystems
DESCRIPTION:If you missed our Reflecting Raleigh Community Conversation or have additional thoughts\, join us for Ask-A-Planner! Talk one-on-one with Planning & Urban Forestry staff on programs and efforts related to Raleigh’s trees. \n\nThursday\, March 20\n3-6 p.m.\nVirtual\nMonday\, March 24\n3-6 p.m.\nBiltmore Hills Community Center\nThursday\, March 27\n3-6 p.m.\nWalnut Creek Wetland Center\nThis event will feature tours beginning at 4:30 p.m. from students in the Neighborhood Ecology Corps of the Center.
URL:https://livableraleigh.com/event/ask-a-planner-branching-out-trees-and-urban-ecosystems/
LOCATION:Biltmore Hills Park\, 2615 Fitzgerald Drive\, Raleigh\, NC\, 27610
CATEGORIES:Community Engagement
END:VEVENT
BEGIN:VEVENT
DTSTART;TZID=America/New_York:20250320T150000
DTEND;TZID=America/New_York:20250320T180000
DTSTAMP:20260422T153628
CREATED:20250221T153601Z
LAST-MODIFIED:20250221T153601Z
UID:43738-1742482800-1742493600@livableraleigh.com
SUMMARY:Ask-A-Planner: Branching Out: Trees and Urban Ecosystems - Virtual
DESCRIPTION:If you missed our Reflecting Raleigh Community Conversation or have additional thoughts\, join us for Ask-A-Planner! Talk one-on-one with Planning & Urban Forestry staff on programs and efforts related to Raleigh’s trees. \n\nThursday\, March 20\n3-6 p.m.\nVirtual\nMonday\, March 24\n3-6 p.m.\nBiltmore Hills Community Center\nThursday\, March 27\n3-6 p.m.\nWalnut Creek Wetland Center\nThis event will feature tours beginning at 4:30 p.m. from students in the Neighborhood Ecology Corps of the Center.
URL:https://livableraleigh.com/event/ask-a-planner-branching-out-trees-and-urban-ecosystems-virtual/
LOCATION:Virtual Meeting
CATEGORIES:Community Engagement
END:VEVENT
BEGIN:VEVENT
DTSTART;TZID=America/New_York:20250320T103000
DTEND;TZID=America/New_York:20250320T120000
DTSTAMP:20260422T153628
CREATED:20250215T173751Z
LAST-MODIFIED:20250215T173751Z
UID:43652-1742466600-1742472000@livableraleigh.com
SUMMARY:Community Engagement Outreach at Green Road Community Library
DESCRIPTION:Want to learn more about City services without the hassle of traveling downtown? Now you can! Raleigh’s Community Engagement Team is visiting neighborhoods across the city\, bringing resources directly to residents. Residents will have the opportunity to: \n\nLearn about projects impacting your community;\nSign up for activities and classes\, including our FREE English Language programs;\nGet assistance navigating our website and services; and\,\nMuch more!
URL:https://livableraleigh.com/event/community-engagement-outreach-at-green-road-community-library/
LOCATION:Green Rd Community Center\, 4201 Green Rd\, Raleigh\, NC\, 27604
CATEGORIES:Community Engagement,Engagement Filter,Parks & Rec
END:VEVENT
BEGIN:VEVENT
DTSTART;TZID=America/New_York:20250308T110000
DTEND;TZID=America/New_York:20250308T130000
DTSTAMP:20260422T153628
CREATED:20250215T172951Z
LAST-MODIFIED:20250215T172951Z
UID:43644-1741431600-1741438800@livableraleigh.com
SUMMARY:Biltmore Hills Community Conversations
DESCRIPTION:Raleigh Transportation invites you to have a conversation and to get more information on the Dandridge Drive Neighborhood Bikeway project and other projects in the Biltmore Hills area. \nThis event provides an open space to learn about planned transportation projects and clear up any concerns. Community members can share other areas they feel the city should evaluate. \nCity staff will be available to answer questions.
URL:https://livableraleigh.com/event/biltmore-hills-community-conversations/
LOCATION:Biltmore Hills Park\, 2615 Fitzgerald Drive\, Raleigh\, NC\, 27610
CATEGORIES:Community Engagement
END:VEVENT
BEGIN:VEVENT
DTSTART;TZID=America/New_York:20250303T150000
DTEND;TZID=America/New_York:20250303T180000
DTSTAMP:20260422T153628
CREATED:20250202T131218Z
LAST-MODIFIED:20250202T131218Z
UID:43305-1741014000-1741024800@livableraleigh.com
SUMMARY:Ask-A-Planner: Traffic and Transportation Solutions - Virtual
DESCRIPTION:Have questions about traffic and transportation? Want to speak to someone one-on-one? Our staff will be available to provide answers about transportation\, traffic\, and the Next Comprehensive Plan at these following Ask-A-Planner events: \n\nFebruary 25\, 3-6 p.m. at Green Road Community Center.\n\n\n\n\nFebruary 27\, 3-6 p.m. at Carolina Pines Community Center.\n\n\n\n\nMarch 3\, 3-6 p.m. Virtual. Register to attend.
URL:https://livableraleigh.com/event/ask-a-planner-traffic-and-transportation-solutions-virtual/
LOCATION:Virtual Meeting
CATEGORIES:Community Engagement
END:VEVENT
BEGIN:VEVENT
DTSTART;TZID=America/New_York:20250227T150000
DTEND;TZID=America/New_York:20250227T180000
DTSTAMP:20260422T153628
CREATED:20250117T161353Z
LAST-MODIFIED:20250117T161353Z
UID:43100-1740668400-1740679200@livableraleigh.com
SUMMARY:Ask-A-Planner: Traffic and Transportation Solutions
DESCRIPTION:Have questions about traffic and transportation? Want to speak to someone one-on-one? Our staff will be available to provide answers about transportation\, traffic\, and the Next Comprehensive Plan at these following Ask-A-Planner events: \n\nFebruary 25\, 3-6 p.m. at Green Road Community Center.\n\n\n\n\nFebruary 27\, 3-6 p.m. at Carolina Pines Community Center.\n\n\n\n\nMarch 3\, 3-6 p.m. Virtual. Register to attend.
URL:https://livableraleigh.com/event/ask-a-planner-traffic-and-transportation-solutions-2/
LOCATION:Carolina Pines Community Center\, 2305 Lake Wheeler Road\, Raleigh\, NC\, 27603\, United States
CATEGORIES:Community Engagement
END:VEVENT
BEGIN:VEVENT
DTSTART;TZID=America/New_York:20250225T150000
DTEND;TZID=America/New_York:20250225T180000
DTSTAMP:20260422T153628
CREATED:20250117T161206Z
LAST-MODIFIED:20250117T161206Z
UID:43098-1740495600-1740506400@livableraleigh.com
SUMMARY:Ask-A-Planner: Traffic and Transportation Solutions
DESCRIPTION:Have questions about traffic and transportation? Want to speak to someone one-on-one? Our staff will be available to provide answers about transportation\, traffic\, and the Next Comprehensive Plan at these following Ask-A-Planner events: \n\nFebruary 25\, 3-6 p.m. at Green Road Community Center.\n\n\n\n\nFebruary 27\, 3-6 p.m. at Carolina Pines Community Center.\n\n\n\n\nMarch 3\, 3-6 p.m. Virtual. Register to attend.
URL:https://livableraleigh.com/event/ask-a-planner-traffic-and-transportation-solutions/
LOCATION:Green Rd Community Center\, 4201 Green Rd\, Raleigh\, NC\, 27604
CATEGORIES:Community Engagement
END:VEVENT
BEGIN:VEVENT
DTSTART;TZID=America/New_York:20250219T183000
DTEND;TZID=America/New_York:20250219T203000
DTSTAMP:20260422T153628
CREATED:20250117T161017Z
LAST-MODIFIED:20250218T125526Z
UID:43096-1739989800-1739997000@livableraleigh.com
SUMMARY:A City in Motion: Traffic and Transportation Solutions - POSTPONED for weather
DESCRIPTION:State of the City: Transportation in Raleigh and Community Conversation  \n\n\n  \n\n\n\nRaleigh is growing and its infrastructure is changing. Hear from national and state experts about the challenges of future growth and the importance of sustainability\, emissions reduction\, and responsible development. \n\n\n  \n\n\nExplore how transportation affects our daily lives through topics including: \n\n\n\nHow to create effective transportation networks\n\n\n\n\nHow greenways fit into our transportation system\n\n\n\n\nHow to create a system that allows for choices between cars and other modes of travel\n\n\n\n\nOpportunities to keep improving our transit system\n\n\n\n  \n\n\n  \n\n\n  \n\n\nWednesday\, February 19 | 6-8 p.m.\nChavis Community Center\n\nState of Raleigh Transportation\nPanel Discussion with Regional Transportation Planners\nCommunity Conversation
URL:https://livableraleigh.com/event/a-city-in-motion-traffic-and-transportation-solutions-3/
LOCATION:John Chavis Community Center\, 505 Martin Luther King Jr. Blvd.\, Raleigh\, NC\, 27601\, United States
CATEGORIES:Community Engagement
END:VEVENT
BEGIN:VEVENT
DTSTART;TZID=America/New_York:20250219T100000
DTEND;TZID=America/New_York:20250219T113000
DTSTAMP:20260422T153628
CREATED:20250125T133616Z
LAST-MODIFIED:20250218T155231Z
UID:43208-1739959200-1739964600@livableraleigh.com
SUMMARY:Community Outreach at Five Points Center -- cancelled
DESCRIPTION:Want to learn more about City services without the hassle of traveling downtown? Now you can! Raleigh’s community engagement vehicle is visiting neighborhoods across the city\, bringing resources directly to residents. Residents will have the opportunity to: \n\nLearn about projects impacting your community;\nSign up for activities and classes\, including our FREE English Language programs;\nGet assistance navigating our website and services; and\,\nMuch more!
URL:https://livableraleigh.com/event/community-outreach-at-five-points-center/
LOCATION:Five Points Center for Active Adults\, 2000 Noble Road\, Raleigh\, NC\, 27608\, United States
CATEGORIES:Community Engagement
END:VEVENT
BEGIN:VEVENT
DTSTART;TZID=America/New_York:20250213T110000
DTEND;TZID=America/New_York:20250213T140000
DTSTAMP:20260422T153628
CREATED:20250102T162316Z
LAST-MODIFIED:20250102T162316Z
UID:42844-1739444400-1739455200@livableraleigh.com
SUMMARY:On-site Hours at the Former DMV Site
DESCRIPTION:Raleigh’s Community Engagement team will be at the Former DMV site. \nStop by and say hello to our team members. Learn more about the Former DMV site project and other city projects!
URL:https://livableraleigh.com/event/on-site-hours-at-the-former-dmv-site-6/
LOCATION:DMV Site\, 1100 New Bern Ave.\, Raleigh\, NC\, 27601
CATEGORIES:Community Engagement
END:VEVENT
BEGIN:VEVENT
DTSTART;TZID=America/New_York:20250211T113000
DTEND;TZID=America/New_York:20250211T130000
DTSTAMP:20260422T153628
CREATED:20250125T133037Z
LAST-MODIFIED:20250125T133037Z
UID:43203-1739273400-1739278800@livableraleigh.com
SUMMARY:Community Outreach at Refugee Hope Partners
DESCRIPTION:Want to learn more about City services without the hassle of traveling downtown? Now you can! Raleigh’s community engagement vehicle is visiting neighborhoods across the city\, bringing resources directly to residents. Residents will have the opportunity to: \nLearn about projects impacting your community; \nSign up for activities and classes\, including our FREE English Language programs; \nGet assistance navigating our website and services; and\, \nMuch more!
URL:https://livableraleigh.com/event/community-outreach-at-refugee-hope-partners/
LOCATION:Refugee Hope Partners Welcome Center\, 6625-015 Falls of Neuse Road\, Raleigh\, NC\, 27615
CATEGORIES:Community Engagement
END:VEVENT
BEGIN:VEVENT
DTSTART;TZID=America/New_York:20250201T150000
DTEND;TZID=America/New_York:20250201T170000
DTSTAMP:20260422T153628
CREATED:20250125T132559Z
LAST-MODIFIED:20250125T132559Z
UID:43199-1738422000-1738429200@livableraleigh.com
SUMMARY:Oaks and Spokes Free Bike Repairs
DESCRIPTION:Oak and Spokes and Peach Road host quarterly pop-up free bike repair events. Come out and say hello to our team!
URL:https://livableraleigh.com/event/oaks-and-spokes-free-bike-repairs/
LOCATION:Peach Road Cultural Center\, 911 Ileagnes Road\, Raleigh\, 27603
CATEGORIES:Community Engagement
END:VEVENT
BEGIN:VEVENT
DTSTART;TZID=America/New_York:20250127T130000
DTEND;TZID=America/New_York:20250127T150000
DTSTAMP:20260422T153628
CREATED:20250117T160010Z
LAST-MODIFIED:20250117T160010Z
UID:43090-1737982800-1737990000@livableraleigh.com
SUMMARY:Community Engagement Board - Policy Meeting
DESCRIPTION:Please join us for the Community Engagement Board Policy Subcommittee meeting. \nWhen: Jan. 27\nTime: 1 p.m. \nLocation: Raleigh Pathways Center\, 900 S. Wilmington St. Raleigh\, NC 27601
URL:https://livableraleigh.com/event/community-engagement-board-policy-meeting/
LOCATION:Raleigh Pathways Center\, 900 S. Wilmington Street
CATEGORIES:Community Engagement
END:VEVENT
BEGIN:VEVENT
DTSTART;TZID=America/New_York:20250113T180000
DTEND;TZID=America/New_York:20250113T193000
DTSTAMP:20260422T153628
CREATED:20241128T145850Z
LAST-MODIFIED:20241128T145850Z
UID:42516-1736791200-1736796600@livableraleigh.com
SUMMARY:City Budget Listening Session - District C
DESCRIPTION:The City of Raleigh wants to hear from you! \nThe Budget and Management Services Department is hosting eight listening sessions to hear how residents want their tax dollars spent. Your input is critical to creating an equitable City budget. \nJoin us at the Barwell Road Community Center  for a City budget listening session on Monday\, Jan. 13 from 6 p.m. to 7:30 p.m. \nRegister online. \nIf you speak a different language and need interpretation\, let us know in the sign up form\, and we’ll provide an interpreter free of charge. \nLearn more about our budget listening sessions
URL:https://livableraleigh.com/event/city-budget-listening-session-district-c/
LOCATION:Barwell Road Community Center\, 5857 Barwell Park Dr\, Raleigh\, NC\, 27610\, United States
CATEGORIES:Community Engagement
END:VEVENT
BEGIN:VEVENT
DTSTART;TZID=America/New_York:20250109T180000
DTEND;TZID=America/New_York:20250109T193000
DTSTAMP:20260422T153628
CREATED:20241128T145454Z
LAST-MODIFIED:20241128T145454Z
UID:42510-1736445600-1736451000@livableraleigh.com
SUMMARY:City Budget Listening Session - District B
DESCRIPTION:The City of Raleigh wants to hear from you! \nThe Budget and Management Services Department is hosting eight listening sessions to hear how residents want their tax dollars spent. Your input is critical to creating an equitable City budget. \nJoin us at the Abbots Creek Community Center  for a City budget listening session on Thursday\, Jan. 9 from 6 p.m. to 7:30 p.m. \nRegister online. \nIf you speak a different language and need interpretation\, let us know in the sign up form\, and we’ll provide an interpreter free of charge. \nLearn more about our budget listening sessions.
URL:https://livableraleigh.com/event/city-budget-listening-session-district-b/
LOCATION:Abbotts Creek Community Center\, 9950 Durant Rd\, Raleigh\, NC\, 27614
CATEGORIES:Community Engagement
END:VEVENT
BEGIN:VEVENT
DTSTART;TZID=America/New_York:20250109T110000
DTEND;TZID=America/New_York:20250109T140000
DTSTAMP:20260422T153628
CREATED:20241128T145128Z
LAST-MODIFIED:20241128T145128Z
UID:42504-1736420400-1736431200@livableraleigh.com
SUMMARY:On-site Hours at the Former DMV Site
DESCRIPTION:Raleigh’s Community Engagement team will be at the Former DMV site. \nStop by and say hello to our team members. Learn more about the Former DMV site project and other city projects!
URL:https://livableraleigh.com/event/on-site-hours-at-the-former-dmv-site-5/
LOCATION:DMV Site\, 1100 New Bern Ave.\, Raleigh\, NC\, 27601
CATEGORIES:Community Engagement
END:VEVENT
BEGIN:VEVENT
DTSTART;TZID=America/New_York:20250108T180000
DTEND;TZID=America/New_York:20250108T193000
DTSTAMP:20260422T153628
CREATED:20241128T145009Z
LAST-MODIFIED:20241128T145009Z
UID:42502-1736359200-1736364600@livableraleigh.com
SUMMARY:City Budget Listening Session - District E
DESCRIPTION:The City of Raleigh wants to hear from you! \nThe Budget and Management Services Department is hosting eight listening sessions to hear how residents want their tax dollars spent. Your input is critical to creating an equitable City budget. \nJoin us at the Laurel Hills Community Center for a City budget listening session on Wednesday\, Jan. 8 from 6 p.m. to 7:30 p.m. \nRegister online. \nIf you speak a different language and need interpretation\, let us know in the sign up form\, and we’ll provide an interpreter free of charge. \nLearn more about our budget listening sessions.
URL:https://livableraleigh.com/event/city-budget-listening-session-district-e/
LOCATION:Laurel Hills Community Center\, 3808 Edwards Mill Road\, 27612
CATEGORIES:Community Engagement
END:VEVENT
BEGIN:VEVENT
DTSTART;TZID=America/New_York:20250108T163000
DTEND;TZID=America/New_York:20250108T183000
DTSTAMP:20260422T153628
CREATED:20241128T144906Z
LAST-MODIFIED:20241128T144906Z
UID:42500-1736353800-1736361000@livableraleigh.com
SUMMARY:Community Engagement Board Meeting
DESCRIPTION:The Community Engagement Board helps to develop\, evaluate\, and implement the City of Raleigh’s community engagement efforts. \nThe committee will meet on Jan. 8\, 2025 at 4:30 p.m. at Sertoma Arts Center\, 1400 Millbrook Road. \nRegister to attend virtually.
URL:https://livableraleigh.com/event/community-engagement-board-meeting-12/
LOCATION:Sertoma Arts Center\, 1400 Millbrook Road\, Raleigh\, NC\, 27612\, United States
CATEGORIES:Community Engagement
END:VEVENT
BEGIN:VEVENT
DTSTART;TZID=America/New_York:20250107T180000
DTEND;TZID=America/New_York:20250107T193000
DTSTAMP:20260422T153628
CREATED:20241128T144611Z
LAST-MODIFIED:20241128T144611Z
UID:42496-1736272800-1736278200@livableraleigh.com
SUMMARY:City Budget Listening Session - District A
DESCRIPTION:The City of Raleigh wants to hear from you! \nThe Budget and Management Services Department is hosting eight listening sessions to hear how residents want their tax dollars spent. Your input is critical to creating an equitable City budget. \nJoin us at the Millbrook Exchange Park Community Center for a City budget listening session on Tuesday\, Jan. 7 from 6 p.m. to 7:30 p.m. \nRegister online. \nIf you speak a different language and need interpretation\, let us know in the sign up form\, and we’ll provide an interpreter free of charge. \nLearn more about our budget listening sessions.
URL:https://livableraleigh.com/event/city-budget-listening-session-district-a/
LOCATION:Millbrook Exchange Park\, 1905 Spring Forest Rd\, Raleigh\, NC\, 27615
CATEGORIES:Community Engagement
END:VEVENT
BEGIN:VEVENT
DTSTART;TZID=America/New_York:20250106T180000
DTEND;TZID=America/New_York:20250106T193000
DTSTAMP:20260422T153628
CREATED:20241128T144049Z
LAST-MODIFIED:20241128T144355Z
UID:42492-1736186400-1736191800@livableraleigh.com
SUMMARY:City Budget Listening Session - District D
DESCRIPTION:  \n\n\nThe City of Raleigh wants to hear from you! \nThe Budget and Management Services Department is hosting eight listening sessions to hear how residents want their tax dollars spent. Your input is critical to creating an equitable City budget. \nJoin us at the Pullen Community Center for a City budget listening session on Monday\, Jan. 6 from 6 p.m. to 7:30 p.m. \nRegister online. \nIf you speak a different language and need interpretation\, let us know in the sign up form\, and we’ll provide an interpreter free of charge. \nLearn more about our budget listening sessions. \n\n\n\n\nMore Events in this Series
URL:https://livableraleigh.com/event/city-budget-listening-session-district-d/
LOCATION:Pullen Park Community Center\, 408 Ashe Ave\, Raleigh\, NC\, 27607
CATEGORIES:Community Engagement
END:VEVENT
END:VCALENDAR