BEGIN:VCALENDAR
VERSION:2.0
PRODID:-//Livable Raleigh - ECPv6.15.20//NONSGML v1.0//EN
CALSCALE:GREGORIAN
METHOD:PUBLISH
X-ORIGINAL-URL:https://livableraleigh.com
X-WR-CALDESC:Events for Livable Raleigh
REFRESH-INTERVAL;VALUE=DURATION:PT1H
X-Robots-Tag:noindex
X-PUBLISHED-TTL:PT1H
BEGIN:VTIMEZONE
TZID:America/New_York
BEGIN:DAYLIGHT
TZOFFSETFROM:-0500
TZOFFSETTO:-0400
TZNAME:EDT
DTSTART:20250309T070000
END:DAYLIGHT
BEGIN:STANDARD
TZOFFSETFROM:-0400
TZOFFSETTO:-0500
TZNAME:EST
DTSTART:20251102T060000
END:STANDARD
BEGIN:DAYLIGHT
TZOFFSETFROM:-0500
TZOFFSETTO:-0400
TZNAME:EDT
DTSTART:20260308T070000
END:DAYLIGHT
BEGIN:STANDARD
TZOFFSETFROM:-0400
TZOFFSETTO:-0500
TZNAME:EST
DTSTART:20261101T060000
END:STANDARD
BEGIN:DAYLIGHT
TZOFFSETFROM:-0500
TZOFFSETTO:-0400
TZNAME:EDT
DTSTART:20270314T070000
END:DAYLIGHT
BEGIN:STANDARD
TZOFFSETFROM:-0400
TZOFFSETTO:-0500
TZNAME:EST
DTSTART:20271107T060000
END:STANDARD
END:VTIMEZONE
BEGIN:VEVENT
DTSTART;TZID=America/New_York:20260220T090000
DTEND;TZID=America/New_York:20260220T100000
DTSTAMP:20260423T185702
CREATED:20260209T203836Z
LAST-MODIFIED:20260209T203836Z
UID:51446-1771578000-1771581600@livableraleigh.com
SUMMARY:Raleigh Talks — the City Listens: Creating Community Cohesion
DESCRIPTION:We want to hear from you\, Raleigh\, about your experience building new friendships in the city. Participants will receive a $25 gift card. \nJoin us at A Place at the Table for a one-hour activity with the City of Raleigh staff. Raleigh City employees are coming together from across departments to learn and practice public innovation to solve real challenges facing the city. The focus of this project is about building community cohesion. \nWe want to hear from you\, Raleigh residents\, about your experience building new friendships through the activities in your community. \nHow does it work? \nArrive at 9 a.m. and get paired up with a Raleigh employee. They will ask you questions about your experience meeting new people. There is nothing you need to prepare\, just an openness to share your experiences. As a thank you for your time\, we will provide you with a $25 gift card. \nWho can attend? \nOur focus is learning how people create a sense of belonging and connection within Raleigh. We’d like to talk to anyone who will share their stories about how they are expanding their social circle. \nWhat else should I know? \nAll participants need to arrive at 9am and stay until 10am in order to receive a gift card. We will also provide coffee and pastries from A Place at the Table. \nParking \nThere is paid street parking and a paid gravel parking lot across the street from the cafe. There are also five free two-hour parking decks in Downtown Raleigh. The Municipal Lot is closest to the restaurant. \nSpots are limited to the first 20 people to sign up! If you can no longer make it\, send us an email at gabriela.scarritt@raleighnc.gov and we will open that spot up for someone else. Thanks! \n\n\n\n\n\n\nSHARE\n\nPRINT
URL:https://livableraleigh.com/event/raleigh-talks-the-city-listens-creating-community-cohesion/
LOCATION:A Place At the Table\, 300 West Hargett Street\, Raleigh
CATEGORIES:Community Engagement,Engagement Filter
END:VEVENT
END:VCALENDAR