BEGIN:VCALENDAR
VERSION:2.0
PRODID:-//Livable Raleigh - ECPv6.15.20//NONSGML v1.0//EN
CALSCALE:GREGORIAN
METHOD:PUBLISH
X-WR-CALNAME:Livable Raleigh
X-ORIGINAL-URL:https://livableraleigh.com
X-WR-CALDESC:Events for Livable Raleigh
REFRESH-INTERVAL;VALUE=DURATION:PT1H
X-Robots-Tag:noindex
X-PUBLISHED-TTL:PT1H
BEGIN:VTIMEZONE
TZID:America/New_York
BEGIN:DAYLIGHT
TZOFFSETFROM:-0500
TZOFFSETTO:-0400
TZNAME:EDT
DTSTART:20250309T070000
END:DAYLIGHT
BEGIN:STANDARD
TZOFFSETFROM:-0400
TZOFFSETTO:-0500
TZNAME:EST
DTSTART:20251102T060000
END:STANDARD
BEGIN:DAYLIGHT
TZOFFSETFROM:-0500
TZOFFSETTO:-0400
TZNAME:EDT
DTSTART:20260308T070000
END:DAYLIGHT
BEGIN:STANDARD
TZOFFSETFROM:-0400
TZOFFSETTO:-0500
TZNAME:EST
DTSTART:20261101T060000
END:STANDARD
BEGIN:DAYLIGHT
TZOFFSETFROM:-0500
TZOFFSETTO:-0400
TZNAME:EDT
DTSTART:20270314T070000
END:DAYLIGHT
BEGIN:STANDARD
TZOFFSETFROM:-0400
TZOFFSETTO:-0500
TZNAME:EST
DTSTART:20271107T060000
END:STANDARD
END:VTIMEZONE
BEGIN:VEVENT
DTSTART;TZID=America/New_York:20260213T090000
DTEND;TZID=America/New_York:20260213T100000
DTSTAMP:20260423T103450
CREATED:20251231T220033Z
LAST-MODIFIED:20251231T220033Z
UID:50034-1770973200-1770976800@livableraleigh.com
SUMMARY:Coffee and Conversations – Housing
DESCRIPTION:Join the Community Engagement Department and A Place at the Table for our monthly “Coffee and Conversations.” This event is meant to be friendly and welcoming\, with open conversations about important topics. There won’t be a set agenda—just a chance to listen\, share\, and learn from each other. We hope to see you there! \nFriday\, Feb. 13\n9 a.m. to 10 a.m.\nA Place at the Table\n300 W Hargett St Unit 50\, Raleigh\, NC
URL:https://livableraleigh.com/event/coffee-and-conversations-housing/
LOCATION:A Place At the Table\, 300 West Hargett Street\, Raleigh
CATEGORIES:Community Engagement
END:VEVENT
BEGIN:VEVENT
DTSTART;TZID=America/New_York:20260213T093000
DTEND;TZID=America/New_York:20260213T110000
DTSTAMP:20260423T103450
CREATED:20251231T220356Z
LAST-MODIFIED:20251231T220356Z
UID:50036-1770975000-1770980400@livableraleigh.com
SUMMARY:After the Conversation - Outreach at A Place at the Table
DESCRIPTION:Feb. 13\n9:30 a.m. to 11 a.m.\n300 W Hargett St\, Raleigh\, NC 27601\n\nJoin Community Engagement staff after Coffee and Conversations as they share resources from the Community Engagement vehicle. Residents will have the opportunity to: \n\nLearn about projects impacting your community\nSign up for activities and classes\, including our FREE English Language programs\nGet assistance navigating our website and services\nAnd much more!\n\nView Community Engagement event calendar
URL:https://livableraleigh.com/event/after-the-conversation-outreach-at-a-place-at-the-table/
LOCATION:A Place At the Table\, 300 West Hargett Street\, Raleigh
CATEGORIES:Community Engagement
END:VEVENT
END:VCALENDAR