BEGIN:VCALENDAR
VERSION:2.0
PRODID:-//Livable Raleigh - ECPv6.15.20//NONSGML v1.0//EN
CALSCALE:GREGORIAN
METHOD:PUBLISH
X-WR-CALNAME:Livable Raleigh
X-ORIGINAL-URL:https://livableraleigh.com
X-WR-CALDESC:Events for Livable Raleigh
REFRESH-INTERVAL;VALUE=DURATION:PT1H
X-Robots-Tag:noindex
X-PUBLISHED-TTL:PT1H
BEGIN:VTIMEZONE
TZID:America/New_York
BEGIN:DAYLIGHT
TZOFFSETFROM:-0500
TZOFFSETTO:-0400
TZNAME:EDT
DTSTART:20250309T070000
END:DAYLIGHT
BEGIN:STANDARD
TZOFFSETFROM:-0400
TZOFFSETTO:-0500
TZNAME:EST
DTSTART:20251102T060000
END:STANDARD
BEGIN:DAYLIGHT
TZOFFSETFROM:-0500
TZOFFSETTO:-0400
TZNAME:EDT
DTSTART:20260308T070000
END:DAYLIGHT
BEGIN:STANDARD
TZOFFSETFROM:-0400
TZOFFSETTO:-0500
TZNAME:EST
DTSTART:20261101T060000
END:STANDARD
BEGIN:DAYLIGHT
TZOFFSETFROM:-0500
TZOFFSETTO:-0400
TZNAME:EDT
DTSTART:20270314T070000
END:DAYLIGHT
BEGIN:STANDARD
TZOFFSETFROM:-0400
TZOFFSETTO:-0500
TZNAME:EST
DTSTART:20271107T060000
END:STANDARD
END:VTIMEZONE
BEGIN:VEVENT
DTSTART;TZID=America/New_York:20260204T100000
DTEND;TZID=America/New_York:20260204T113000
DTSTAMP:20260423T103412
CREATED:20251231T213208Z
LAST-MODIFIED:20251231T213208Z
UID:49998-1770199200-1770204600@livableraleigh.com
SUMMARY:Outreach at North Regional Library
DESCRIPTION:Feb. 4\n10 a.m. to 11:30 a.m.\n7009 Harps Mill Rd\, Raleigh\, NC 27615\n\nWant to learn more about City services without the hassle of traveling downtown? Now you can! Raleigh’s Community Engagement Team is visiting neighborhoods across the city\, bringing resources directly to residents. Residents will have the opportunity to: \n\nLearn about projects impacting your community;\nSign up for activities and classes\, including our FREE English Language programs;\nGet assistance navigating our website and services; and\,\nMuch more!\n\nView Community Engagement event calendar
URL:https://livableraleigh.com/event/outreach-at-north-regional-library-10/
LOCATION:North Regional Library\, 7009 Harps Mill Road\, Raleigh\, NC\, 27615
CATEGORIES:Community Engagement
END:VEVENT
END:VCALENDAR