BEGIN:VCALENDAR
VERSION:2.0
PRODID:-//Livable Raleigh - ECPv6.15.20//NONSGML v1.0//EN
CALSCALE:GREGORIAN
METHOD:PUBLISH
X-ORIGINAL-URL:https://livableraleigh.com
X-WR-CALDESC:Events for Livable Raleigh
REFRESH-INTERVAL;VALUE=DURATION:PT1H
X-Robots-Tag:noindex
X-PUBLISHED-TTL:PT1H
BEGIN:VTIMEZONE
TZID:America/New_York
BEGIN:DAYLIGHT
TZOFFSETFROM:-0500
TZOFFSETTO:-0400
TZNAME:EDT
DTSTART:20250309T070000
END:DAYLIGHT
BEGIN:STANDARD
TZOFFSETFROM:-0400
TZOFFSETTO:-0500
TZNAME:EST
DTSTART:20251102T060000
END:STANDARD
BEGIN:DAYLIGHT
TZOFFSETFROM:-0500
TZOFFSETTO:-0400
TZNAME:EDT
DTSTART:20260308T070000
END:DAYLIGHT
BEGIN:STANDARD
TZOFFSETFROM:-0400
TZOFFSETTO:-0500
TZNAME:EST
DTSTART:20261101T060000
END:STANDARD
BEGIN:DAYLIGHT
TZOFFSETFROM:-0500
TZOFFSETTO:-0400
TZNAME:EDT
DTSTART:20270314T070000
END:DAYLIGHT
BEGIN:STANDARD
TZOFFSETFROM:-0400
TZOFFSETTO:-0500
TZNAME:EST
DTSTART:20271107T060000
END:STANDARD
END:VTIMEZONE
BEGIN:VEVENT
DTSTART;TZID=America/New_York:20260120T100000
DTEND;TZID=America/New_York:20260120T113000
DTSTAMP:20260423T145148
CREATED:20251219T231424Z
LAST-MODIFIED:20251219T231424Z
UID:49908-1768903200-1768908600@livableraleigh.com
SUMMARY:Outreach at Advance Community Health's Southeast Raleigh Careplex
DESCRIPTION:Jan. 20\n10 a.m. to 11:30 a.m.\n1001 Rock Quarry Rd\, Raleigh\, NC 27610\n\nWant to learn more about City services without the hassle of traveling downtown? Now you can! Raleigh’s Community Engagement Team is visiting neighborhoods across the city\, bringing resources directly to residents. Residents will have the opportunity to: \n\nLearn about projects impacting your community;\nSign up for activities and classes\, including our FREE English Language programs;\nGet assistance navigating our website and services; and\,\nMuch more!\n\nView Community Engagement event calendar
URL:https://livableraleigh.com/event/outreach-at-advance-community-healths-southeast-raleigh-careplex/
LOCATION:Advance Community Health\, 1011 Rock Quarry Road\, Raleigh\, NC\, 27610
CATEGORIES:Community Engagement
END:VEVENT
END:VCALENDAR