BEGIN:VCALENDAR
VERSION:2.0
PRODID:-//Livable Raleigh - ECPv6.15.20//NONSGML v1.0//EN
CALSCALE:GREGORIAN
METHOD:PUBLISH
X-ORIGINAL-URL:https://livableraleigh.com
X-WR-CALDESC:Events for Livable Raleigh
REFRESH-INTERVAL;VALUE=DURATION:PT1H
X-Robots-Tag:noindex
X-PUBLISHED-TTL:PT1H
BEGIN:VTIMEZONE
TZID:America/New_York
BEGIN:DAYLIGHT
TZOFFSETFROM:-0500
TZOFFSETTO:-0400
TZNAME:EDT
DTSTART:20240310T070000
END:DAYLIGHT
BEGIN:STANDARD
TZOFFSETFROM:-0400
TZOFFSETTO:-0500
TZNAME:EST
DTSTART:20241103T060000
END:STANDARD
BEGIN:DAYLIGHT
TZOFFSETFROM:-0500
TZOFFSETTO:-0400
TZNAME:EDT
DTSTART:20250309T070000
END:DAYLIGHT
BEGIN:STANDARD
TZOFFSETFROM:-0400
TZOFFSETTO:-0500
TZNAME:EST
DTSTART:20251102T060000
END:STANDARD
BEGIN:DAYLIGHT
TZOFFSETFROM:-0500
TZOFFSETTO:-0400
TZNAME:EDT
DTSTART:20260308T070000
END:DAYLIGHT
BEGIN:STANDARD
TZOFFSETFROM:-0400
TZOFFSETTO:-0500
TZNAME:EST
DTSTART:20261101T060000
END:STANDARD
END:VTIMEZONE
BEGIN:VEVENT
DTSTART;TZID=America/New_York:20251011T093000
DTEND;TZID=America/New_York:20251011T153000
DTSTAMP:20260423T172837
CREATED:20250912T150006Z
LAST-MODIFIED:20250912T150006Z
UID:48106-1760175000-1760196600@livableraleigh.com
SUMMARY:Crosby Community Day
DESCRIPTION:Oct. 11\n9:30 a.m. to 3:30 p.m.\n505 Martin Luther King Jr. Blvd\n\nWant to learn more about City services without the hassle of traveling downtown? Now you can! Raleigh’s Community Engagement Team is visiting neighborhoods across the city\, bringing resources directly to residents. Residents will have the opportunity to: \n\nLearn about projects impacting your community;\nSign up for activities and classes\, including our FREE English Language programs;\nGet assistance navigating our website and services; and\,\nMuch more!
URL:https://livableraleigh.com/event/crosby-community-day/
LOCATION:John Chavis Community Center\, 505 Martin Luther King Jr. Blvd.\, Raleigh\, NC\, 27601\, United States
CATEGORIES:Community Engagement
END:VEVENT
BEGIN:VEVENT
DTSTART;TZID=America/New_York:20251011T100000
DTEND;TZID=America/New_York:20251011T120000
DTSTAMP:20260423T172837
CREATED:20250912T150126Z
LAST-MODIFIED:20250912T150126Z
UID:48108-1760176800-1760184000@livableraleigh.com
SUMMARY:Art On The Greenway Ride Series - Ride #3
DESCRIPTION:Ride Information\nSaturday\, October 11th at 10am\n21 miles – Anderson Point Park to Chavis Park and back. \nView route information \nOur third ride will be even a little longer starting at Anderson Point Park. From there\, we will ride together west toward Chavis Park\, making a couple of stops along the way to imagine where and how public art could be added to this section of the greenway. The pace will be fun and social. Expect to maintain an average of 10 mph.
URL:https://livableraleigh.com/event/art-on-the-greenway-ride-series-ride-3/
LOCATION:Anderson Point Park\, 20 Anderson Point Dr\, Raleigh\, NC\, 27610
CATEGORIES:Community Engagement,Parks & Rec
END:VEVENT
END:VCALENDAR