BEGIN:VCALENDAR
VERSION:2.0
PRODID:-//Livable Raleigh - ECPv6.15.20//NONSGML v1.0//EN
CALSCALE:GREGORIAN
METHOD:PUBLISH
X-ORIGINAL-URL:https://livableraleigh.com
X-WR-CALDESC:Events for Livable Raleigh
REFRESH-INTERVAL;VALUE=DURATION:PT1H
X-Robots-Tag:noindex
X-PUBLISHED-TTL:PT1H
BEGIN:VTIMEZONE
TZID:America/New_York
BEGIN:DAYLIGHT
TZOFFSETFROM:-0500
TZOFFSETTO:-0400
TZNAME:EDT
DTSTART:20240310T070000
END:DAYLIGHT
BEGIN:STANDARD
TZOFFSETFROM:-0400
TZOFFSETTO:-0500
TZNAME:EST
DTSTART:20241103T060000
END:STANDARD
BEGIN:DAYLIGHT
TZOFFSETFROM:-0500
TZOFFSETTO:-0400
TZNAME:EDT
DTSTART:20250309T070000
END:DAYLIGHT
BEGIN:STANDARD
TZOFFSETFROM:-0400
TZOFFSETTO:-0500
TZNAME:EST
DTSTART:20251102T060000
END:STANDARD
BEGIN:DAYLIGHT
TZOFFSETFROM:-0500
TZOFFSETTO:-0400
TZNAME:EDT
DTSTART:20260308T070000
END:DAYLIGHT
BEGIN:STANDARD
TZOFFSETFROM:-0400
TZOFFSETTO:-0500
TZNAME:EST
DTSTART:20261101T060000
END:STANDARD
END:VTIMEZONE
BEGIN:VEVENT
DTSTART;TZID=America/New_York:20250822T090000
DTEND;TZID=America/New_York:20250822T100000
DTSTAMP:20260423T225232
CREATED:20250808T130729Z
LAST-MODIFIED:20250808T130729Z
UID:47153-1755853200-1755856800@livableraleigh.com
SUMMARY:Coffee and Conversations
DESCRIPTION:This month\, we’re focusing on sustainability efforts around Raleigh We’ll feature guests from The Great Raleigh Cleanup and the City’s Office of Sustainability. \nThese events are meant to be friendly and welcoming\, with open conversations about important topics. There won’t be a set agenda—just a chance to listen\, share\, and learn from each other. \nRegister now – space is limited! \nDate: Aug. 22\nTime: 9 a.m. – 10 a.m.\nLocation: A Place at the Table\, 300 W Hargett St Unit 50\, Raleigh\, NC 27601
URL:https://livableraleigh.com/event/coffee-and-conversations/
LOCATION:A Place At the Table\, 300 West Hargett Street\, Raleigh
CATEGORIES:Community Engagement
END:VEVENT
END:VCALENDAR