BEGIN:VCALENDAR
VERSION:2.0
PRODID:-//Livable Raleigh - ECPv6.15.20//NONSGML v1.0//EN
CALSCALE:GREGORIAN
METHOD:PUBLISH
X-ORIGINAL-URL:https://livableraleigh.com
X-WR-CALDESC:Events for Livable Raleigh
REFRESH-INTERVAL;VALUE=DURATION:PT1H
X-Robots-Tag:noindex
X-PUBLISHED-TTL:PT1H
BEGIN:VTIMEZONE
TZID:America/New_York
BEGIN:DAYLIGHT
TZOFFSETFROM:-0500
TZOFFSETTO:-0400
TZNAME:EDT
DTSTART:20250309T070000
END:DAYLIGHT
BEGIN:STANDARD
TZOFFSETFROM:-0400
TZOFFSETTO:-0500
TZNAME:EST
DTSTART:20251102T060000
END:STANDARD
BEGIN:DAYLIGHT
TZOFFSETFROM:-0500
TZOFFSETTO:-0400
TZNAME:EDT
DTSTART:20260308T070000
END:DAYLIGHT
BEGIN:STANDARD
TZOFFSETFROM:-0400
TZOFFSETTO:-0500
TZNAME:EST
DTSTART:20261101T060000
END:STANDARD
BEGIN:DAYLIGHT
TZOFFSETFROM:-0500
TZOFFSETTO:-0400
TZNAME:EDT
DTSTART:20270314T070000
END:DAYLIGHT
BEGIN:STANDARD
TZOFFSETFROM:-0400
TZOFFSETTO:-0500
TZNAME:EST
DTSTART:20271107T060000
END:STANDARD
END:VTIMEZONE
BEGIN:VEVENT
DTSTART;TZID=America/New_York:20260304T100000
DTEND;TZID=America/New_York:20260304T113000
DTSTAMP:20260421T071817
CREATED:20260130T010524Z
LAST-MODIFIED:20260130T010524Z
UID:51034-1772618400-1772623800@livableraleigh.com
SUMMARY:Outreach at North Regional Library
DESCRIPTION:March 4\n10 a.m. to 11:30 a.m.\n7009 Harps Mill Rd\, Raleigh\, NC 27615\n\nWant to learn more about City services without the hassle of traveling downtown? Now you can! Raleigh’s Community Engagement Team is visiting neighborhoods across the city\, bringing resources directly to residents. Residents will have the opportunity to: \n\nLearn about projects impacting your community;\nSign up for activities and classes\, including our FREE English Language programs;\nGet assistance navigating our website and services; and\,\nMuch more!\n\nView Community Engagement event calendar
URL:https://livableraleigh.com/event/outreach-at-north-regional-library-11/
LOCATION:North Regional Library\, 7009 Harps Mill Road\, Raleigh\, NC\, 27615
CATEGORIES:Community Engagement
END:VEVENT
BEGIN:VEVENT
DTSTART;TZID=America/New_York:20260320T113000
DTEND;TZID=America/New_York:20260320T133000
DTSTAMP:20260421T071817
CREATED:20260130T015838Z
LAST-MODIFIED:20260130T015838Z
UID:51096-1774006200-1774013400@livableraleigh.com
SUMMARY:Community Cares Collaborative Meeting
DESCRIPTION:The Community Cares Collaborative meets: \n\nEvery other month on Friday\, 11:30 a.m. – 1:30 p.m.\nWhite Memorial Presbyterian Church (lunch provided)\nGuest speakers\, roundtable discussions\, capacity-building activities\nFree to participate\n\nMembers are encouraged to share updates\, engage in group learning\, and explore ways to collaborate. Regular communication helps keep all partners informed and connected.  \nRegister here
URL:https://livableraleigh.com/event/community-cares-collaborative-meeting-4/
LOCATION:White Memorial Presbyterian Church\, 1704 Oberlin Road\, Raleigh
CATEGORIES:Community and Workshops,Community Engagement
END:VEVENT
BEGIN:VEVENT
DTSTART;TZID=America/New_York:20260321T090000
DTEND;TZID=America/New_York:20260321T153000
DTSTAMP:20260421T071817
CREATED:20260227T173119Z
LAST-MODIFIED:20260227T173119Z
UID:51929-1774083600-1774107000@livableraleigh.com
SUMMARY:Mindwise: Youth and Family Mental Health Summit
DESCRIPTION:Growing up today brings real pressures — and parenting brings real questions. MindWise creates space for teens (13+) and the adults who support them to come together for honest conversations\, practical tools\, and meaningful connection around mental health and emotional well-being. \nThis community-centered summit features interactive workshops\, engaging panels\, teen and caregiver breakout sessions\, wellness activities\, and a curated Resource Hall. Participants will leave with strategies they can use right away — at home\, at school\, and in everyday life. \nMindWise isn’t about labels or diagnoses. It’s about learning\, listening\, and building confidence — while making sure youth voices are heard and families feel supported. \nStronger Youth. Stronger Families. Stronger Community. \nWhy Attend?\nAt MindWise\, you won’t just listen — you’ll leave equipped. \nParticipants will: \n\nLearn practical stress-management tools\nStrengthen teen–caregiver communication\nBuild confidence in school advocacy\nHear from youth\, educators\, and mental health professionals\nConnect with trusted community resources\nRecharge through guided wellness activities\n\nRegister for MindWise\nOpen to youth ages 13+ and parents\, guardians\, caregivers\, and community members. \nSpace is limited and pre-registration is required. \nRegister today and join us in building a healthier\, more connected future.
URL:https://livableraleigh.com/event/mindwise-youth-and-family-mental-health-summit/
LOCATION:McKimmon Center\, NCSU McKimmon Center 1101 Gorman Street\, Raleigh\, NC\, 27606\, United States
CATEGORIES:Community and Workshops,Community Engagement
END:VEVENT
BEGIN:VEVENT
DTSTART;TZID=America/New_York:20260328T120000
DTEND;TZID=America/New_York:20260328T140000
DTSTAMP:20260421T071817
CREATED:20260307T142604Z
LAST-MODIFIED:20260307T142604Z
UID:52374-1774699200-1774706400@livableraleigh.com
SUMMARY:Teen Comic Lab: Design. Draw. Prepare.
DESCRIPTION:Join the Raleigh Arts team for a free pizza and comics workshop with artist Wolly McNair (who has worked with Nike\, Archie Comics\, IDW Comics) and help shape Raleigh’s new emergency preparedness comic book. \nShare your ideas and tell us what characters\, colors\, and symbols make you feel safe and represented. Then create your own comic character and bring your hero to life. Come hungry\, get creative\, and be part of a project designed by teens\, for teens! \nRegister here. \nThe event will be Saturday\, March 28 from 12 p.m. to 2 p.m.  The event is free. \nLearn more about the emergency preparedness comic book project
URL:https://livableraleigh.com/event/teen-comic-lab-design-draw-prepare/
LOCATION:Peach Road Cultural Center\, 911 Ileagnes Road\, Raleigh\, 27603
CATEGORIES:Arts & Entertainment,Community Engagement,Parks & Rec
END:VEVENT
END:VCALENDAR