BEGIN:VCALENDAR
VERSION:2.0
PRODID:-//Livable Raleigh - ECPv6.15.20//NONSGML v1.0//EN
CALSCALE:GREGORIAN
METHOD:PUBLISH
X-WR-CALNAME:Livable Raleigh
X-ORIGINAL-URL:https://livableraleigh.com
X-WR-CALDESC:Events for Livable Raleigh
REFRESH-INTERVAL;VALUE=DURATION:PT1H
X-Robots-Tag:noindex
X-PUBLISHED-TTL:PT1H
BEGIN:VTIMEZONE
TZID:America/New_York
BEGIN:DAYLIGHT
TZOFFSETFROM:-0500
TZOFFSETTO:-0400
TZNAME:EDT
DTSTART:20240310T070000
END:DAYLIGHT
BEGIN:STANDARD
TZOFFSETFROM:-0400
TZOFFSETTO:-0500
TZNAME:EST
DTSTART:20241103T060000
END:STANDARD
BEGIN:DAYLIGHT
TZOFFSETFROM:-0500
TZOFFSETTO:-0400
TZNAME:EDT
DTSTART:20250309T070000
END:DAYLIGHT
BEGIN:STANDARD
TZOFFSETFROM:-0400
TZOFFSETTO:-0500
TZNAME:EST
DTSTART:20251102T060000
END:STANDARD
BEGIN:DAYLIGHT
TZOFFSETFROM:-0500
TZOFFSETTO:-0400
TZNAME:EDT
DTSTART:20260308T070000
END:DAYLIGHT
BEGIN:STANDARD
TZOFFSETFROM:-0400
TZOFFSETTO:-0500
TZNAME:EST
DTSTART:20261101T060000
END:STANDARD
END:VTIMEZONE
BEGIN:VEVENT
DTSTART;TZID=America/New_York:20251103T170000
DTEND;TZID=America/New_York:20251103T190000
DTSTAMP:20260423T144057
CREATED:20251010T205616Z
LAST-MODIFIED:20251010T205616Z
UID:48933-1762189200-1762196400@livableraleigh.com
SUMMARY:Southern Corridor BRT Open House
DESCRIPTION:Our team is excited to share where the stations will be located and how the BRT lanes will operate. Join us at an open house to see project updates\, learn about what’s coming next\, and ask questions about the new service. \n\n\n\nLearn more about Bus Rapid Transit
URL:https://livableraleigh.com/event/southern-corridor-brt-open-house/
LOCATION:City of Raleigh Museum\, 220 Fayetteville St\, Raleigh\, NC\, 27601
CATEGORIES:Community Engagement
END:VEVENT
BEGIN:VEVENT
DTSTART;TZID=America/New_York:20251104T100000
DTEND;TZID=America/New_York:20251104T113000
DTSTAMP:20260423T144057
CREATED:20250929T140629Z
LAST-MODIFIED:20250929T140629Z
UID:48635-1762250400-1762255800@livableraleigh.com
SUMMARY:Outreach at North Regional Library
DESCRIPTION:Nov. 4\n10 a.m. to 11:30 a.m.\n7009 Harps Mill Road\n\nWant to learn more about City services without the hassle of traveling downtown? Now you can! Raleigh’s Community Engagement Team is visiting neighborhoods across the city\, bringing resources directly to residents. Residents will have the opportunity to: \n\nLearn about projects impacting your community;\nSign up for activities and classes\, including our FREE English Language programs;\nGet assistance navigating our website and services; and\,\nMuch more!\n\nView Community Engagement event calendar
URL:https://livableraleigh.com/event/outreach-at-north-regional-library-7/
LOCATION:North Regional Library\, 7009 Harps Mill Road\, Raleigh\, NC\, 27615
CATEGORIES:Community Engagement
END:VEVENT
BEGIN:VEVENT
DTSTART;TZID=America/New_York:20251104T160000
DTEND;TZID=America/New_York:20251104T170000
DTSTAMP:20260423T144057
CREATED:20251010T205759Z
LAST-MODIFIED:20251010T205759Z
UID:48935-1762272000-1762275600@livableraleigh.com
SUMMARY:Doing Business with the City of Raleigh
DESCRIPTION:Learn how to do business with the City of Raleigh! This virtual event will provide valuable insights into the city’s contracting processes\, procurement requirements\, and opportunities available for business owners. Attendees will have the chance to ask questions to the Procurement Office. \nDate: Tuesday\, Nov. 11\nTime: 4 – 5 p.m.\nLocation: Virtual \nFor more information\, visit Business Engagement and Opportunities Program.
URL:https://livableraleigh.com/event/doing-business-with-the-city-of-raleigh/
LOCATION:Walnut Creek Wetland Center\, 950 Peterson St\, Raleigh\, NC\, 27610
CATEGORIES:Community and Workshops,Community Engagement
END:VEVENT
BEGIN:VEVENT
DTSTART;TZID=America/New_York:20251107T113000
DTEND;TZID=America/New_York:20251107T133000
DTSTAMP:20260423T144057
CREATED:20250929T142531Z
LAST-MODIFIED:20250929T142531Z
UID:48663-1762515000-1762522200@livableraleigh.com
SUMMARY:Community Cares Collaborative Meeting
DESCRIPTION:The Community Cares Collaborative meets: \n\nEvery other month on Friday\, 11:30 a.m. – 1:30 p.m.\nWhite Memorial Presbyterian Church (lunch provided)\nGuest speakers\, roundtable discussions\, capacity-building activities\nFree to participate\n\nMembers are encouraged to share updates\, engage in group learning\, and explore ways to collaborate. Regular communication helps keep all partners informed and connected. 
URL:https://livableraleigh.com/event/community-cares-collaborative-meeting-2/
LOCATION:White Memorial Presbyterian Church\, 1704 Oberlin Road\, Raleigh
CATEGORIES:Community and Workshops,Community Engagement
END:VEVENT
BEGIN:VEVENT
DTSTART;TZID=America/New_York:20251113T120000
DTEND;TZID=America/New_York:20251113T140000
DTSTAMP:20260423T144057
CREATED:20251106T202202Z
LAST-MODIFIED:20251106T202202Z
UID:49267-1763035200-1763042400@livableraleigh.com
SUMMARY:Civic Assembly Information Session - Virtual
DESCRIPTION:Come learn about the Civic Assembly\, a unique opportunity for Raleigh residents to come together\, discuss city issues\, and offer ideas that will influence the Next Comprehensive Plan. The information session will help you: \n\nUnderstand how the selection process works.\n\n\n\n\nLearn what to expect if you’re invited.\n\n\n\n\nGet details about the $1\,000 stipend.\n\n\n\n\nAsk questions and hear from city staff.
URL:https://livableraleigh.com/event/civic-assembly-information-session-virtual/
LOCATION:Virtual Meeting
CATEGORIES:Community Engagement
END:VEVENT
BEGIN:VEVENT
DTSTART;TZID=America/New_York:20251117T170000
DTEND;TZID=America/New_York:20251117T190000
DTSTAMP:20260423T144057
CREATED:20251010T210755Z
LAST-MODIFIED:20251010T210755Z
UID:48942-1763398800-1763406000@livableraleigh.com
SUMMARY:Southern Corridor BRT Open House
DESCRIPTION:Our team is excited to share where the stations will be located and how the BRT lanes will operate. Join us at an open house to see project updates\, learn about what’s coming next\, and ask questions about the new service. \n\n\n\nLearn more about Bus Rapid Transit
URL:https://livableraleigh.com/event/southern-corridor-brt-open-house-2/
LOCATION:Peach Road Cultural Center\, 911 Ileagnes Road\, Raleigh\, 27603
CATEGORIES:Community Engagement
END:VEVENT
BEGIN:VEVENT
DTSTART;TZID=America/New_York:20251117T180000
DTEND;TZID=America/New_York:20251117T200000
DTSTAMP:20260423T144057
CREATED:20251106T202816Z
LAST-MODIFIED:20251106T202816Z
UID:49273-1763402400-1763409600@livableraleigh.com
SUMMARY:Civic Assembly Information Session - Virtual
DESCRIPTION:Come learn about the Civic Assembly\, a unique opportunity for Raleigh residents to come together\, discuss city issues\, and offer ideas that will influence the Next Comprehensive Plan. The information session will help you: \n\nUnderstand how the selection process works.\n\n\n\n\nLearn what to expect if you’re invited.\n\n\n\n\nGet details about the $1\,000 stipend.\n\n\n\n\nAsk questions and hear from city staff.
URL:https://livableraleigh.com/event/civic-assembly-information-session-virtual-2/
LOCATION:Virtual Meeting
CATEGORIES:Community Engagement
END:VEVENT
BEGIN:VEVENT
DTSTART;TZID=America/New_York:20251119T083000
DTEND;TZID=America/New_York:20251119T120000
DTSTAMP:20260423T144057
CREATED:20250929T211154Z
LAST-MODIFIED:20250929T211154Z
UID:48708-1763541000-1763553600@livableraleigh.com
SUMMARY:2025 GIS Day
DESCRIPTION:Join the City of Raleigh’s Information Technology Department for an exciting morning of exploration\, innovation and discovery at GIS Day 2025. \nWhere: City of Raleigh Museum \nWhen: November 19 from 8:30 a.m.-Noon \nThis is perfect for anyone curious about the powerful impact of GIS on our community. \n\n\n \n2025 GIS Day Celebration\n\nWhat’s GIS\, and Why Does It Matter?\nGeographic Information Systems (GIS) help us better understand the world around us. This tool helps us understand and visualize information based on location. It is like a smart map that can do more than just show you where things are. It can also tell you what’s happening there\, how things are connected\, and help people make better decisions. \n\n\nDiscover how state and local governments use GIS to tackle everyday challenges and explore cutting-edge GIS technologies. \n\n\nWhat to Expect: \n\n\n\nHands-on learning stations\n\n\n\n\nLive technology demos\n\n\n\n\nCool mapping tools in action\n\n\n\n\nA chance to chat with GIS professionals
URL:https://livableraleigh.com/event/2025-gis-day/
LOCATION:City of Raleigh Museum\, 220 Fayetteville St\, Raleigh\, NC\, 27601
CATEGORIES:Community Engagement
END:VEVENT
BEGIN:VEVENT
DTSTART;TZID=America/New_York:20251119T100000
DTEND;TZID=America/New_York:20251119T113000
DTSTAMP:20260423T144057
CREATED:20250929T211311Z
LAST-MODIFIED:20250929T211311Z
UID:48710-1763546400-1763551800@livableraleigh.com
SUMMARY:Outreach at Green Road Community Library
DESCRIPTION:Nov. 19\n10 a.m. to 11:30 a.m.\n4101 Green Road\n\nWant to learn more about City services without the hassle of traveling downtown? Now you can! Raleigh’s Community Engagement Team is visiting neighborhoods across the city\, bringing resources directly to residents. Residents will have the opportunity to: \n\nLearn about projects impacting your community;\nSign up for activities and classes\, including our FREE English Language programs;\nGet assistance navigating our website and services; and\,\nMuch more!\n\nView Community Engagement event calendar
URL:https://livableraleigh.com/event/outreach-at-green-road-community-library-7/
LOCATION:Green Road Community Library\, 4101 Green Road\, Raleigh\, NC\, 27604
CATEGORIES:Community Engagement
END:VEVENT
BEGIN:VEVENT
DTSTART;TZID=America/New_York:20251122T090000
DTEND;TZID=America/New_York:20251122T120000
DTSTAMP:20260423T144057
CREATED:20251114T194719Z
LAST-MODIFIED:20251114T194719Z
UID:49389-1763802000-1763812800@livableraleigh.com
SUMMARY:Coaches for the CURE
DESCRIPTION:Raleigh’s Community Engagement Team will be hosting a table at Coaches for the CURE\, organized by Empowering Young Excellence. This free event is to raise awareness for health initiatives supporting the community. This includes engaging student-athletes\, families\, and the broader Southeast Raleigh Community through sports and education. Stop by to stay hello! \nDate: Nov. 22\, 2025\nTime: 9 a.m. to noon\nLocation: Southeast Raleigh Magnet High School\, 2600 Rock Quarry Road\, Raleigh\, NC 27610
URL:https://livableraleigh.com/event/coaches-for-the-cure/
LOCATION:Southeast Raleigh High School\, 2600 Rock Quarry Road\, Raleigh\, NC\, 27610
CATEGORIES:Community Engagement
END:VEVENT
END:VCALENDAR