BEGIN:VCALENDAR
VERSION:2.0
PRODID:-//Livable Raleigh - ECPv6.15.20//NONSGML v1.0//EN
CALSCALE:GREGORIAN
METHOD:PUBLISH
X-WR-CALNAME:Livable Raleigh
X-ORIGINAL-URL:https://livableraleigh.com
X-WR-CALDESC:Events for Livable Raleigh
REFRESH-INTERVAL;VALUE=DURATION:PT1H
X-Robots-Tag:noindex
X-PUBLISHED-TTL:PT1H
BEGIN:VTIMEZONE
TZID:America/New_York
BEGIN:DAYLIGHT
TZOFFSETFROM:-0500
TZOFFSETTO:-0400
TZNAME:EDT
DTSTART:20240310T070000
END:DAYLIGHT
BEGIN:STANDARD
TZOFFSETFROM:-0400
TZOFFSETTO:-0500
TZNAME:EST
DTSTART:20241103T060000
END:STANDARD
BEGIN:DAYLIGHT
TZOFFSETFROM:-0500
TZOFFSETTO:-0400
TZNAME:EDT
DTSTART:20250309T070000
END:DAYLIGHT
BEGIN:STANDARD
TZOFFSETFROM:-0400
TZOFFSETTO:-0500
TZNAME:EST
DTSTART:20251102T060000
END:STANDARD
BEGIN:DAYLIGHT
TZOFFSETFROM:-0500
TZOFFSETTO:-0400
TZNAME:EDT
DTSTART:20260308T070000
END:DAYLIGHT
BEGIN:STANDARD
TZOFFSETFROM:-0400
TZOFFSETTO:-0500
TZNAME:EST
DTSTART:20261101T060000
END:STANDARD
END:VTIMEZONE
BEGIN:VEVENT
DTSTART;TZID=America/New_York:20250903T100000
DTEND;TZID=America/New_York:20250903T113000
DTSTAMP:20260423T184146
CREATED:20250726T160808Z
LAST-MODIFIED:20250726T160808Z
UID:46919-1756893600-1756899000@livableraleigh.com
SUMMARY:Outreach at North Regional Library
DESCRIPTION:September 3\n10 a.m. to 11:30 a.m.\n7009 Harps Mill Road\n\nWant to learn more about City services without the hassle of traveling downtown? Now you can! Raleigh’s Community Engagement Team is visiting neighborhoods across the city\, bringing resources directly to residents. Residents will have the opportunity to: \n\nLearn about projects impacting your community;\nSign up for activities and classes\, including our FREE English Language programs;\nGet assistance navigating our website and services; and\,\nMuch more!\n\nView Community Engagement event calendar
URL:https://livableraleigh.com/event/outreach-at-north-regional-library-5/
LOCATION:North Regional Library\, 7009 Harps Mill Road\, Raleigh\, NC\, 27615
CATEGORIES:Community Engagement
END:VEVENT
BEGIN:VEVENT
DTSTART;TZID=America/New_York:20250909T140000
DTEND;TZID=America/New_York:20250909T153000
DTSTAMP:20260423T184146
CREATED:20250726T162742Z
LAST-MODIFIED:20250726T162742Z
UID:46941-1757426400-1757431800@livableraleigh.com
SUMMARY:Outreach at Duraleigh Community Library
DESCRIPTION:Sept. 9\n2 p.m. to 3:30 p.m.\n5800 Duraleigh Road\n\nWant to learn more about City services without the hassle of traveling downtown? Now you can! Raleigh’s Community Engagement Team is visiting neighborhoods across the city\, bringing resources directly to residents. Residents will have the opportunity to: \n\nLearn about projects impacting your community;\nSign up for activities and classes\, including our FREE English Language programs;\nGet assistance navigating our website and services; and\,\nMuch more!\n\nView Community Engagement event calendar
URL:https://livableraleigh.com/event/outreach-at-duraleigh-community-library-5/
LOCATION:Duraleigh Road Community Library\, 5800 Duraleigh Road
CATEGORIES:Community Engagement
END:VEVENT
BEGIN:VEVENT
DTSTART;TZID=America/New_York:20250913T090000
DTEND;TZID=America/New_York:20250913T143000
DTSTAMP:20260423T184146
CREATED:20250726T164630Z
LAST-MODIFIED:20250726T164630Z
UID:46962-1757754000-1757773800@livableraleigh.com
SUMMARY:Engage Raleigh: Community and Neighborhood Expo
DESCRIPTION:The Engage Raleigh Community and Neighborhood Expo is a FREE event that aims to connect residents\, neighborhoods\, community groups\, and local government. \nJoin us to learn why community engagement matters\, and how you can make a difference. Explore exciting ways to participate in local decision-making in your community.  \nDate: Saturday\, Sept. 13 \nTime: 9 a.m. – 2:30 p.m. \nLocation: McKimmon Center \n1101 Gorman Street\, Raleigh\, NC 27606 \nRegister online beginning Aug. 4.
URL:https://livableraleigh.com/event/engage-raleigh-community-and-neighborhood-expo-2/
LOCATION:McKimmon Center\, NCSU McKimmon Center 1101 Gorman Street\, Raleigh\, NC\, 27606\, United States
CATEGORIES:Community and Workshops,Community Engagement
END:VEVENT
BEGIN:VEVENT
DTSTART;TZID=America/New_York:20250913T100000
DTEND;TZID=America/New_York:20250913T120000
DTSTAMP:20260423T184146
CREATED:20250815T180703Z
LAST-MODIFIED:20250815T180703Z
UID:47243-1757757600-1757764800@livableraleigh.com
SUMMARY:Art On The Greenway Ride Series - Ride #1
DESCRIPTION:Join Oaks and Spokes and Raleigh Arts for three fun and social group rides to help shape the future of public art on Raleigh’s greenway system. These rides are part of an ongoing effort to identify where and what kinds of art could be added to make our greenways more vibrant\, welcoming\, and reflective of our community. \nAlong the way\, we will visit or discuss several potential locations listed in the City of Raleigh Greenway Master Plan as priority sites for public art. These include sections of the Reedy Creek\, Crabtree Creek\, Little Rock\, and Walnut Creek Trails. At each location\, you can share your ideas about what types of public art you would like to see\, such as tunnel murals\, sculptures\, wayfinding features\, decorative fencing\, infrastructure murals\, or pathway art. \nYou do not have to pre-register to participate. Just arrive at the starting location by the posted start time for each ride. \nThe pilot list of locations includes areas like the North Carolina Museum of Art Blue Loop to Blue Ridge Road\, Industrial Drive to Atlantic Avenue\, and the Little Rock Trail between Davie and Cabarrus Streets\, among others. These sites were chosen for their visibility\, community connections\, and potential to create unique experiences along the trail. \nWhether you ride the greenway daily or visit it occasionally\, this is a chance to explore it in a new way\, imagine how art could enhance the space\, and contribute to decisions that will help shape the greenway’s future. \nWater and snacks will be provided\, but participants should come prepared with their own water\, sunscreen\, and clothing suited to the weather. Please bring a safe and working bike\, scooter\, Onewheel\, or other personal electric vehicle if you plan to ride. \n\n \nRide Information\nSaturday\, September 13th at 10 am \n5 miles – Kiwanis Neighborhood Park to Crabtree Park Wetland and back. \nView route information \nOur first ride will be a short\, family-friendly outing starting at Kiwanis Neighborhood Park. From there\, we will ride together east toward the wetlands along Raleigh Boulevard\, making a couple of stops along the way to imagine where and how public art could be added to this section of the greenway. Families with children are encouraged to join\, and the pace will be easy and social. \n\n\n\n\n\n\nShare
URL:https://livableraleigh.com/event/art-on-the-greenway-ride-series-ride-1/
LOCATION:Kiwanis Park\, 2525 Noble Road\, 27608
CATEGORIES:Community Engagement,Parks & Rec
END:VEVENT
BEGIN:VEVENT
DTSTART;TZID=America/New_York:20250913T100000
DTEND;TZID=America/New_York:20250913T150000
DTSTAMP:20260423T184146
CREATED:20250815T180428Z
LAST-MODIFIED:20250815T180428Z
UID:47240-1757757600-1757775600@livableraleigh.com
SUMMARY:Community Resource Fair / Back to School Giveaway
DESCRIPTION:Sept. 13\n10 a.m. to 3 p.m.\n1500 Garner Rd\n\nWant to learn more about City services without the hassle of traveling downtown? Now you can! Raleigh’s Community Engagement Team is visiting neighborhoods across the city\, bringing resources directly to residents. Residents will have the opportunity to: \n\nLearn about projects impacting your community;\nSign up for activities and classes\, including our FREE English Language programs;\nGet assistance navigating our website and services; and\,\nMuch more!\n\nView Community Engagement event calendar
URL:https://livableraleigh.com/event/community-resource-fair-back-to-school-giveaway/
LOCATION:Mt. Moriah Community Church\, 1500 Garner Rd\, Raleigh\, NC\, 27610
CATEGORIES:Community Engagement
END:VEVENT
BEGIN:VEVENT
DTSTART;TZID=America/New_York:20250917T100000
DTEND;TZID=America/New_York:20250917T113000
DTSTAMP:20260423T184146
CREATED:20250726T170316Z
LAST-MODIFIED:20250815T181032Z
UID:46970-1758103200-1758108600@livableraleigh.com
SUMMARY:Outreach at Green Road Community Library - CANCELLED
DESCRIPTION:Sept. 17\n10 a.m. to 11:30 a.m.\n4101 Green Road\n\nWant to learn more about City services without the hassle of traveling downtown? Now you can! Raleigh’s Community Engagement Team is visiting neighborhoods across the city\, bringing resources directly to residents. Residents will have the opportunity to: \n\nLearn about projects impacting your community;\nSign up for activities and classes\, including our FREE English Language programs;\nGet assistance navigating our website and services; and\,\nMuch more!\n\nView Community Engagement event calendar
URL:https://livableraleigh.com/event/outreach-at-green-road-community-library-5/
LOCATION:Green Road Community Library\, 4101 Green Road\, Raleigh\, NC\, 27604
CATEGORIES:Community Engagement
END:VEVENT
BEGIN:VEVENT
DTSTART;TZID=America/New_York:20250917T100000
DTEND;TZID=America/New_York:20250917T140000
DTSTAMP:20260423T184146
CREATED:20250815T180857Z
LAST-MODIFIED:20250815T180857Z
UID:47245-1758103200-1758117600@livableraleigh.com
SUMMARY:RHA/OCAC Community Resource Fair
DESCRIPTION:Sept. 17\n10 a.m. to 2 p.m.\n971 Harp St.\n\nWant to learn more about City services without the hassle of traveling downtown? Now you can! Raleigh’s Community Engagement Team is visiting neighborhoods across the city\, bringing resources directly to residents. Residents will have the opportunity to: \n\nLearn about projects impacting your community;\nSign up for activities and classes\, including our FREE English Language programs;\nGet assistance navigating our website and services; and\,\nMuch more!\n\nView Community Engagement event calendar
URL:https://livableraleigh.com/event/rha-ocac-community-resource-fair/
LOCATION:971 Harp St\, 971 Harp St\, Raleigh\, NC\, 27604
CATEGORIES:Community Engagement
END:VEVENT
BEGIN:VEVENT
DTSTART;TZID=America/New_York:20250919T113000
DTEND;TZID=America/New_York:20250919T133000
DTSTAMP:20260423T184146
CREATED:20250815T183719Z
LAST-MODIFIED:20250815T183719Z
UID:47255-1758281400-1758288600@livableraleigh.com
SUMMARY:Community Cares Collaborative Meeting
DESCRIPTION:The Community Cares Collaborative meets: \n\nEvery other month on Friday\, 11:30 a.m. – 1:30 p.m.\nWhite Memorial Presbyterian Church (lunch provided)\nGuest speakers\, roundtable discussions\, capacity-building activities\nFree to participate\n\nMembers are encouraged to share updates\, engage in group learning\, and explore ways to collaborate. Regular communication helps keep all partners informed and connected. 
URL:https://livableraleigh.com/event/community-cares-collaborative-meeting/
LOCATION:White Memorial Presbyterian Church\, 1704 Oberlin Road\, Raleigh
CATEGORIES:Community and Workshops,Community Engagement
END:VEVENT
BEGIN:VEVENT
DTSTART;TZID=America/New_York:20250920T173000
DTEND;TZID=America/New_York:20250920T213000
DTSTAMP:20260423T184146
CREATED:20250815T185614Z
LAST-MODIFIED:20250830T191437Z
UID:47261-1758389400-1758403800@livableraleigh.com
SUMMARY:Office of Special Events Pop-Up Engagement Event - CANCELLED
DESCRIPTION:The Department of Community Engagement and the Office of Special Events will be at the Raleigh Twilight Market to share information and get feedback on potential changes to the Noise Ordinance. \nIf you’re not able to attend in person\, fill out an online survey. \nPop-up Event at Raleigh Twilight Market\nSaturday\, Sept. 20\n5:30-9:30 p.m.\nSmoky Hollow\n421 North Harrington Street\, Raleigh\, NC\, 27603
URL:https://livableraleigh.com/event/office-of-special-events-pop-up-engagement-event/
LOCATION:Smoky Hollow\, 421 North Harrington Street\, Raleigh\, NC\, 27603
CATEGORIES:Community Engagement
END:VEVENT
BEGIN:VEVENT
DTSTART;TZID=America/New_York:20250925T090000
DTEND;TZID=America/New_York:20250925T100000
DTSTAMP:20260423T184146
CREATED:20250830T192622Z
LAST-MODIFIED:20250830T192622Z
UID:47647-1758790800-1758794400@livableraleigh.com
SUMMARY:Coffee and Conversations
DESCRIPTION:Join us for September’s Coffee and Conversations! \nWe’re excited to highlight National Recovery Month. Our goal is to create a safe\, laid-back environment where people can learn and ask questions about a topic. \nWe can’t wait to see you there! Register now \n\n \nEvent Details\nSeptember 25\, 2025\n9 a.m. – 10 a.m.\nA Place at the Table\n300 W Hargett St Unit 50\, Raleigh\, NC
URL:https://livableraleigh.com/event/coffee-and-conversations-2/
LOCATION:A Place At the Table\, 300 West Hargett Street\, Raleigh
CATEGORIES:Community and Workshops,Community Engagement
END:VEVENT
BEGIN:VEVENT
DTSTART;TZID=America/New_York:20250927T100000
DTEND;TZID=America/New_York:20250927T120000
DTSTAMP:20260423T184146
CREATED:20250815T185950Z
LAST-MODIFIED:20250815T185950Z
UID:47266-1758967200-1758974400@livableraleigh.com
SUMMARY:Art On The Greenway Ride Series - Ride #2
DESCRIPTION:Join Oaks and Spokes and Raleigh Arts for three fun and social group rides to help shape the future of public art on Raleigh’s greenway system. These rides are part of an ongoing effort to identify where and what kinds of art could be added to make our greenways more vibrant\, welcoming\, and reflective of our community. \nAlong the way\, we will visit or discuss several potential locations listed in the City of Raleigh Greenway Master Plan as priority sites for public art. These include sections of the Reedy Creek\, Crabtree Creek\, Little Rock\, and Walnut Creek Trails. At each location\, you can share your ideas about what types of public art you would like to see\, such as tunnel murals\, sculptures\, wayfinding features\, decorative fencing\, infrastructure murals\, or pathway art. \nYou do not have to pre-register to participate. Just arrive at the starting location by the posted start time for each ride. \nThe pilot list of locations includes areas like the North Carolina Museum of Art Blue Loop to Blue Ridge Road\, Industrial Drive to Atlantic Avenue\, and the Little Rock Trail between Davie and Cabarrus Streets\, among others. These sites were chosen for their visibility\, community connections\, and potential to create unique experiences along the trail. \nWhether you ride the greenway daily or visit it occasionally\, this is a chance to explore it in a new way\, imagine how art could enhance the space\, and contribute to decisions that will help shape the greenway’s future. \nWater and snacks will be provided\, but participants should come prepared with their own water\, sunscreen\, and clothing suited to the weather. Please bring a safe and working bike\, scooter\, Onewheel\, or other personal electric vehicle if you plan to ride. \n\n \nRide Information\nSaturday\, September 27th at 10am\n16 miles – North Carolina Museum of Art to Shelley Lake and back. \nView route information \nOur second ride will be a little longer starting at the North Carolina Museum of Art. From there\, we will ride together north toward Shelley Lake\, making a couple of stops along the way to imagine where and how public art could be added to this section of the greenway. The pace will be fun and social. Expect to maintain an average of 10 mph.
URL:https://livableraleigh.com/event/art-on-the-greenway-ride-series-ride-2/
LOCATION:NC Museum of Art\, 2110 Blue Ridge Rd\, Raleigh\, NC\, 27617
CATEGORIES:Community Engagement,Parks & Rec
END:VEVENT
END:VCALENDAR